View In:
ArcGIS JavaScript
ArcGIS Enterprise Map Viewer
ArcGIS Earth
Service Description: This image service contains high-resolution land cover data for the states of Nebraska, South Dakota, and North Dakota. These data are a digital representation of land cover derived from 1-meter aerial imagery from the USDA National Agriculture Imagery Program (NAIP.) The year of NAIP used for each state was 2014.
Data are intended for use in rural areas and therefore do not include land cover in cities and towns. Land cover classes (tree cover, other land cover, or water) were mapped using an object-based image analysis approach and supervised classification.
These data are designed for conducting geospatial analyses and for producing cartographic products. In particular, these data are intended to depict the location of tree cover in the county. The mapping procedures were developed specifically for agricultural landscapes that are dominated by annual crops, rangeland, and pasture and where tree cover is often found in narrow configurations, such as windbreaks and riparian corridors. Because much of the tree cover in agricultural areas of the United States occurs in windbreaks and narrow riparian corridors, many geospatial datasets derived from coarser-resolution satellite data (such as Landsat), do not capture these landscape features. This dataset is intended to address this particular data gap.
These data can be downloaded by county at the Forest Service Research Data Archive.
Nebraska: https://www.fs.usda.gov/rds/archive/catalog/RDS-2019-0038
South Dakota: https://www.fs.usda.gov/rds/archive/catalog/RDS-2022-0068
North Dakota: https://www.fs.usda.gov/rds/archive/catalog/RDS-2022-0067
A Kansas dataset was also developed using the same methods and is located at:
Kansas data download: https://www.fs.usda.gov/rds/archive/catalog/RDS-2019-0052
Kansas map service: https://data-usfs.hub.arcgis.com/documents/high-resolution-tree-cover-of-kansas-2015-map-service/explore
Name: Vegetation/USFS_EDW_Northern_Plains_High_Resolution_Land_Cover
Description:
Single Fused Map Cache: false
Extent:
XMin: -1.1585976987835772E7
YMin: 4854724.593811235
XMax: -1.0602728624852633E7
YMax: 6278374.786174226
Spatial Reference: 102100
(3857)
LatestVCSWkid(0)
Initial Extent:
XMin: -1.1585976987835772E7
YMin: 4854724.593811235
XMax: -1.0602728624852633E7
YMax: 6278374.786174226
Spatial Reference: 102100
(3857)
LatestVCSWkid(0)
Full Extent:
XMin: -1.1585976987835772E7
YMin: 4854724.593811235
XMax: -1.0602728624852633E7
YMax: 6278374.786174226
Spatial Reference: 102100
(3857)
LatestVCSWkid(0)
Pixel Size X: 0.30480060999999975
Pixel Size Y: 0.30480061
Band Count: 1
Pixel Type: U4
RasterFunction Infos: {"rasterFunctionInfos": [
{
"help": "",
"name": "NorthernPlains_HighRes_LandCover_RFT",
"description": "1 0 158 115\n2 255 255 190\n3 0 114 178\n15 200 200 200"
},
{
"help": "",
"name": "None",
"description": "Make a Raster or Raster Dataset into a Function Raster Dataset."
}
]}
Mensuration Capabilities: Basic
Inspection Capabilities:
Has Histograms: true
Has Colormap: false
Has Multi Dimensions : false
Rendering Rule:
Min Scale: 0
Max Scale: 0
Copyright Text: This project was funded by the USDA Forest Service, Northern Research Station, Forest Inventory and Analysis and the USDA National Agroforestry Center.
Service Data Type: esriImageServiceDataTypeGeneric
Min Values: 1
Max Values: 15
Mean Values: 2.0923611702065927
Standard Deviation Values: 1.2071864618358978
Object ID Field: objectid
Fields:
-
objectid
(
alias: objectid
, type: esriFieldTypeOID
)
-
name
(
length: 200
, alias: name
, type: esriFieldTypeString
)
-
minps
(
alias: minps
, type: esriFieldTypeDouble
)
-
maxps
(
alias: maxps
, type: esriFieldTypeDouble
)
-
lowps
(
alias: lowps
, type: esriFieldTypeDouble
)
-
highps
(
alias: highps
, type: esriFieldTypeDouble
)
-
category
(
alias: category
, type: esriFieldTypeInteger
, Coded Values:
[0: Unknown]
, [1: Primary]
, [2: Overview]
, ...6 more...
)
-
tag
(
length: 100
, alias: tag
, type: esriFieldTypeString
)
-
groupname
(
length: 100
, alias: groupname
, type: esriFieldTypeString
)
-
productname
(
length: 100
, alias: productname
, type: esriFieldTypeString
)
-
centerx
(
alias: centerx
, type: esriFieldTypeDouble
)
-
centery
(
alias: centery
, type: esriFieldTypeDouble
)
-
zorder
(
alias: zorder
, type: esriFieldTypeInteger
)
-
shape
(
alias: shape
, type: esriFieldTypeGeometry
)
-
beginyear
(
alias: beginyear
, type: esriFieldTypeSmallInteger
)
-
endyear
(
alias: endyear
, type: esriFieldTypeSmallInteger
)
-
dataset_name
(
length: 100
, alias: dataset_name
, type: esriFieldTypeString
)
-
public
(
length: 3
, alias: public
, type: esriFieldTypeString
)
-
resolution
(
alias: resolution
, type: esriFieldTypeDouble
)
-
metadata
(
length: 255
, alias: metadata
, type: esriFieldTypeString
)
Default Mosaic Method: Northwest
Allowed Mosaic Methods: NorthWest,Center,LockRaster,ByAttribute,Nadir,Viewpoint,Seamline,None
SortField:
SortValue: N/A
Mosaic Operator: First
Default Compression Quality: 75
Default Resampling Method: Nearest
Max Record Count: 1000
Max Image Height: 100000
Max Image Width: 100000
Max Download Image Count: 20
Max Mosaic Image Count: 100
Allow Raster Function: true
Allow Copy: true
Allow Analysis: true
Allow Compute TiePoints: false
Supports Statistics: true
Supports Advanced Queries: true
Use StandardizedQueries: true
Raster Type Infos:
Name: Raster Dataset
Description: Supports all ArcGIS Raster Datasets
Help:
Has Raster Attribute Table: false
Edit Fields Info: N/A
Ownership Based AccessControl For Rasters: N/A
Child Resources:
Info
Histograms
Statistics
Key Properties
Legend
Raster Function Infos
Supported Operations:
Export Image
Query
Identify
Measure
Compute Histograms
Compute Statistics Histograms
Get Samples
Compute Class Statistics
Query GPS Info
Find Images
Image to Map
Map to Image
Measure from Image
Image to Map Multiray
Query Boundary
Compute Pixel Location
Compute Angles
Validate
Project