View In:
ArcGIS JavaScript
ArcGIS Enterprise Map Viewer
ArcGIS Earth
Service Description: Basal Area (BA). 30 meter pixel resolution. Data represents forest conditions circa 2002.
These data are a product of a multi-year effort by the FHTET (Forest Health Technology Enterprise Team) Remote Sensing Program to develop raster datasets of forest parameters for each of the tree species measured in the Forest Service’s Forest Inventory and Analysis (FIA) program. This dataset was created to support the 2013–2027 National Insect and Disease Risk Map (NIDRM) assessment. The statistical modeling approach used data-mining software and an archive of geospatial information to find the complex relationships between GIS layers and the presence/abundance of tree species as measured in over 300,000 FIA plot locations. Unique statistical models were developed from predictor layers consisting of climate, terrain, soils, and satellite imagery. Modeled basal area (BA) and stand density index (SDI) datasets for individual tree species were further post-processed to 1) match BA and SDI histograms of FIA data, 2) ensure that the sum of individual species BA and SDI on a pixel did not exceed separately modeled total for all species BA and SDI raster datasets, 3) derive additional tree parameters like quadratic mean diameter and trees per acre. With Landsat image collection dates ranging from 1985 to 2005, and a mean collection date for treed areas of 2002, and FIA plot data generally ranging from 1999 to 2005, the vintage of the base parameter datasets varies based on location, but can be roughly considered as 2002
Name: Vegetation/USFS_EDW_FHP_TreeSpeciesMetrics_BasalArea
Description: Basal Area (BA). 30 meter pixel resolution. Data represents forest conditions circa 2002.
These data are a product of a multi-year effort by the FHTET (Forest Health Technology Enterprise Team) Remote Sensing Program to develop raster datasets of forest parameters for each of the tree species measured in the Forest Service’s Forest Inventory and Analysis (FIA) program. This dataset was created to support the 2013–2027 National Insect and Disease Risk Map (NIDRM) assessment. The statistical modeling approach used data-mining software and an archive of geospatial information to find the complex relationships between GIS layers and the presence/abundance of tree species as measured in over 300,000 FIA plot locations. Unique statistical models were developed from predictor layers consisting of climate, terrain, soils, and satellite imagery. Modeled basal area (BA) and stand density index (SDI) datasets for individual tree species were further post-processed to 1) match BA and SDI histograms of FIA data, 2) ensure that the sum of individual species BA and SDI on a pixel did not exceed separately modeled total for all species BA and SDI raster datasets, 3) derive additional tree parameters like quadratic mean diameter and trees per acre. With Landsat image collection dates ranging from 1985 to 2005, and a mean collection date for treed areas of 2002, and FIA plot data generally ranging from 1999 to 2005, the vintage of the base parameter datasets varies based on location, but can be roughly considered as 2002
Single Fused Map Cache: false
Extent:
XMin: -1.90500292543E7
YMin: 2762189.716600001
XMax: -7335119.254299998
YMax: 1.09589697166E7
Spatial Reference: 102100
(3857)
LatestVCSWkid(0)
Initial Extent:
XMin: -1.90500292543E7
YMin: 2762189.716600001
XMax: -7335119.254299998
YMax: 1.09589697166E7
Spatial Reference: 102100
(3857)
LatestVCSWkid(0)
Full Extent:
XMin: -1.90500292543E7
YMin: 2762189.716600001
XMax: -7335119.254299998
YMax: 1.09589697166E7
Spatial Reference: 102100
(3857)
LatestVCSWkid(0)
Pixel Size X: 30.0
Pixel Size Y: 30.0
Band Count: 1
Pixel Type: U16
RasterFunction Infos: {"rasterFunctionInfos": [
{
"help": "",
"name": "None",
"description": "Make a Raster or Raster Dataset into a Function Raster Dataset."
},
{
"help": "",
"name": "ailanthus",
"description": "A raster function template."
},
{
"help": "",
"name": "Alaska_yellow_cedar",
"description": "A raster function template."
},
{
"help": "",
"name": "alder_spp",
"description": "A raster function template."
},
{
"help": "",
"name": "alligator_juniper",
"description": "A raster function template."
},
{
"help": "",
"name": "American_basswood",
"description": "A raster function template."
},
{
"help": "",
"name": "American_beech",
"description": "A raster function template."
},
{
"help": "",
"name": "American_chestnut",
"description": "A raster function template."
},
{
"help": "",
"name": "American_elm",
"description": "A raster function template."
},
{
"help": "",
"name": "American_holly",
"description": "A raster function template."
},
{
"help": "",
"name": "American_hornbeam",
"description": "A raster function template."
},
{
"help": "",
"name": "American_mangrove",
"description": "A raster function template."
},
{
"help": "",
"name": "American_mountain_ash",
"description": "A raster function template."
},
{
"help": "",
"name": "American_plum",
"description": "A raster function template."
},
{
"help": "",
"name": "American_sycamore",
"description": "A raster function template."
},
{
"help": "",
"name": "Anacua_knockaway",
"description": "A raster function template."
},
{
"help": "",
"name": "Apache_pine",
"description": "A raster function template."
},
{
"help": "",
"name": "apple_spp",
"description": "A raster function template."
},
{
"help": "",
"name": "Arizona_alder",
"description": "A raster function template."
},
{
"help": "",
"name": "Arizona_cypress",
"description": "A raster function template."
},
{
"help": "",
"name": "Arizona_pine",
"description": "A raster function template."
},
{
"help": "",
"name": "Arizona_pinyon_pine",
"description": "A raster function template."
},
{
"help": "",
"name": "Arizona_sycamore",
"description": "A raster function template."
},
{
"help": "",
"name": "Arizona_walnut",
"description": "A raster function template."
},
{
"help": "",
"name": "Arizona_white_oak",
"description": "A raster function template."
},
{
"help": "",
"name": "ash_spp",
"description": "A raster function template."
},
{
"help": "",
"name": "Ashe_juniper",
"description": "A raster function template."
},
{
"help": "",
"name": "Atlantic_white_cedar",
"description": "A raster function template."
},
{
"help": "",
"name": "Austrian_pine",
"description": "A raster function template."
},
{
"help": "",
"name": "Baker_cypress",
"description": "A raster function template."
},
{
"help": "",
"name": "baldcypress",
"description": "A raster function template."
},
{
"help": "",
"name": "Balsam_fir",
"description": "A raster function template."
},
{
"help": "",
"name": "balsam_poplar",
"description": "A raster function template."
},
{
"help": "",
"name": "basswood_spp",
"description": "A raster function template."
},
{
"help": "",
"name": "belah",
"description": "A raster function template."
},
{
"help": "",
"name": "bigcone_Douglas_fir",
"description": "A raster function template."
},
{
"help": "",
"name": "bigleaf_magnolia",
"description": "A raster function template."
},
{
"help": "",
"name": "bigleaf_maple",
"description": "A raster function template."
},
{
"help": "",
"name": "bigtooth_aspen",
"description": "A raster function template."
},
{
"help": "",
"name": "bigtooth_maple",
"description": "A raster function template."
},
{
"help": "",
"name": "birch_spp",
"description": "A raster function template."
},
{
"help": "",
"name": "bishop_pine",
"description": "A raster function template."
},
{
"help": "",
"name": "bitter_cherry",
"description": "A raster function template."
},
{
"help": "",
"name": "bitternut_hickory",
"description": "A raster function template."
},
{
"help": "",
"name": "black_ash",
"description": "A raster function template."
},
{
"help": "",
"name": "black_cherry",
"description": "A raster function template."
},
{
"help": "",
"name": "black_cottonwood",
"description": "A raster function template."
},
{
"help": "",
"name": "black_hickory",
"description": "A raster function template."
},
{
"help": "",
"name": "black_locust",
"description": "A raster function template."
},
{
"help": "",
"name": "black_mangrove",
"description": "A raster function template."
},
{
"help": "",
"name": "black_maple",
"description": "A raster function template."
},
{
"help": "",
"name": "black_oak",
"description": "A raster function template."
},
{
"help": "",
"name": "black_spruce",
"description": "A raster function template."
},
{
"help": "",
"name": "black_walnut",
"description": "A raster function template."
},
{
"help": "",
"name": "black_willow",
"description": "A raster function template."
},
{
"help": "",
"name": "blackgum",
"description": "A raster function template."
},
{
"help": "",
"name": "blackjack_oak",
"description": "A raster function template."
},
{
"help": "",
"name": "blue_ash",
"description": "A raster function template."
},
{
"help": "",
"name": "blue_oak",
"description": "A raster function template."
},
{
"help": "",
"name": "blue_spruce",
"description": "A raster function template."
},
{
"help": "",
"name": "bluejack_oak",
"description": "A raster function template."
},
{
"help": "",
"name": "bluewood",
"description": "A raster function template."
},
{
"help": "",
"name": "border_pinyon",
"description": "A raster function template."
},
{
"help": "",
"name": "boxelder",
"description": "A raster function template."
},
{
"help": "",
"name": "Brewer_spruce",
"description": "A raster function template."
},
{
"help": "",
"name": "buckeye_spp",
"description": "A raster function template."
},
{
"help": "",
"name": "Buckley_oak",
"description": "A raster function template."
},
{
"help": "",
"name": "bur_oak",
"description": "A raster function template."
},
{
"help": "",
"name": "butternut",
"description": "A raster function template."
},
{
"help": "",
"name": "buttonwood_mangrove",
"description": "A raster function template."
},
{
"help": "",
"name": "cabbage_palmetto",
"description": "A raster function template."
},
{
"help": "",
"name": "California_black_oak",
"description": "A raster function template."
},
{
"help": "",
"name": "California_buckeye",
"description": "A raster function template."
},
{
"help": "",
"name": "California_juniper",
"description": "A raster function template."
},
{
"help": "",
"name": "California_laurel",
"description": "A raster function template."
},
{
"help": "",
"name": "California_live_oak",
"description": "A raster function template."
},
{
"help": "",
"name": "California_red_fir",
"description": "A raster function template."
},
{
"help": "",
"name": "California_sycamore",
"description": "A raster function template."
},
{
"help": "",
"name": "California_torreya",
"description": "A raster function template."
},
{
"help": "",
"name": "California_white_oak",
"description": "A raster function template."
},
{
"help": "",
"name": "canyon_live_oak",
"description": "A raster function template."
},
{
"help": "",
"name": "Carolina_ash",
"description": "A raster function template."
},
{
"help": "",
"name": "Carolina_basswood",
"description": "A raster function template."
},
{
"help": "",
"name": "Carolina_hemlock",
"description": "A raster function template."
},
{
"help": "",
"name": "catalpa_spp",
"description": "A raster function template."
},
{
"help": "",
"name": "cedar_elm",
"description": "A raster function template."
},
{
"help": "",
"name": "chalk_maple",
"description": "A raster function template."
},
{
"help": "",
"name": "cherry_and_plum_spp",
"description": "A raster function template."
},
{
"help": "",
"name": "cherrybark_oak",
"description": "A raster function template."
},
{
"help": "",
"name": "chestnut_oak",
"description": "A raster function template."
},
{
"help": "",
"name": "Chihuahua_pine",
"description": "A raster function template."
},
{
"help": "",
"name": "chinaberry",
"description": "A raster function template."
},
{
"help": "",
"name": "Chinese_tallowtree",
"description": "A raster function template."
},
{
"help": "",
"name": "chinkapin_oak",
"description": "A raster function template."
},
{
"help": "",
"name": "chittamwood",
"description": "A raster function template."
},
{
"help": "",
"name": "chokecherry",
"description": "A raster function template."
},
{
"help": "",
"name": "citrus_spp",
"description": "A raster function template."
},
{
"help": "",
"name": "coastal_plain_willow",
"description": "A raster function template."
},
{
"help": "",
"name": "cockspur_hawthorn",
"description": "A raster function template."
},
{
"help": "",
"name": "common_persimmon",
"description": "A raster function template."
},
{
"help": "",
"name": "common_pinyon",
"description": "A raster function template."
},
{
"help": "",
"name": "common_serviceberry",
"description": "A raster function template."
},
{
"help": "",
"name": "corkbark_fir",
"description": "A raster function template."
},
{
"help": "",
"name": "cottonwood_and_poplar_spp",
"description": "A raster function template."
},
{
"help": "",
"name": "Coulter_pine",
"description": "A raster function template."
},
{
"help": "",
"name": "cucumbertree",
"description": "A raster function template."
},
{
"help": "",
"name": "curlleaf_mountain_mahogany",
"description": "A raster function template."
},
{
"help": "",
"name": "cypress",
"description": "A raster function template."
},
{
"help": "",
"name": "desert_ironwood",
"description": "A raster function template."
},
{
"help": "",
"name": "Douglas_fir",
"description": "A raster function template."
},
{
"help": "",
"name": "downy_hawthorn",
"description": "A raster function template."
},
{
"help": "",
"name": "Durand_oak",
"description": "A raster function template."
},
{
"help": "",
"name": "dwarf_live_oak",
"description": "A raster function template."
},
{
"help": "",
"name": "dwarf_post_oak",
"description": "A raster function template."
},
{
"help": "",
"name": "eastern_cottonwood",
"description": "A raster function template."
},
{
"help": "",
"name": "eastern_hemlock",
"description": "A raster function template."
},
{
"help": "",
"name": "eastern_hophornbeam",
"description": "A raster function template."
},
{
"help": "",
"name": "eastern_redbud",
"description": "A raster function template."
},
{
"help": "",
"name": "eastern_redcedar",
"description": "A raster function template."
},
{
"help": "",
"name": "eastern_white_pine",
"description": "A raster function template."
},
{
"help": "",
"name": "elm_spp",
"description": "A raster function template."
},
{
"help": "",
"name": "Emory_oak",
"description": "A raster function template."
},
{
"help": "",
"name": "Engelmann_oak",
"description": "A raster function template."
},
{
"help": "",
"name": "Engelmann_spruce",
"description": "A raster function template."
},
{
"help": "",
"name": "European_alder",
"description": "A raster function template."
},
{
"help": "",
"name": "fir_spp",
"description": "A raster function template."
},
{
"help": "",
"name": "Florida_maple",
"description": "A raster function template."
},
{
"help": "",
"name": "Florida_poisonwood",
"description": "A raster function template."
},
{
"help": "",
"name": "Florida_strangler_fig",
"description": "A raster function template."
},
{
"help": "",
"name": "flowering_dogwood",
"description": "A raster function template."
},
{
"help": "",
"name": "foxtail_pine",
"description": "A raster function template."
},
{
"help": "",
"name": "Fraser_fir",
"description": "A raster function template."
},
{
"help": "",
"name": "Fraser_magnolia",
"description": "A raster function template."
},
{
"help": "",
"name": "Fremont_cottonwood",
"description": "A raster function template."
},
{
"help": "",
"name": "Gambel_oak",
"description": "A raster function template."
},
{
"help": "",
"name": "giant_chinkapin",
"description": "A raster function template."
},
{
"help": "",
"name": "giant_sequoia",
"description": "A raster function template."
},
{
"help": "",
"name": "grand_fir",
"description": "A raster function template."
},
{
"help": "",
"name": "gray_birch",
"description": "A raster function template."
},
{
"help": "",
"name": "gray_oak",
"description": "A raster function template."
},
{
"help": "",
"name": "gray_pine",
"description": "A raster function template."
},
{
"help": "",
"name": "Great_Basin_bristlecone_pine",
"description": "A raster function template."
},
{
"help": "",
"name": "green_ash",
"description": "A raster function template."
},
{
"help": "",
"name": "gumbo_limbo",
"description": "A raster function template."
},
{
"help": "",
"name": "hackberry",
"description": "A raster function template."
},
{
"help": "",
"name": "hackberry_spp",
"description": "A raster function template."
},
{
"help": "",
"name": "hawthorn_spp",
"description": "A raster function template."
},
{
"help": "",
"name": "hemlock_spp",
"description": "A raster function template."
},
{
"help": "",
"name": "hickory_spp",
"description": "A raster function template."
},
{
"help": "",
"name": "honeylocust",
"description": "A raster function template."
},
{
"help": "",
"name": "incense_cedar",
"description": "A raster function template."
},
{
"help": "",
"name": "interior_live_oak",
"description": "A raster function template."
},
{
"help": "",
"name": "jack_pine",
"description": "A raster function template."
},
{
"help": "",
"name": "Jeffrey_pine",
"description": "A raster function template."
},
{
"help": "",
"name": "Kentucky_coffeetree",
"description": "A raster function template."
},
{
"help": "",
"name": "knobcone_pine",
"description": "A raster function template."
},
{
"help": "",
"name": "lacey_oak",
"description": "A raster function template."
},
{
"help": "",
"name": "larch_spp",
"description": "A raster function template."
},
{
"help": "",
"name": "laurel_oak",
"description": "A raster function template."
},
{
"help": "",
"name": "limber_pine",
"description": "A raster function template."
},
{
"help": "",
"name": "live_oak",
"description": "A raster function template."
},
{
"help": "",
"name": "loblolly_bay",
"description": "A raster function template."
},
{
"help": "",
"name": "loblolly_pine",
"description": "A raster function template."
},
{
"help": "",
"name": "lodgepole_pine",
"description": "A raster function template."
},
{
"help": "",
"name": "longleaf_pine",
"description": "A raster function template."
},
{
"help": "",
"name": "magnolia_spp",
"description": "A raster function template."
},
{
"help": "",
"name": "maple_spp",
"description": "A raster function template."
},
{
"help": "",
"name": "melaleuca",
"description": "A raster function template."
},
{
"help": "",
"name": "mesquite_spp",
"description": "A raster function template."
},
{
"help": "",
"name": "Mexican_blue_oak",
"description": "A raster function template."
},
{
"help": "",
"name": "Mexican_pinyon_pine",
"description": "A raster function template."
},
{
"help": "",
"name": "mimosa",
"description": "A raster function template."
},
{
"help": "",
"name": "mockernut_hickory",
"description": "A raster function template."
},
{
"help": "",
"name": "Monterey_cypress",
"description": "A raster function template."
},
{
"help": "",
"name": "mountain_ash_spp",
"description": "A raster function template."
},
{
"help": "",
"name": "mountain_hemlock",
"description": "A raster function template."
},
{
"help": "",
"name": "mountain_maple",
"description": "A raster function template."
},
{
"help": "",
"name": "mulberry_spp",
"description": "A raster function template."
},
{
"help": "",
"name": "narrowleaf_cottonwood",
"description": "A raster function template."
},
{
"help": "",
"name": "netleaf_hackberry",
"description": "A raster function template."
},
{
"help": "",
"name": "netleaf_oak",
"description": "A raster function template."
},
{
"help": "",
"name": "New_Mexico_locust",
"description": "A raster function template."
},
{
"help": "",
"name": "noble_fir",
"description": "A raster function template."
},
{
"help": "",
"name": "northern_California_black_walnut",
"description": "A raster function template."
},
{
"help": "",
"name": "northern_catalpa",
"description": "A raster function template."
},
{
"help": "",
"name": "northern_pin_oak",
"description": "A raster function template."
},
{
"help": "",
"name": "northern_red_oak",
"description": "A raster function template."
},
{
"help": "",
"name": "northern_white_cedar",
"description": "A raster function template."
},
{
"help": "",
"name": "Norway_maple",
"description": "A raster function template."
},
{
"help": "",
"name": "Norway_spruce",
"description": "A raster function template."
},
{
"help": "",
"name": "nutmeg_hickory",
"description": "A raster function template."
},
{
"help": "",
"name": "Nuttall_oak",
"description": "A raster function template."
},
{
"help": "",
"name": "oak_deciduous_spp",
"description": "A raster function template."
},
{
"help": "",
"name": "oak_spp",
"description": "A raster function template."
},
{
"help": "",
"name": "Ogeechee_tupelo",
"description": "A raster function template."
},
{
"help": "",
"name": "oneseed_juniper",
"description": "A raster function template."
},
{
"help": "",
"name": "Oregon_ash",
"description": "A raster function template."
},
{
"help": "",
"name": "Oregon_crabapple",
"description": "A raster function template."
},
{
"help": "",
"name": "Oregon_white_oak",
"description": "A raster function template."
},
{
"help": "",
"name": "Osage_orange",
"description": "A raster function template."
},
{
"help": "",
"name": "other_palms",
"description": "A raster function template."
},
{
"help": "",
"name": "other_unknown_live_tree",
"description": "A raster function template."
},
{
"help": "",
"name": "overcup_oak",
"description": "A raster function template."
},
{
"help": "",
"name": "Pacific_dogwood",
"description": "A raster function template."
},
{
"help": "",
"name": "Pacific_madrone",
"description": "A raster function template."
},
{
"help": "",
"name": "Pacific_silver_fir",
"description": "A raster function template."
},
{
"help": "",
"name": "Pacific_yew",
"description": "A raster function template."
},
{
"help": "",
"name": "paper_birch",
"description": "A raster function template."
},
{
"help": "",
"name": "papershell_pinyon_pine",
"description": "A raster function template."
},
{
"help": "",
"name": "paulownia",
"description": "A raster function template."
},
{
"help": "",
"name": "pawpaw",
"description": "A raster function template."
},
{
"help": "",
"name": "peachleaf_willow",
"description": "A raster function template."
},
{
"help": "",
"name": "pecan",
"description": "A raster function template."
},
{
"help": "",
"name": "pignut_hickory",
"description": "A raster function template."
},
{
"help": "",
"name": "pin_cherry",
"description": "A raster function template."
},
{
"help": "",
"name": "pin_oak",
"description": "A raster function template."
},
{
"help": "",
"name": "Pinchot_juniper",
"description": "A raster function template."
},
{
"help": "",
"name": "pine_spp",
"description": "A raster function template."
},
{
"help": "",
"name": "pitch_pine",
"description": "A raster function template."
},
{
"help": "",
"name": "plains_cottonwood",
"description": "A raster function template."
},
{
"help": "",
"name": "pond_apple",
"description": "A raster function template."
},
{
"help": "",
"name": "pond_pine",
"description": "A raster function template."
},
{
"help": "",
"name": "pondcypress",
"description": "A raster function template."
},
{
"help": "",
"name": "ponderosa_pine",
"description": "A raster function template."
},
{
"help": "",
"name": "Port_Orford_cedar",
"description": "A raster function template."
},
{
"help": "",
"name": "post_oak",
"description": "A raster function template."
},
{
"help": "",
"name": "pumpkin_ash",
"description": "A raster function template."
},
{
"help": "",
"name": "quaking_aspen",
"description": "A raster function template."
},
{
"help": "",
"name": "red_alder",
"description": "A raster function template."
},
{
"help": "",
"name": "red_hickory",
"description": "A raster function template."
},
{
"help": "",
