View In:
ArcGIS JavaScript
ArcGIS Enterprise Map Viewer
ArcGIS Earth
Service Description: The Drainage Index (DI), originally named the "natural soil wetness index" (Hole and Campbell 1986, Schaetzl 1986), is a measure of long-term soil wetness. It is designed to represent, as an ordinal number, the amount of water that a soil contains and makes available to plants under normal climatic conditions. It is not meant to mimic the concept of "plant available water", which is mostly dependent upon soil texture. The DI only loosely/secondarily takes soil texture into consideration. The main factor affecting the DI is the depth to the water table and the soil volume available for plants to root and grow in. The DI concept was first initiated by Hole (1978) and Hole and Campbell (1985), and expanded upon by Schaetzl (1986). The DI ranges from 0 to 99. The higher the DI, the more water the soil can and does, theoretically, supply to plants. Sites with DI values of 99 are essentially open water. A DI of zero indicates impermeable surfaces like bare bedrock or urban areas dominated by pavement and buildings. The DI is derived from the soil's taxonomic subgroup classification in the US system of Soil Taxonomy, and (optionally) its soil map slope class. Because a soil's taxonomic classification is not (initially) affected by such factors as irrigation or artificial drainage, the DI does not change as soils become irrigated or drained (unless the long-term effects of this involve a change in the soil's taxonomic classification). Instead, the DI reflects the soil's NATURAL wetness condition. Each soil SERIES has, in theory, its own unique DI. Some soil series span two or more drainage classes; in this case the DI that is used is the one that would normally be used for a soil with that subgroup classification. Contact: Estella Smith, Geospatial Technology and Applications Center (GTAC), USFS. estella.smith@usda.gov
Name: Soil_Geology/USFS_Drainage_Index
Description:
Single Fused Map Cache: false
Extent:
XMin: -1.42364394629E7
YMin: 2617329.530500002
XMax: -7266359.4629
YMax: 6728829.530500002
Spatial Reference: 102100
(3857)
LatestVCSWkid(0)
Initial Extent:
XMin: -1.42364394629E7
YMin: 2617329.530500002
XMax: -7266359.4629
YMax: 6728829.530500002
Spatial Reference: 102100
(3857)
LatestVCSWkid(0)
Full Extent:
XMin: -1.42364394629E7
YMin: 2617329.530500002
XMax: -7266359.4629
YMax: 6728829.530500002
Spatial Reference: 102100
(3857)
LatestVCSWkid(0)
Pixel Size X: 30.0
Pixel Size Y: 30.0
Band Count: 1
Pixel Type: S8
RasterFunction Infos: {"rasterFunctionInfos": [
{
"help": "",
"name": "Drainage_Index",
"description": "Drainage_Index RFT"
},
{
"help": "",
"name": "None",
"description": "Make a Raster or Raster Dataset into a Function Raster Dataset."
}
]}
Mensuration Capabilities: Basic
Inspection Capabilities:
Has Histograms: true
Has Colormap: false
Has Multi Dimensions : false
Rendering Rule:
Min Scale: 0
Max Scale: 0
Copyright Text: https://www.fs.usda.gov/foresthealth/applied-sciences/mapping-reporting/soil-drainage.shtml
Schaetzl, R.J., Krist, F.J. Jr., Stanley, K.E., and C.M. Hupy. 2009. The Natural Soil Drainage Index: An Ordinal Estimate of Long-Term, Soil Wetness. Physical Geography 30:383-409
Service Data Type: esriImageServiceDataTypeGeneric
Min Values: -128
Max Values: 99
Mean Values: -31.527391340713287
Standard Deviation Values: 86.161093768825424
Object ID Field: objectid
Fields:
-
objectid
(
alias: objectid
, type: esriFieldTypeOID
)
-
name
(
length: 200
, alias: name
, type: esriFieldTypeString
)
-
minps
(
alias: minps
, type: esriFieldTypeDouble
)
-
maxps
(
alias: maxps
, type: esriFieldTypeDouble
)
-
lowps
(
alias: lowps
, type: esriFieldTypeDouble
)
-
highps
(
alias: highps
, type: esriFieldTypeDouble
)
-
category
(
alias: category
, type: esriFieldTypeInteger
, Coded Values:
[0: Unknown]
, [1: Primary]
, [2: Overview]
, ...6 more...
)
-
tag
(
length: 100
, alias: tag
, type: esriFieldTypeString
)
-
groupname
(
length: 100
, alias: groupname
, type: esriFieldTypeString
)
-
productname
(
length: 100
, alias: productname
, type: esriFieldTypeString
)
-
centerx
(
alias: centerx
, type: esriFieldTypeDouble
)
-
centery
(
alias: centery
, type: esriFieldTypeDouble
)
-
zorder
(
alias: zorder
, type: esriFieldTypeInteger
)
-
shape
(
alias: shape
, type: esriFieldTypeGeometry
)
Default Mosaic Method: Northwest
Allowed Mosaic Methods: NorthWest,Center,LockRaster,ByAttribute,Nadir,Viewpoint,Seamline,None
SortField:
SortValue: N/A
Mosaic Operator: First
Default Compression Quality: 75
Default Resampling Method: Bilinear
Max Record Count: 1000
Max Image Height: 100000
Max Image Width: 100000
Max Download Image Count: 20
Max Mosaic Image Count: 20
Allow Raster Function: true
Allow Copy: true
Allow Analysis: true
Allow Compute TiePoints: false
Supports Statistics: true
Supports Advanced Queries: true
Use StandardizedQueries: true
Raster Type Infos:
Name: Raster Dataset
Description: Supports all ArcGIS Raster Datasets
Help:
Has Raster Attribute Table: false
Edit Fields Info: N/A
Ownership Based AccessControl For Rasters: N/A
Child Resources:
Info
Histograms
Statistics
Key Properties
Legend
Raster Function Infos
Supported Operations:
Export Image
Query
Identify
Measure
Compute Histograms
Compute Statistics Histograms
Get Samples
Compute Class Statistics
Query GPS Info
Find Images
Image to Map
Map to Image
Measure from Image
Image to Map Multiray
Query Boundary
Compute Pixel Location
Compute Angles
Validate
Project