View In:
ArcGIS JavaScript
ArcGIS Enterprise Map Viewer
ArcGIS Earth
Service Description: This Natural Color imagery layer features recent high-resolution (1m or better) aerial imagery for the continental United States, made available by the USDA Farm Services Agency. The National Agriculture Imagery Program (NAIP) acquires aerial imagery during the agricultural growing seasons in the continental United States. Approximately half of the US is collected each year and each state is typically collected every other year.
Name: NAIP/NAIP2005_CONUS
Description: These are digital orthophotos covering all, or selected portions of CA, CO, MI, MT, ND, NY, OR, SC, and WI, acquired in 2005 at 1 meter resolution, as provided by the USDA's Farm Production and Conservation office (FPAC). The data contains three bands, representing red, green, and blue, wavelengths, making the data suitable for analysis using a true-color band combination.
This data set contains imagery from the National Agriculture Imagery Program (NAIP). NAIP acquires digital ortho imagery during the agricultural growing seasons in the continental U.S. A primary goal of the NAIP program is to enable availability of ortho imagery within one year of acquisition. Approximately half of the US is collected each year and each state is typically collected every other year. NAIP provides two main products: 1 meter/60 centimeter ground sample distance (GSD) ortho imagery rectified to a horizontal accuracy of within +/- 5 meters of reference digital ortho quarter quads (DOQQ's) from the National Digital Ortho Program (NDOP); and 1 meter/60 centimeter GSD ortho imagery rectified to within +/- 6 meters to true ground. The tiling format of NAIP imagery is based on a 3.75' x 3.75' quarter quadrangle with a 300 meter buffer on all four sides. NAIP quarter quads are formatted to the UTM coordinate system using NAD83. The NAIP services are published in Web Mercator. NAIP imagery may contain as much as 10% cloud cover per tile.
A digital orthophoto is a georeferenced image prepared from aerial imagery, or other remotely-sensed data in which the displacement within the image due to sensor orientation and terrain relief has been removed. Orthophotos combine the characteristics of an image with the geometric qualities of a map. Orthoimages show ground features such as roads, buildings, and streams in their proper positions, without the distortion characteristic of unrectified aerial imagery. Digital orthoimages produced and used within the Forest Service are developed from imagery acquired through various national and regional image acquisition programs. The resulting orthoimages, also known as orthomaps, can be directly applied in remote sensing, GIS and mapping applications. They serve a variety of purposes, from interim maps to references for earth science investigations and analysis. Because of the orthographic property, an orthoimage can be used like a map for measurement of distances, angles, and areas with scale being constant everywhere. Also, they can be used as map layers in GIS or other computer-based manipulation, overlaying, and analysis. An orthoimage differs from a map in a manner of depiction of detail; on a map only selected detail is shown by conventional symbols, whereas on an orthoimage all details appear just as in original aerial or satellite imagery.
Single Fused Map Cache: false
Extent:
XMin: -1.3866834418200001E7
YMin: 3762949.3539000005
XMax: -8737994.418200001
YMax: 6275637.3539
Spatial Reference: 102100
(3857)
LatestVCSWkid(0)
Initial Extent:
XMin: -1.3866834418200001E7
YMin: 3762949.3539000005
XMax: -8737994.418200001
YMax: 6275637.3539
Spatial Reference: 102100
(3857)
LatestVCSWkid(0)
Full Extent:
XMin: -1.3866834418200001E7
YMin: 3762949.3539000005
XMax: -8737994.418200001
YMax: 6275637.3539
Spatial Reference: 102100
(3857)
LatestVCSWkid(0)
Pixel Size X: 1.0
Pixel Size Y: 1.0
Band Count: 3
Pixel Type: U8
RasterFunction Infos: {"rasterFunctionInfos": [
{
"help": "",
"name": "None",
"description": "Make a Raster or Raster Dataset into a Function Raster Dataset."
},
{
"help": "",
"name": "None",
"description": "Make a Raster or Raster Dataset into a Function Raster Dataset."
}
]}
Mensuration Capabilities: Basic
Inspection Capabilities:
Has Histograms: true
Has Colormap: false
Has Multi Dimensions : false
Rendering Rule:
Min Scale: 0
Max Scale: 0
Copyright Text: These datasets were provided by the USDA's Farm Production and Conservation office (FPAC) and are served by the U.S. Forest Service Geospatial Technology & Applications Center (GTAC), in cooperation with the U.S. Department of the Interior's Geospatial Platform (GeoPlatform), as part of the Interdepartmental Imagery Publication Platform (IIPP).
Service Data Type: esriImageServiceDataTypeRGB
Min Values: 0, 0, 0
Max Values: 255, 255, 255
Mean Values: 98.409889535519653, 108.53489506100112, 95.21136756760778
Standard Deviation Values: 49.066702528214755, 39.482080478784013, 33.195265158865062
Object ID Field: objectid
Fields:
-
objectid
(
alias: objectid
, type: esriFieldTypeOID
)
-
name
(
length: 200
, alias: name
, type: esriFieldTypeString
)
-
minps
(
alias: minps
, type: esriFieldTypeDouble
)
-
maxps
(
alias: maxps
, type: esriFieldTypeDouble
)
-
lowps
(
alias: lowps
, type: esriFieldTypeDouble
)
-
highps
(
alias: highps
, type: esriFieldTypeDouble
)
-
category
(
alias: category
, type: esriFieldTypeInteger
, Coded Values:
[0: Unknown]
, [1: Primary]
, [2: Overview]
, ...6 more...
)
-
tag
(
length: 100
, alias: tag
, type: esriFieldTypeString
)
-
groupname
(
length: 100
, alias: groupname
, type: esriFieldTypeString
)
-
productname
(
length: 100
, alias: productname
, type: esriFieldTypeString
)
-
centerx
(
alias: centerx
, type: esriFieldTypeDouble
)
-
centery
(
alias: centery
, type: esriFieldTypeDouble
)
-
zorder
(
alias: zorder
, type: esriFieldTypeInteger
)
-
shape
(
alias: shape
, type: esriFieldTypeGeometry
)
-
year
(
alias: Year
, type: esriFieldTypeSmallInteger
)
-
state
(
length: 255
, alias: State
, type: esriFieldTypeString
)
-
public
(
length: 3
, alias: public
, type: esriFieldTypeString
)
-
metadata
(
length: 255
, alias: metadata
, type: esriFieldTypeString
)
-
resolution
(
alias: resolution
, type: esriFieldTypeDouble
)
Default Mosaic Method: Northwest
Allowed Mosaic Methods: NorthWest,Center,LockRaster,ByAttribute,Nadir,Viewpoint,Seamline,None
SortField:
SortValue: N/A
Mosaic Operator: First
Default Compression Quality: 75
Default Resampling Method: Bilinear
Max Record Count: 1000
Max Image Height: 100000
Max Image Width: 100000
Max Download Image Count: 20
Max Mosaic Image Count: 100
Allow Raster Function: true
Allow Copy: true
Allow Analysis: true
Allow Compute TiePoints: false
Supports Statistics: true
Supports Advanced Queries: true
Use StandardizedQueries: true
Raster Type Infos:
Name: Raster Dataset
Description: Supports all ArcGIS Raster Datasets
Help:
Has Raster Attribute Table: false
Edit Fields Info: N/A
Ownership Based AccessControl For Rasters: N/A
Child Resources:
Info
Histograms
Statistics
Key Properties
Legend
Raster Function Infos
Supported Operations:
Export Image
Query
Identify
Measure
Compute Histograms
Compute Statistics Histograms
Get Samples
Compute Class Statistics
Query GPS Info
Find Images
Image to Map
Map to Image
Measure from Image
Image to Map Multiray
Query Boundary
Compute Pixel Location
Compute Angles
Validate
Project