View In:
ArcGIS JavaScript
ArcGIS Enterprise Map Viewer
ArcGIS Earth
Service Description: This data layer provides information on harvest and silvicultural activities tracked in the Watershed Improvement Tracking (WIT) database. WIT is an activity tracking system that records, tracks, and monitors activities associated with watershed and aquatic ecosystem health and function (WIT). The database was queried to produce a harvest and silviculture activities (2001-2021) layer.
Harvest and silviculture activities were identified in consultation with subject matter experts on each category of WIT codes. The following activities were included in this category: Aspen Restoration','Harvest','Inter-planting','InvasiveSpeciesMgmt-TerPlant','Midstory Removal','Native Plant Restoration','Native Plant Treatment','Overstory Removal','Planting','Pruning','Revegetation','Seeding','Site Preparation','Stand Clearcut','Thinning','Thinning - Commercial','Thinning - Pre-commercial','Tree Release'
Spatial Extent: NFS system-wide
Units: Categories of ecosystem resilience activities
Name: Forest_Management/USFS_CRV_ManagementIntent_WITHarvestAndSilvicultureActivities
Description:
Single Fused Map Cache: false
Extent:
XMin: -1.70747598146E7
YMin: 853230.0346999988
XMax: -6612509.814599998
YMax: 1.1320730034699999E7
Spatial Reference: 102100
(3857)
LatestVCSWkid(0)
Initial Extent:
XMin: -1.70747598146E7
YMin: 853230.0346999988
XMax: -6612509.814599998
YMax: 1.1320730034699999E7
Spatial Reference: 102100
(3857)
LatestVCSWkid(0)
Full Extent:
XMin: -1.70747598146E7
YMin: 853230.0346999988
XMax: -6612509.814599998
YMax: 1.1320730034699999E7
Spatial Reference: 102100
(3857)
LatestVCSWkid(0)
Pixel Size X: 250.0
Pixel Size Y: 250.0
Band Count: 1
Pixel Type: U1
RasterFunction Infos: {"rasterFunctionInfos": [
{
"help": "",
"name": "WIT_TimberCodes",
"description": "Activities_WIT_ActivityAccomplishmentsandCostsRSW_2001_2023_TimberCodes_250m RFT"
},
{
"help": "",
"name": "None",
"description": "Make a Raster or Raster Dataset into a Function Raster Dataset."
}
]}
Mensuration Capabilities: Basic
Inspection Capabilities:
Has Histograms: true
Has Colormap: false
Has Multi Dimensions : false
Rendering Rule:
Min Scale: 0
Max Scale: 0
Copyright Text: USDA Forest Service: Enterprise Data Warehouse (EDW)
Service Data Type: esriImageServiceDataTypeGeneric
Min Values: 1
Max Values: 1
Mean Values: 1
Standard Deviation Values: 0
Object ID Field: objectid
Fields:
-
objectid
(
alias: objectid
, type: esriFieldTypeOID
)
-
name
(
length: 200
, alias: name
, type: esriFieldTypeString
)
-
minps
(
alias: minps
, type: esriFieldTypeDouble
)
-
maxps
(
alias: maxps
, type: esriFieldTypeDouble
)
-
lowps
(
alias: lowps
, type: esriFieldTypeDouble
)
-
highps
(
alias: highps
, type: esriFieldTypeDouble
)
-
category
(
alias: category
, type: esriFieldTypeInteger
, Coded Values:
[0: Unknown]
, [1: Primary]
, [2: Overview]
, ...6 more...
)
-
tag
(
length: 100
, alias: tag
, type: esriFieldTypeString
)
-
groupname
(
length: 100
, alias: groupname
, type: esriFieldTypeString
)
-
productname
(
length: 100
, alias: productname
, type: esriFieldTypeString
)
-
centerx
(
alias: centerx
, type: esriFieldTypeDouble
)
-
centery
(
alias: centery
, type: esriFieldTypeDouble
)
-
zorder
(
alias: zorder
, type: esriFieldTypeInteger
)
-
shape
(
alias: shape
, type: esriFieldTypeGeometry
)
Default Mosaic Method: Northwest
Allowed Mosaic Methods: NorthWest,Center,LockRaster,ByAttribute,Nadir,Viewpoint,Seamline,None
SortField:
SortValue: N/A
Mosaic Operator: First
Default Compression Quality: 75
Default Resampling Method: Nearest
Max Record Count: 1000
Max Image Height: 100000
Max Image Width: 100000
Max Download Image Count: 20
Max Mosaic Image Count: 20
Allow Raster Function: true
Allow Copy: true
Allow Analysis: true
Allow Compute TiePoints: false
Supports Statistics: true
Supports Advanced Queries: true
Use StandardizedQueries: true
Raster Type Infos:
Name: Raster Dataset
Description: Supports all ArcGIS Raster Datasets
Help:
Has Raster Attribute Table: false
Edit Fields Info: N/A
Ownership Based AccessControl For Rasters: N/A
Child Resources:
Info
Histograms
Statistics
Key Properties
Legend
Raster Function Infos
Supported Operations:
Export Image
Query
Identify
Measure
Compute Histograms
Compute Statistics Histograms
Get Samples
Compute Class Statistics
Query GPS Info
Find Images
Image to Map
Map to Image
Measure from Image
Image to Map Multiray
Query Boundary
Compute Pixel Location
Compute Angles
Validate
Project