View In:
ArcGIS JavaScript
ArcGIS Enterprise Map Viewer
ArcGIS Earth
Service Description: In 2021, the Federal Accounting Standards Advisory Board (FASAB) initiated a tracking mechanism that requires all federal agencies that own or manage land to categorize the acres of those lands into three broad categories of predominant land use and produce an annual report. In this context the USDA Forest Service has considered the definitions of each category and classified all acres of National Forest System (NFS) lands into 1. Conservation/Preservation, 2. Operational, 3. Commercial designations. Those designations are additionally separated by whether the lands have been identified as Stewardship lands, or if the lands were acquired by the federal government for General Plant, Property & Equipment purposes. In response, the Washington Office Lands and Realty Management staff determined the appropriate data sources for this annual report and developed classification rules and a geoprocessing methodology to overlay and extract a seamless and complete NFS acreage total by the required categorizations. The acres of land in each category are dynamic, as the status of surface ownership may change from year to year based on administrative and congressional designations, purchases, dispositions, or exchanges. The data used to generate the report are updated weekly, and this translates into continuously refreshed reporting and mapping products. Presented here is the spatial representation of the rule-based land category designations of NFS lands at time of the 2022 report. Multiple categories are presented in this data layer: commercial, operational, and seven types of conservation.
Name: Forest_Management/USFS_CRV_ManagementIntent_FASABReport
Description:
Single Fused Map Cache: false
Extent:
XMin: -1.66988087612E7
YMin: 2006696.103673621
XMax: -7206595.781255309
YMax: 8745978.076300003
Spatial Reference: 102100
(3857)
LatestVCSWkid(0)
Initial Extent:
XMin: -1.66988087612E7
YMin: 2006696.103673621
XMax: -7206595.781255309
YMax: 8745978.076300003
Spatial Reference: 102100
(3857)
LatestVCSWkid(0)
Full Extent:
XMin: -1.66988087612E7
YMin: 2006696.103673621
XMax: -7206595.781255309
YMax: 8745978.076300003
Spatial Reference: 102100
(3857)
LatestVCSWkid(0)
Pixel Size X: 1113.194907933
Pixel Size Y: 1113.194907933
Band Count: 1
Pixel Type: U4
RasterFunction Infos: {"rasterFunctionInfos": [
{
"help": "",
"name": "FASAB_Report",
"description": "Management_Land_FASAB_Report RFT"
},
{
"help": "",
"name": "None",
"description": "Make a Raster or Raster Dataset into a Function Raster Dataset."
}
]}
Mensuration Capabilities: Basic
Inspection Capabilities:
Has Histograms: true
Has Colormap: false
Has Multi Dimensions : false
Rendering Rule:
Min Scale: 0
Max Scale: 0
Copyright Text:
Service Data Type: esriImageServiceDataTypeGeneric
Min Values: 1
Max Values: 9
Mean Values: 2.8574609524486099
Standard Deviation Values: 1.8036854468548531
Object ID Field: objectid
Fields:
-
objectid
(
alias: objectid
, type: esriFieldTypeOID
)
-
name
(
length: 200
, alias: name
, type: esriFieldTypeString
)
-
minps
(
alias: minps
, type: esriFieldTypeDouble
)
-
maxps
(
alias: maxps
, type: esriFieldTypeDouble
)
-
lowps
(
alias: lowps
, type: esriFieldTypeDouble
)
-
highps
(
alias: highps
, type: esriFieldTypeDouble
)
-
category
(
alias: category
, type: esriFieldTypeInteger
, Coded Values:
[0: Unknown]
, [1: Primary]
, [2: Overview]
, ...6 more...
)
-
tag
(
length: 100
, alias: tag
, type: esriFieldTypeString
)
-
groupname
(
length: 100
, alias: groupname
, type: esriFieldTypeString
)
-
productname
(
length: 100
, alias: productname
, type: esriFieldTypeString
)
-
centerx
(
alias: centerx
, type: esriFieldTypeDouble
)
-
centery
(
alias: centery
, type: esriFieldTypeDouble
)
-
zorder
(
alias: zorder
, type: esriFieldTypeInteger
)
-
shape
(
alias: shape
, type: esriFieldTypeGeometry
)
Default Mosaic Method: Northwest
Allowed Mosaic Methods: NorthWest,Center,LockRaster,ByAttribute,Nadir,Viewpoint,Seamline,None
SortField:
SortValue: N/A
Mosaic Operator: First
Default Compression Quality: 75
Default Resampling Method: Nearest
Max Record Count: 1000
Max Image Height: 100000
Max Image Width: 100000
Max Download Image Count: 20
Max Mosaic Image Count: 20
Allow Raster Function: true
Allow Copy: true
Allow Analysis: true
Allow Compute TiePoints: false
Supports Statistics: true
Supports Advanced Queries: true
Use StandardizedQueries: true
Raster Type Infos:
Name: Raster Dataset
Description: Supports all ArcGIS Raster Datasets
Help:
Has Raster Attribute Table: false
Edit Fields Info: N/A
Ownership Based AccessControl For Rasters: N/A
Child Resources:
Info
Histograms
Statistics
Key Properties
Legend
Raster Function Infos
Supported Operations:
Export Image
Query
Identify
Measure
Compute Histograms
Compute Statistics Histograms
Get Samples
Compute Class Statistics
Query GPS Info
Find Images
Image to Map
Map to Image
Measure from Image
Image to Map Multiray
Query Boundary
Compute Pixel Location
Compute Angles
Validate
Project