View In:
ArcGIS JavaScript
ArcGIS Enterprise Map Viewer
ArcGIS Earth
Service Description: Potential Control Location Suitability (PCL) is an estimate of fire control likelihood or probability developed by relating observations of fire control and lack of control with landscape predictor variables thought to influence control likelihood (O’Connor et al. 2017). Observations of fire control success come from the perimeters of historical fires during the period 2019-2024 and observations of control failure come from the same fire interiors. PCL is modeled using the boosted regression tree method, which iteratively fits regression trees to random subsets of the data to minimize model deviance from the training data. Boosted regression is ideal for this application because the models can capture non-linear effects and variable interactions. Landscape predictor variables include road influence, barrier influence, cost distance, flat topography influence, valley topography influence, ridge topography influence, steep topography influence, elevation, Suppression Difficulty Index (SDI), the SDI fireline creation sub-index, modeled fire rate of spread, and prior burning extent and timing. A single PCL model was developed for Alaska. This edition of PCL was modeled using 2026 capable fuels data. See the full methods report for more details.
Name: Fire_Aviation/USFS_RMA_AK_Potential_Control_Location
Description:
Single Fused Map Cache: false
Extent:
XMin: -2.00375070672E7
YMin: 6296425.495999999
XMax: 2.0037507842788246E7
YMax: 1.1542285496E7
Spatial Reference: 102100
(3857)
LatestVCSWkid(0)
Initial Extent:
XMin: -2.00375070672E7
YMin: 6296425.495999999
XMax: 2.0037507842788246E7
YMax: 1.1542285496E7
Spatial Reference: 102100
(3857)
LatestVCSWkid(0)
Full Extent:
XMin: -2.00375070672E7
YMin: 6296425.495999999
XMax: 2.0037507842788246E7
YMax: 1.1542285496E7
Spatial Reference: 102100
(3857)
LatestVCSWkid(0)
Pixel Size X: 29.99999618963752
Pixel Size Y: 30.0
Band Count: 1
Pixel Type: S8
RasterFunction Infos: {"rasterFunctionInfos": [
{
"help": "",
"name": "PCL_2026",
"description": "Potential Control Location 2026"
},
{
"help": "",
"name": "None",
"description": "Make a Raster or Raster Dataset into a Function Raster Dataset."
}
]}
Mensuration Capabilities: Basic
Inspection Capabilities:
Has Histograms: true
Has Colormap: false
Has Multi Dimensions : false
Rendering Rule:
Min Scale: 0
Max Scale: 0
Copyright Text: USDA - GEO; USDA - USFS – GTAC
Service Data Type: esriImageServiceDataTypeGeneric
Min Values: 6
Max Values: 99
Mean Values: 27.122538077191596
Standard Deviation Values: 26.704603181510898
Object ID Field: objectid
Fields:
-
objectid
(
alias: objectid
, type: esriFieldTypeOID
)
-
name
(
length: 200
, alias: name
, type: esriFieldTypeString
)
-
minps
(
alias: minps
, type: esriFieldTypeDouble
)
-
maxps
(
alias: maxps
, type: esriFieldTypeDouble
)
-
lowps
(
alias: lowps
, type: esriFieldTypeDouble
)
-
highps
(
alias: highps
, type: esriFieldTypeDouble
)
-
category
(
alias: category
, type: esriFieldTypeInteger
, Coded Values:
[0: Unknown]
, [1: Primary]
, [2: Overview]
, ...6 more...
)
-
shape
(
alias: shape
, type: esriFieldTypeGeometry
)
-
metadata
(
length: 255
, alias: metadata
, type: esriFieldTypeString
)
Default Mosaic Method: Northwest
Allowed Mosaic Methods: NorthWest,Center,LockRaster,ByAttribute,Nadir,Viewpoint,Seamline,None
SortField:
SortValue: N/A
Mosaic Operator: First
Default Compression Quality: 75
Default Resampling Method: Bilinear
Max Record Count: 1000
Max Image Height: 100000
Max Image Width: 100000
Max Download Image Count: 20
Max Mosaic Image Count: 20
Allow Raster Function: true
Allow Copy: true
Allow Analysis: true
Allow Compute TiePoints: false
Supports Statistics: true
Supports Advanced Queries: true
Use StandardizedQueries: true
Raster Type Infos:
Name: Raster Dataset
Description: Supports all ArcGIS Raster Datasets
Help:
Has Raster Attribute Table: false
Edit Fields Info: N/A
Ownership Based AccessControl For Rasters: N/A
Child Resources:
Info
Histograms
Statistics
Key Properties
Legend
Raster Function Infos
Supported Operations:
Export Image
Query
Identify
Measure
Compute Histograms
Compute Statistics Histograms
Get Samples
Compute Class Statistics
Query GPS Info
Find Images
Image to Map
Map to Image
Measure from Image
Image to Map Multiray
Query Boundary
Compute Pixel Location
Compute Angles
Validate
Project