View In:
ArcGIS JavaScript
ArcGIS Enterprise Map Viewer
ArcGIS Earth
Service Description: The Northern Rockies Wildfire Risk Assessment estimates the potential effects of wildfire to a limited set of Highly Valued Resources and Assets (HVRAs) within the Northern Rockies Geographic Area. Potential effects are expressed as the expected net value change (eNVC) to HVRAs. The eNVC results account for the likelihood of a wildfire occurring and exposing HVRAs, the range of intensity under which a wildfire is expected to burn, and the susceptibility of the HVRAs exposed, as described in 'A Wildfire Risk Assessment Framework for Land and Resource Management' (Scott et al. 2013).Wildfire hazard data of annual burn probability (i.e., likelihood of a wildfire occurring) and conditional flame-length probability (i.e., likelihood of burning in different flame-length classes should a wildfire occur) were acquired from the Strategic Analytics Branch (SAB) of the USDA Forest Service. The SAB hazard data is a hybrid of data sources for the western and eastern United States. This results in a small edge effect in the Dakota Prairie Grasslands (DPG) where the two datasets are adjacent. For the western states, annual burn probability was modeled, using custom circa 2025 fuels data (WildWest; Gannon et al. 2026), with the USDA Forest Service FSim Model (Finney et al. 2011) at 120-m resolution. For the rest of the DPG, annual burn probability comes from the National FSim results (Dillon et al. 2023), modeled using LANDFIRE 2020 (v2.2.0) fuels data at 270-m resolution. The 270-m data were upsampled to 120-m resolution and mosaicked with the burn probability results from WildWest. The combined 120-m resolution burn probability results were then upsampled to 30-m resolution to preserver the resolution of the HVRA characterization, fuels mapping and intensity modeling. For more detailed information on data sources and post-processing, see Gannon et al. (2026).The conditional flame-length probability (FLP) data were also acquired from the SAB. FLP data were modeled with the Pyrologix LLC's Wildfire Exposure Simulation Tool (WildEST). WildEST uses a deterministic framework based on the USDA Forest Service FlamMap Software (Finney et al. 2021) to estimate the conditional probability of burning at different fire intensity levels accounting for terrain, fuel conditions, and historical weather. Details on WildEST methods can be found in the companion report “WildEST methods and outputs for the 2024 National Wildfire Risk Assessment” (Scott et al. 2024).Housing unit density data were acquired from the USDA Forest Service Wildfire Risk to Communities Project, which estimates housing unit density with 2020 census housing unit data and a comprehensive building footprint dataset (Jaffe et al. 2024). Response functions and subHVRA relative importance values also come from the Wildfire Risk to Communities project. The response functions reflect an expectation for higher losses with increasing fire intensity and with increasing fire residence times, resistance to control, and spotting potential across the grass-shrub-tree fuel type gradient, consistent with the observed loss rates across fuel types conditional on wildfire exposure (Radeloff et al. 2023). SubHVRA relative importance increases across seven classes of housing unit density to reflect the greater quantity of human assets exposed to fire in areas with higher housing unit density. The relative importance is based on density alone and does not account for home value.References:Dillon GK, Scott JH, Jaffe MR, Olszewski JH, Vogler KC, Finney MA, Short KC, Riley KL, Grenfell IC, Jolly WM, Brittain S (2023) Spatial datasets of probabilistic wildfire risk components for the United States (270m). 3rd Edition. U.S. Department of Agriculture, Forest Service Research Data Archive. (Fort Collins, CO) DOI:10.2737/RDS-2016-0034-3Finney MA, McHugh CW, Grenfell IC, Riley KL, Short KC (2011) A simulation of probabilistic wildfire risk components for the continental United States. Stochastic Environmental Research and Risk Assessment 25, 973-1000. DOI:10.1007/s00477-011-0462-zGannon B, Stratton R, Arkin J, Jaffe M, Moran C, Wilson K, Gilbertson-Day J, Scott J (2026) National All-lands Wildfire Risk Assessment (NaWRA) 2025 Methods. U.S. Department of Agriculture, Forest Service, Strategic Analytics Branch, ReportJaffe MR, Scott JH, Callahan MN, Dillon GK, Karau EC, Lazarz MT (2024) Wildfire Risk to Communities: Spatial datasets of wildfire risk for populated areas in the United States. 2nd Edition. U.S. Department of Agriculture, Forest Service Research Data Archive. (Fort Collins, CO) 15p. DOI:10.2737/RDS-2020-0060-2Radeloff VC, Mockrin MH, Helmers D, Carlson A, Hawbaker TJ, Martinuzzi S, Schug F, Alexandre PM, Kramer HA, Pidgeon AM (2023) Rising wildfire risk to houses in the United States, especially in grasslands and shrublands. Science 382, 702-707. DOI:10.1126/science.ade9223Scott JH, Thompson MP, Calkin DE (2013) A wildfire risk assessment framework for land and resource management. U.S. Department of Agriculture, Forest Service, Rocky Mountain Research Station. General Technical Report RMRS-GTR-315. (Fort Collins, CO) 83 p.Scott JH, Moran CJ, Callahan MN, Brough AM (2024) WildEST methods and outputs for the 2024 National Wildfire Risk Assessment. Pyrologix report to U.S. Department of Agriculture, Forest Service, Fire and Aviation Management. (Missoula, MT) 25 p.
Name: Fire_Aviation/USFS_NorthernRockies_Forests_HousingWildfireRisk
Description:
Single Fused Map Cache: false
Extent:
XMin: -1.3117704334048333E7
YMin: 5457782.717347558
XMax: -1.0747224334048333E7
YMax: 6362702.717347558
Spatial Reference: 102100
(3857)
LatestVCSWkid(0)
Initial Extent:
XMin: -1.3117704334048333E7
YMin: 5457782.717347558
XMax: -1.0747224334048333E7
YMax: 6362702.717347558
Spatial Reference: 102100
(3857)
LatestVCSWkid(0)
Full Extent:
XMin: -1.3117704334048333E7
YMin: 5457782.717347558
XMax: -1.0747224334048333E7
YMax: 6362702.717347558
Spatial Reference: 102100
(3857)
LatestVCSWkid(0)
Pixel Size X: 30.0
Pixel Size Y: 30.0
Band Count: 1
Pixel Type: U8
RasterFunction Infos: {"rasterFunctionInfos": [
{
"help": "",
"name": "Regional Housing Wildfire Risk",
"description": "Regional Housing Wildfire Risk"
},
{
"help": "",
"name": "None",
"description": "Make a Raster or Raster Dataset into a Function Raster Dataset."
},
{
"help": "",
"name": "Housing Wildfire Risk BDF",
"description": "BDF Housing eNVC Classified"
},
{
"help": "",
"name": "Housing Wildfire Risk BRF",
"description": "BRF Housing eNVC Classified"
},
{
"help": "",
"name": "Housing Wildfire Risk CGF",
"description": "CGF Housing eNVC Classified"
},
{
"help": "",
"name": "Housing Wildfire Risk DPG",
"description": "DPG Housing eNVC Classified"
},
{
"help": "",
"name": "Housing Wildfire Risk FNF",
"description": "FNF Housing eNVC Classified"
},
{
"help": "",
"name": "Housing Wildfire Risk HLF",
"description": "HLF Housing eNVC Classified"
},
{
"help": "",
"name": "Housing Wildfire Risk IPF",
"description": "IPF Housing eNVC Classified"
},
{
"help": "",
"name": "Housing Wildfire Risk KNF",
"description": "KNF Housing eNVC Classified"
},
{
"help": "",
"name": "Housing Wildfire Risk LNF",
"description": "LNF Housing eNVC Classified"
},
{
"help": "",
"name": "Housing Wildfire Risk NCF",
"description": "NCF Housing eNVC Classified"
}
]}
Mensuration Capabilities: Basic
Inspection Capabilities:
Has Histograms: true
Has Colormap: false
Has Multi Dimensions : false
Rendering Rule:
Min Scale: 0
Max Scale: 0
Copyright Text: USDA, US Forest Service, Geospatial Office, Interdepartmental Imagery Publication Platform.
Service Data Type: esriImageServiceDataTypeGeneric
Min Values: 1
Max Values: 5
Mean Values: 3.8938864370804396
Standard Deviation Values: 0.5663183869640398
Object ID Field: objectid
Fields:
-
objectid
(
alias: objectid
, type: esriFieldTypeOID
)
-
name
(
length: 200
, alias: name
, type: esriFieldTypeString
)
-
minps
(
alias: minps
, type: esriFieldTypeDouble
)
-
maxps
(
alias: maxps
, type: esriFieldTypeDouble
)
-
lowps
(
alias: lowps
, type: esriFieldTypeDouble
)
-
highps
(
alias: highps
, type: esriFieldTypeDouble
)
-
category
(
alias: category
, type: esriFieldTypeInteger
, Coded Values:
[0: Unknown]
, [1: Primary]
, [2: Overview]
, ...6 more...
)
-
tag
(
length: 100
, alias: tag
, type: esriFieldTypeString
)
-
groupname
(
length: 100
, alias: groupname
, type: esriFieldTypeString
)
-
productname
(
length: 100
, alias: productname
, type: esriFieldTypeString
)
-
centerx
(
alias: centerx
, type: esriFieldTypeDouble
)
-
centery
(
alias: centery
, type: esriFieldTypeDouble
)
-
zorder
(
alias: zorder
, type: esriFieldTypeInteger
)
-
shape
(
alias: shape
, type: esriFieldTypeGeometry
)
Default Mosaic Method: Northwest
Allowed Mosaic Methods: NorthWest,Center,LockRaster,ByAttribute,Nadir,Viewpoint,Seamline,None
SortField:
SortValue: N/A
Mosaic Operator: First
Default Compression Quality: 75
Default Resampling Method: Nearest
Max Record Count: 1000
Max Image Height: 100000
Max Image Width: 100000
Max Download Image Count: 20
Max Mosaic Image Count: 100
Allow Raster Function: true
Allow Copy: true
Allow Analysis: true
Allow Compute TiePoints: false
Supports Statistics: true
Supports Advanced Queries: true
Use StandardizedQueries: true
Raster Type Infos:
Name: Raster Dataset
Description: Supports all ArcGIS Raster Datasets
Help:
Has Raster Attribute Table: false
Edit Fields Info: N/A
Ownership Based AccessControl For Rasters: N/A
Child Resources:
Info
Histograms
Statistics
Key Properties
Legend
Raster Function Infos
Supported Operations:
Export Image
Query
Identify
Measure
Compute Histograms
Compute Statistics Histograms
Get Samples
Compute Class Statistics
Query GPS Info
Find Images
Image to Map
Map to Image
Measure from Image
Image to Map Multiray
Query Boundary
Compute Pixel Location
Compute Angles
Validate
Project