View In:
ArcGIS JavaScript
ArcGIS Enterprise Map Viewer
ArcGIS Earth
Service Description: Suppression Difficulty Index (SDI) is an expert-based model of how potential fire behavior and operational factors combine to influence suppression difficulty across broad landscapes (RodrÃguez y Silva et al. 2020). The formulation for SDI is premised on the concept that fire behavior acts as a driving force in the numerator and conditions that facilitate suppression act as resisting forces in the denominator. The numerator, also called the energy behavior index (Ice), grows in response to conditions that increase fire behavior, so SDI will increase where and when fuel, topography, and weather conditions promote extreme fire behaviors. The denominator sums the values for sub-indices representing how accessibility (Ia), penetrability (Ip), and fireline creation (Ic) influence suppression opportunities across the landscape. Higher values for sub-indices in the denominator indicate better conditions for suppression, which lowers SDI for a given energy behavior index value in the numerator. The United States implementation of SDI includes an additional slope factor to reflect that working in steep environments is difficult regardless of the fire behavior and other operational factors. This edition of SDI was modeled using 2026 capable fuels data. The flame length and heat per unit area inputs to SDI were modeled for typical large wildfire conditions in Alaska (Fuel moistures of 1-hr: 6%, 10-hr: 7%, 100-hr: 8%, Herbaceous: 85%, Woody: 100%; Wind speeds of 15-mph @ 20-ft in the uphill direction; Finney crown fire initiation model). See the full methods report for more details.
Name: Fire_Aviation/USFS_EDW_SAB_WildfireSuppressionDifficultyIndexAK
Description:
Single Fused Map Cache: false
Extent:
XMin: -2.00375070672E7
YMin: 6296425.556400001
XMax: 2.0037507842788246E7
YMax: 1.1542285556400001E7
Spatial Reference: 102100
(3857)
LatestVCSWkid(0)
Initial Extent:
XMin: -2.00375070672E7
YMin: 6296425.556400001
XMax: 2.0037507842788246E7
YMax: 1.1542285556400001E7
Spatial Reference: 102100
(3857)
LatestVCSWkid(0)
Full Extent:
XMin: -2.00375070672E7
YMin: 6296425.556400001
XMax: 2.0037507842788246E7
YMax: 1.1542285556400001E7
Spatial Reference: 102100
(3857)
LatestVCSWkid(0)
Pixel Size X: 29.99999618963752
Pixel Size Y: 30.0
Band Count: 1
Pixel Type: U16
RasterFunction Infos: {"rasterFunctionInfos": [
{
"help": "",
"name": "SDI",
"description": "SDI"
},
{
"help": "",
"name": "None",
"description": "Make a Raster or Raster Dataset into a Function Raster Dataset."
}
]}
Mensuration Capabilities: Basic
Inspection Capabilities:
Has Histograms: true
Has Colormap: false
Has Multi Dimensions : false
Rendering Rule:
Min Scale: 0
Max Scale: 0
Copyright Text: USDA Forest Service, Fire and Aviation Management, Strategic Analytics Branch.
USDA Forest Service. 2026. Alaska Suppression Difficulty Index (SDI), version 2026. USDA Forest Service National Office, Fire and Aviation Management, Strategic Analytics Branch, Washington DC.
Service Data Type: esriImageServiceDataTypeGeneric
Min Values: 0
Max Values: 312
Mean Values: 31.316740313486271
Standard Deviation Values: 26.481279027940506
Object ID Field: objectid
Fields:
-
objectid
(
alias: objectid
, type: esriFieldTypeOID
)
-
name
(
length: 200
, alias: name
, type: esriFieldTypeString
)
-
minps
(
alias: minps
, type: esriFieldTypeDouble
)
-
maxps
(
alias: maxps
, type: esriFieldTypeDouble
)
-
lowps
(
alias: lowps
, type: esriFieldTypeDouble
)
-
highps
(
alias: highps
, type: esriFieldTypeDouble
)
-
category
(
alias: category
, type: esriFieldTypeInteger
, Coded Values:
[0: Unknown]
, [1: Primary]
, [2: Overview]
, ...6 more...
)
-
tag
(
length: 100
, alias: tag
, type: esriFieldTypeString
)
-
groupname
(
length: 100
, alias: groupname
, type: esriFieldTypeString
)
-
productname
(
length: 100
, alias: productname
, type: esriFieldTypeString
)
-
centerx
(
alias: centerx
, type: esriFieldTypeDouble
)
-
centery
(
alias: centery
, type: esriFieldTypeDouble
)
-
zorder
(
alias: zorder
, type: esriFieldTypeInteger
)
-
shape
(
alias: shape
, type: esriFieldTypeGeometry
)
Default Mosaic Method: Northwest
Allowed Mosaic Methods: NorthWest,Center,LockRaster,ByAttribute,Nadir,Viewpoint,Seamline,None
SortField:
SortValue: N/A
Mosaic Operator: First
Default Compression Quality: 75
Default Resampling Method: Bilinear
Max Record Count: 1000
Max Image Height: 100000
Max Image Width: 100000
Max Download Image Count: 20
Max Mosaic Image Count: 100
Allow Raster Function: true
Allow Copy: true
Allow Analysis: true
Allow Compute TiePoints: false
Supports Statistics: true
Supports Advanced Queries: true
Use StandardizedQueries: true
Raster Type Infos:
Name: Raster Dataset
Description: Supports all ArcGIS Raster Datasets
Help:
Has Raster Attribute Table: false
Edit Fields Info: N/A
Ownership Based AccessControl For Rasters: N/A
Child Resources:
Info
Histograms
Statistics
Key Properties
Legend
Raster Function Infos
Supported Operations:
Export Image
Query
Identify
Measure
Compute Histograms
Compute Statistics Histograms
Get Samples
Compute Class Statistics
Query GPS Info
Find Images
Image to Map
Map to Image
Measure from Image
Image to Map Multiray
Query Boundary
Compute Pixel Location
Compute Angles
Validate
Project