Wildfire Suppression Difficulty Index (terrestrial) (SDIt) is a quantitative rating of relative difficulty in performing fire control work. In its original formulation for use in Spain, SDI included aerial resource use, however for development and application in the United States we removed the aerial resource component due to a lack of consistent data. We note this distinction of “terrestrial only” calculations with the inclusion of “t” in the acronym. SDIt factors in topography, fuels, expected fire behavior under severe fire weather conditions, firefighter line production rates in various fuel types, and accessibility (distance from roads/trails) to assess relative suppression effort. For this dataset severe fire behavior is modeled with 15 mph up-slope winds and fully cured fuels. SDI has a continuous value distribution from 1-10. Here it is binned to six classes from lowest to highest difficulty.
Name: Fire_Aviation/USFS_EDW_SAB_WildfireSuppressionDifficultyIndex90thPerc
Description: Wildfire Suppression Difficulty Index (SDI) 97th Percentile is a rating of relative difficulty in performing fire control work under regionally appropriate fuel moisture and 20 mph uphill winds (@ 20 ft); Wildfire Suppression Difficulty Index (SDI) 90th Percentile is a rating of relative difficulty in performing fire control work under regionally appropriate fuel moisture and 15 mph uphill winds (@ 20 ft). Wildfire Suppression Difficulty Index (SDI) 80th Percentile is a rating of relative difficulty in performing fire control work under regionally appropriate fuel moisture and 10 mph uphill winds (@ 20 ft).SDI factors in topography, fuels, expected fire behavior under prevailing conditions, fireline production rates in various fuel types with and without heavy equipment, and access via roads, trails, or cross-country travel. SDI does not account for standing snags or other overhead hazards to firefighters, so it is not a firefighter hazard map. It is only showing in relative terms where it is harder or easier to perform suppression work.SDI was modeled using 2026 capable fuels data.
Single Fused Map Cache: false
Extent:
XMin: -1.42381487887E7
YMin: 2618177.9734999985
XMax: -7272358.788699999
YMax: 6730397.973499998
Spatial Reference: 102100
(3857)
LatestVCSWkid(0)
Initial Extent:
XMin: -1.42381487887E7
YMin: 2618177.9734999985
XMax: -7272358.788699999
YMax: 6730397.973499998
Spatial Reference: 102100
(3857)
LatestVCSWkid(0)
Full Extent:
XMin: -1.42381487887E7
YMin: 2618177.9734999985
XMax: -7272358.788699999
YMax: 6730397.973499998
Spatial Reference: 102100
(3857)
LatestVCSWkid(0)
Pixel Size X: 30.0
Pixel Size Y: 30.0
Band Count: 1
Pixel Type: U16
RasterFunction Infos: {"rasterFunctionInfos": [
{
"help": "",
"name": "SDI",
"description": "SDI"
},
{
"help": "",
"name": "None",
"description": "Make a Raster or Raster Dataset into a Function Raster Dataset."
}
]}
Mensuration Capabilities: Basic
Inspection Capabilities:
Has Histograms: true
Has Colormap: false
Has Multi Dimensions : false
Rendering Rule:
Min Scale: 0
Max Scale: 0
Copyright Text: US Forest Service, National Office, Fire and Aviation Management, Strategic Analytics Branch, Risk Management Assistance, US Forest Service, Rocky Mountain Research Station
Service Data Type: esriImageServiceDataTypeGeneric
Min Values: 0
Max Values: 255
Mean Values: 19.47910180261767
Standard Deviation Values: 31.115261930749384
Object ID Field: objectid
Fields:
-
objectid
(
alias: objectid
, type: esriFieldTypeOID
)
-
name
(
length: 200
, alias: name
, type: esriFieldTypeString
)
-
minps
(
alias: minps
, type: esriFieldTypeDouble
)
-
maxps
(
alias: maxps
, type: esriFieldTypeDouble
)
-
lowps
(
alias: lowps
, type: esriFieldTypeDouble
)
-
highps
(
alias: highps
, type: esriFieldTypeDouble
)
-
category
(
alias: category
, type: esriFieldTypeInteger
, Coded Values:
[0: Unknown]
, [1: Primary]
, [2: Overview]
, ...6 more...
)
-
tag
(
length: 100
, alias: tag
, type: esriFieldTypeString
)
-
groupname
(
length: 100
, alias: groupname
, type: esriFieldTypeString
)
-
productname
(
length: 100
, alias: productname
, type: esriFieldTypeString
)
-
centerx
(
alias: centerx
, type: esriFieldTypeDouble
)
-
centery
(
alias: centery
, type: esriFieldTypeDouble
)
-
zorder
(
alias: zorder
, type: esriFieldTypeInteger
)
-
shape
(
alias: shape
, type: esriFieldTypeGeometry
)
Default Mosaic Method: Northwest
Allowed Mosaic Methods: NorthWest,Center,LockRaster,ByAttribute,Nadir,Viewpoint,Seamline,None
SortField:
SortValue: N/A
Mosaic Operator: First
Default Compression Quality: 75
Default Resampling Method: Nearest
Max Record Count: 1000
Max Image Height: 100000
Max Image Width: 100000
Max Download Image Count: 20
Max Mosaic Image Count: 20
Allow Raster Function: true
Allow Copy: true
Allow Analysis: true
Allow Compute TiePoints: false
Supports Statistics: true
Supports Advanced Queries: true
Use StandardizedQueries: true
Raster Type Infos:
Name: Raster Dataset
Description: Supports all ArcGIS Raster Datasets
Help:
Has Raster Attribute Table: false
Edit Fields Info: N/A
Ownership Based AccessControl For Rasters: N/A
Child Resources:
Info
Histograms
Statistics
Key Properties
Legend
Raster Function Infos
Supported Operations:
Export Image
Query
Identify
Measure
Compute Histograms
Compute Statistics Histograms
Get Samples
Compute Class Statistics
Query GPS Info
Find Images
Image to Map
Map to Image
Measure from Image
Image to Map Multiray
Query Boundary
Compute Pixel Location
Compute Angles
Validate
Project