View In:
ArcGIS JavaScript
ArcGIS Enterprise Map Viewer
ArcGIS Earth
Service Description: National data on burn probability (BP) and conditional flame-length probability (FLP) were generated for the conterminous United States (CONUS), Alaska, and Hawaii using a geospatial Fire Simulation (FSim) system developed by the USDA Forest Service Missoula Fire Sciences Laboratory. The FSim system includes modules for weather generation, wildfire occurrence, fire growth, and fire suppression. FSim is designed to simulate the occurrence and growth of wildfires under tens of thousands of hypothetical contemporary fire seasons in order to estimate the probability of a given area (i.e., pixel) burning under current (end of 2020) landscape conditions and fire management practices. The data presented here represent modeled BP and FLPs for the United States (US) at a 270-meter grid spatial resolution. Flame-length probability is estimated for six standard Fire Intensity Levels. The six FILs correspond to flame-length classes as follows: FLP1 = < 2 feet (ft); FLP2 = 2 < 4 ft.; FLP3 = 4 < 6 ft.; FLP4 = 6 < 8 ft.; FLP5 = 8 < 12 ft.; FLP6 = 12+ ft. Because they indicate conditional probabilities (i.e., representing the likelihood of burning at a certain intensity level, given that a fire occurs), the FLP data must be used in conjunction with the BP data for risk assessment.
These data are a newer edition of the Short et al. (2016, 2020) data publications. This third edition is based on circa 2020 landscape data, which were the most current LANDFIRE products available at the time of production. The methods used to generate these data generally followed the same process used in previous editions, with improvements made at specific steps. The process steps outlined in the Data Quality, Lineage section of this metadata document are expanded from previous editions to more fully explain each step and provide additional details on methods for this edition. Beyond the newer input landscape data from LANDFIRE, we also used updated datasets for other inputs such as fire occurrence, observed gridded daily weather, and wind data from weather stations. To better capture recent climate conditions, we also shortened the time period of historical weather records used to inform the generation of simulated weather streams for simulation runs, using the most recent 15 years this time (2006-2020) rather than full record from 1972-2012 in the second edition. See the process steps described in the Data Quality, Lineage section for more details.
Name: Fire_Aviation/USFS_EDW_RMRS_ProbabilisticWildfireRisk_FLP5
Description:
Single Fused Map Cache: false
Extent:
XMin: -2.00375070672E7
YMin: 2135965.179399997
XMax: -7130157.067200001
YMax: 1.1597575179399997E7
Spatial Reference: 102100
(3857)
LatestVCSWkid(0)
Initial Extent:
XMin: -2.00375070672E7
YMin: 2135965.179399997
XMax: -7130157.067200001
YMax: 1.1597575179399997E7
Spatial Reference: 102100
(3857)
LatestVCSWkid(0)
Full Extent:
XMin: -2.00375070672E7
YMin: 2135965.179399997
XMax: -7130157.067200001
YMax: 1.1597575179399997E7
Spatial Reference: 102100
(3857)
LatestVCSWkid(0)
Pixel Size X: 270.0
Pixel Size Y: 270.0
Band Count: 1
Pixel Type: S8
RasterFunction Infos: {"rasterFunctionInfos": [
{
"help": "",
"name": "PWR_FLP_8bitsigned_RFt",
"description": "raster function template"
},
{
"help": "",
"name": "None",
"description": "Make a Raster or Raster Dataset into a Function Raster Dataset."
}
]}
Mensuration Capabilities: Basic
Inspection Capabilities:
Has Histograms: true
Has Colormap: false
Has Multi Dimensions : false
Rendering Rule:
Min Scale: 0
Max Scale: 0
Copyright Text: USDA Forest Service, Rocky Mountain Research Station, Missoula Fire Sciences Laboratory.
5775 US Hwy 10 W
Missoula
MT
59808
Ph. 406-329-4800
Service Data Type: esriImageServiceDataTypeThematic
Min Values: 0
Max Values: 100
Mean Values: 4.478030993200897
Standard Deviation Values: 10.918042964508434
Object ID Field: objectid
Fields:
-
objectid
(
alias: objectid
, type: esriFieldTypeOID
)
-
name
(
length: 200
, alias: name
, type: esriFieldTypeString
)
-
minps
(
alias: minps
, type: esriFieldTypeDouble
)
-
maxps
(
alias: maxps
, type: esriFieldTypeDouble
)
-
lowps
(
alias: lowps
, type: esriFieldTypeDouble
)
-
highps
(
alias: highps
, type: esriFieldTypeDouble
)
-
category
(
alias: category
, type: esriFieldTypeInteger
, Coded Values:
[0: Unknown]
, [1: Primary]
, [2: Overview]
, ...6 more...
)
-
tag
(
length: 100
, alias: tag
, type: esriFieldTypeString
)
-
groupname
(
length: 100
, alias: groupname
, type: esriFieldTypeString
)
-
productname
(
length: 100
, alias: productname
, type: esriFieldTypeString
)
-
centerx
(
alias: centerx
, type: esriFieldTypeDouble
)
-
centery
(
alias: centery
, type: esriFieldTypeDouble
)
-
zorder
(
alias: zorder
, type: esriFieldTypeInteger
)
-
shape
(
alias: shape
, type: esriFieldTypeGeometry
)
Default Mosaic Method: Northwest
Allowed Mosaic Methods: NorthWest,Center,LockRaster,ByAttribute,Nadir,Viewpoint,Seamline,None
SortField:
SortValue: N/A
Mosaic Operator: First
Default Compression Quality: 75
Default Resampling Method: Nearest
Max Record Count: 1000
Max Image Height: 100000
Max Image Width: 100000
Max Download Image Count: 20
Max Mosaic Image Count: 100
Allow Raster Function: true
Allow Copy: true
Allow Analysis: true
Allow Compute TiePoints: false
Supports Statistics: true
Supports Advanced Queries: true
Use StandardizedQueries: true
Raster Type Infos:
Name: Raster Dataset
Description: Supports all ArcGIS Raster Datasets
Help:
Has Raster Attribute Table: false
Edit Fields Info: N/A
Ownership Based AccessControl For Rasters: N/A
Child Resources:
Info
Histograms
Statistics
Key Properties
Legend
Raster Function Infos
Supported Operations:
Export Image
Query
Identify
Measure
Compute Histograms
Compute Statistics Histograms
Get Samples
Compute Class Statistics
Query GPS Info
Find Images
Image to Map
Map to Image
Measure from Image
Image to Map Multiray
Query Boundary
Compute Pixel Location
Compute Angles
Validate
Project