View In:
ArcGIS JavaScript
ArcGIS Enterprise Map Viewer
ArcGIS Earth
Service Description: The USDA Forest Service Rapid Assessment of Vegetation Condition after Wildfire (RAVG) program produces geospatial data and maps of post-fire vegetation condition using standardized change detection methods based on Landsat or similar multispectral satellite imagery. RAVG data products characterize vegetation condition within a fire perimeter, and include estimates of percent change in basal area (BA), percent change in canopy cover (CC), and a standardized composite burn index (CBI). Standard thematic products include 7-class percent change in basal area (BA-7), 5-class percent change in canopy cover (CC-5), and 4-class CBI (CBI-4). Contingent upon the availability of suitable imagery, RAVG products are prepared for all wildland fires reported within the conterminous United States (CONUS) that include at least 1000 acres of forested National Forest System (NFS) land (500 acres for Regions 8 and 9 as of 2016). Data for individual fires are typically made available within 45 days after fire containment ("initial assessments"). Late-season fires, however, may be deferred until the following spring or summer ("extended assessments"). National mosaics of each thematic product are prepared annually. The associated burned area perimeters are available via the Enterprise Data Warehouse (EDW, see https://data.fs.usda.gov/geodata/edw/datasets.php). Assessment type (initial or extended assessment) for each fire is included as an attribute in the perimeter dataset.
Name: Fire_Aviation/USFS_EDW_RAVG_CanopyCoverPercentChange
Description:
Single Fused Map Cache: false
Extent:
XMin: -1.4125823192200001E7
YMin: 3195967.6213999987
XMax: -8078393.192200001
YMax: 6670777.621399999
Spatial Reference: 102100
(3857)
LatestVCSWkid(0)
Initial Extent:
XMin: -1.4125823192200001E7
YMin: 3195967.6213999987
XMax: -8078393.192200001
YMax: 6670777.621399999
Spatial Reference: 102100
(3857)
LatestVCSWkid(0)
Full Extent:
XMin: -1.4125823192200001E7
YMin: 3195967.6213999987
XMax: -8078393.192200001
YMax: 6670777.621399999
Spatial Reference: 102100
(3857)
LatestVCSWkid(0)
Time Info:
Start Time Field: beginyear
End Time Field: endyear
Time Extent:
[2012/01/01 00:00:00 UTC, 2023/01/01 00:00:00 UTC]
Time Reference:
N/A
Pixel Size X: 30.0
Pixel Size Y: 30.0
Band Count: 1
Pixel Type: U8
RasterFunction Infos: {"rasterFunctionInfos": [
{
"help": "",
"name": "RAVG_CC5class_508scheme_Jan2026",
"description": "RAVG Five-class percent canopy cover (CC) mortality. 508-compliant scheme - Jan. 2026."
},
{
"help": "",
"name": "None",
"description": "Make a Raster or Raster Dataset into a Function Raster Dataset."
}
]}
Mensuration Capabilities: Basic
Inspection Capabilities:
Has Histograms: true
Has Colormap: false
Has Multi Dimensions : false
Rendering Rule:
Min Scale: 0
Max Scale: 0
Copyright Text: Geospatial Technology and Applications Center - Disturbance Assessment and Services
Service Data Type: esriImageServiceDataTypeGeneric
Min Values: 1
Max Values: 9
Mean Values: 3.332632816332429
Standard Deviation Values: 1.8962949254277337
Object ID Field: objectid
Fields:
-
objectid
(
alias: objectid
, type: esriFieldTypeOID
)
-
name
(
length: 200
, alias: name
, type: esriFieldTypeString
)
-
minps
(
alias: minps
, type: esriFieldTypeDouble
)
-
maxps
(
alias: maxps
, type: esriFieldTypeDouble
)
-
lowps
(
alias: lowps
, type: esriFieldTypeDouble
)
-
highps
(
alias: highps
, type: esriFieldTypeDouble
)
-
category
(
alias: category
, type: esriFieldTypeInteger
, Coded Values:
[0: Unknown]
, [1: Primary]
, [2: Overview]
, ...6 more...
)
-
zorder
(
alias: zorder
, type: esriFieldTypeInteger
)
-
shape
(
alias: shape
, type: esriFieldTypeGeometry
)
-
beginyear
(
alias: beginyear
, type: esriFieldTypeSmallInteger
)
-
endyear
(
alias: endyear
, type: esriFieldTypeSmallInteger
)
Default Mosaic Method: Northwest
Allowed Mosaic Methods: NorthWest,Center,LockRaster,ByAttribute,Nadir,Viewpoint,Seamline,None
SortField:
SortValue: N/A
Mosaic Operator: First
Default Compression Quality: 75
Default Resampling Method: Nearest
Max Record Count: 1000
Max Image Height: 100000
Max Image Width: 100000
Max Download Image Count: 20
Max Mosaic Image Count: 100
Allow Raster Function: true
Allow Copy: true
Allow Analysis: true
Allow Compute TiePoints: false
Supports Statistics: true
Supports Advanced Queries: true
Use StandardizedQueries: true
Raster Type Infos:
Name: Raster Dataset
Description: Supports all ArcGIS Raster Datasets
Help:
Has Raster Attribute Table: false
Edit Fields Info: N/A
Ownership Based AccessControl For Rasters: N/A
Child Resources:
Info
Histograms
Statistics
Key Properties
Legend
Raster Function Infos
Supported Operations:
Export Image
Query
Identify
Measure
Compute Histograms
Compute Statistics Histograms
Get Samples
Compute Class Statistics
Query GPS Info
Find Images
Image to Map
Map to Image
Measure from Image
Image to Map Multiray
Query Boundary
Compute Pixel Location
Compute Angles
Validate
Project