View In:
ArcGIS JavaScript
ArcGIS Enterprise Map Viewer
ArcGIS Earth
Service Description:
Name: Fire_Aviation/USFS_EDW_FireshedDensityIndex
Description:
Single Fused Map Cache: false
Extent:
XMin: -1.3885743165199999E7
YMin: 3668791.9071587436
XMax: -1.1058647331681836E7
YMax: 6275390.015500002
Spatial Reference: 102100
(3857)
LatestVCSWkid(0)
Initial Extent:
XMin: -1.3885743165199999E7
YMin: 3668791.9071587436
XMax: -1.1058647331681836E7
YMax: 6275390.015500002
Spatial Reference: 102100
(3857)
LatestVCSWkid(0)
Full Extent:
XMin: -1.3885743165199999E7
YMin: 3668791.9071587436
XMax: -1.1058647331681836E7
YMax: 6275390.015500002
Spatial Reference: 102100
(3857)
LatestVCSWkid(0)
Pixel Size X: 7874.918756318001
Pixel Size Y: 7874.918756318
Band Count: 1
Pixel Type: U4
RasterFunction Infos: {"rasterFunctionInfos": [{
"help": "",
"name": "None",
"description": ""
}]}
Mensuration Capabilities: Basic
Inspection Capabilities:
Has Histograms: true
Has Colormap: false
Has Multi Dimensions : false
Rendering Rule:
Min Scale: 0
Max Scale: 0
Copyright Text: USDA - GEO; USDA - USFS – GTAC
Service Data Type: esriImageServiceDataTypeGeneric
Min Values: 1
Max Values: 5
Mean Values: 3.0420575563720749
Standard Deviation Values: 1.0887929155153544
Object ID Field: objectid
Fields:
-
objectid
(
alias: objectid
, type: esriFieldTypeOID
)
-
name
(
length: 200
, alias: name
, type: esriFieldTypeString
)
-
minps
(
alias: minps
, type: esriFieldTypeDouble
)
-
maxps
(
alias: maxps
, type: esriFieldTypeDouble
)
-
lowps
(
alias: lowps
, type: esriFieldTypeDouble
)
-
highps
(
alias: highps
, type: esriFieldTypeDouble
)
-
category
(
alias: category
, type: esriFieldTypeInteger
, Coded Values:
[0: Unknown]
, [1: Primary]
, [2: Overview]
, ...6 more...
)
-
tag
(
length: 100
, alias: tag
, type: esriFieldTypeString
)
-
groupname
(
length: 100
, alias: groupname
, type: esriFieldTypeString
)
-
productname
(
length: 100
, alias: productname
, type: esriFieldTypeString
)
-
centerx
(
alias: centerx
, type: esriFieldTypeDouble
)
-
centery
(
alias: centery
, type: esriFieldTypeDouble
)
-
zorder
(
alias: zorder
, type: esriFieldTypeInteger
)
-
shape
(
alias: shape
, type: esriFieldTypeGeometry
)
-
title
(
length: 1024
, alias: Title
, type: esriFieldTypeString
)
-
description
(
length: 1024
, alias: Description
, type: esriFieldTypeString
)
-
url
(
length: 1024
, alias: Url
, type: esriFieldTypeString
)
-
inputranges
(
length: 2048
, alias: InputRanges
, type: esriFieldTypeString
)
-
nodataranges
(
length: 256
, alias: NoDataRanges
, type: esriFieldTypeString
)
-
rangelabels
(
length: 1024
, alias: RangeLabels
, type: esriFieldTypeString
)
-
nodatarangelabels
(
length: 1024
, alias: NoDataRangeLabels
, type: esriFieldTypeString
)
-
outputvalues
(
length: 256
, alias: OutputValues
, type: esriFieldTypeString
)
-
metadata
(
length: 1024
, alias: Metadata
, type: esriFieldTypeString
)
-
dataset_id
(
length: 1024
, alias: dataset_id
, type: esriFieldTypeString
)
-
st_area(shape)
(
alias: st_area(shape)
, type: esriFieldTypeDouble
)
-
st_perimeter(shape)
(
alias: st_perimeter(shape)
, type: esriFieldTypeDouble
)
Default Mosaic Method: Northwest
Allowed Mosaic Methods: NorthWest,Center,LockRaster,ByAttribute,Nadir,Viewpoint,Seamline,None
SortField:
SortValue: N/A
Mosaic Operator: First
Default Compression Quality: 75
Default Resampling Method: Nearest
Max Record Count: 1000
Max Image Height: 100000
Max Image Width: 100000
Max Download Image Count: 20
Max Mosaic Image Count: 20
Allow Raster Function: true
Allow Copy: true
Allow Analysis: true
Allow Compute TiePoints: false
Supports Statistics: true
Supports Advanced Queries: true
Use StandardizedQueries: true
Raster Type Infos:
Name: Raster Dataset
Description: Supports all ArcGIS Raster Datasets
Help:
Has Raster Attribute Table: false
Edit Fields Info: N/A
Ownership Based AccessControl For Rasters: N/A
Child Resources:
Info
Histograms
Statistics
Key Properties
Legend
Raster Function Infos
Supported Operations:
Export Image
Query
Identify
Measure
Compute Histograms
Compute Statistics Histograms
Get Samples
Compute Class Statistics
Query GPS Info
Find Images
Image to Map
Map to Image
Measure from Image
Image to Map Multiray
Query Boundary
Compute Pixel Location
Compute Angles
Validate
Project