View In:
ArcGIS JavaScript
ArcGIS Enterprise Map Viewer
ArcGIS Earth
Service Description: The USDA Forest Service Burned Area Emergency Response (BAER) Imagery Support program produces geospatial data of post-fire burn severities using standardized change detection methods based on Landsat, Sentinel-2, or similar multispectral satellite imagery. The BAER Imagery Support program provides an initial Burned Area Reflectance Classification (BARC) product to BAER teams. The BARC is a preliminary vegetation burn severity product which assesses severity based on the magnitude of detectable change to above ground biomass. The BAER teams collect field data on post-fire soil conditions that is used with the BARC to create the final soil burn severity (SBS) classification product for each BAER assessment. The SBS data is preferred for sharing publicly since it has been validated by the BAER team in the field. BAER teams use the soil burn severity product to assess the need for and application of emergency soil stabilization treatments following a wildfire. National mosaics compiling SBS classification products from individual BAER assessments are prepared on an annual basis. This SBS dataset is a compilation of final burn severity data products created by USDA Forest Service BAER teams from 2017 through the most recent completed fire year. It is a thematic raster dataset with four burn severity classes: unburned to very low, low, moderate, and high. The spatial resolution is variable based on the imagery used to create the initial BARC product and subsequent processing by the BAER teams. Datasets are typically 30m for Landsat assessments and 20m for Sentinel-2 assessments.
Name: Fire_Aviation/USFS_EDW_BAER_SoilBurnSeverityClassification
Description:
Single Fused Map Cache: false
Extent:
XMin: -1.3855862153521225E7
YMin: 3690368.857145158
XMax: -8561489.353521224
YMax: 6450620.457145158
Spatial Reference: 102100
(3857)
LatestVCSWkid(0)
Initial Extent:
XMin: -1.3855862153521225E7
YMin: 3690368.857145158
XMax: -8561489.353521224
YMax: 6450620.457145158
Spatial Reference: 102100
(3857)
LatestVCSWkid(0)
Full Extent:
XMin: -1.3855862153521225E7
YMin: 3690368.857145158
XMax: -8561489.353521224
YMax: 6450620.457145158
Spatial Reference: 102100
(3857)
LatestVCSWkid(0)
Time Info:
Start Time Field: beginyear
End Time Field: endyear
Time Extent:
[2017/01/01 00:00:00 UTC, 2026/01/01 00:00:00 UTC]
Time Reference:
N/A
Pixel Size X: 7.600000000000001
Pixel Size Y: 7.6000000000000005
Band Count: 1
Pixel Type: U4
RasterFunction Infos: {"rasterFunctionInfos": [
{
"help": "",
"name": "BAER SBS 2025",
"description": "BAER Soil Burn Severity 2025 (5 classes)"
},
{
"help": "",
"name": "None",
"description": "Make a Raster or Raster Dataset into a Function Raster Dataset."
}
]}
Mensuration Capabilities: Basic
Inspection Capabilities:
Has Histograms: false
Has Colormap: false
Has Multi Dimensions : false
Rendering Rule:
Min Scale: 0
Max Scale: 0
Copyright Text: BAER Imagery Support Program: SM.FS.BAERImagery@usda.gov
Service Data Type: esriImageServiceDataTypeGeneric
Min Values: N/A
Max Values: N/A
Mean Values: N/A
Standard Deviation Values: N/A
Object ID Field: objectid
Fields:
-
objectid
(
alias: objectid
, type: esriFieldTypeOID
)
-
name
(
length: 200
, alias: name
, type: esriFieldTypeString
)
-
minps
(
alias: minps
, type: esriFieldTypeDouble
)
-
maxps
(
alias: maxps
, type: esriFieldTypeDouble
)
-
lowps
(
alias: lowps
, type: esriFieldTypeDouble
)
-
highps
(
alias: highps
, type: esriFieldTypeDouble
)
-
category
(
alias: category
, type: esriFieldTypeInteger
, Coded Values:
[0: Unknown]
, [1: Primary]
, [2: Overview]
, ...6 more...
)
-
zorder
(
alias: zorder
, type: esriFieldTypeInteger
)
-
shape
(
alias: shape
, type: esriFieldTypeGeometry
)
-
beginyear
(
alias: beginyear
, type: esriFieldTypeSmallInteger
)
-
endyear
(
alias: endyear
, type: esriFieldTypeSmallInteger
)
Default Mosaic Method: Northwest
Allowed Mosaic Methods: NorthWest,Center,LockRaster,ByAttribute,Nadir,Viewpoint,Seamline,None
SortField:
SortValue: N/A
Mosaic Operator: First
Default Compression Quality: 75
Default Resampling Method: Nearest
Max Record Count: 1000
Max Image Height: 100000
Max Image Width: 100000
Max Download Image Count: 20
Max Mosaic Image Count: 500
Allow Raster Function: true
Allow Copy: true
Allow Analysis: true
Allow Compute TiePoints: false
Supports Statistics: true
Supports Advanced Queries: true
Use StandardizedQueries: true
Raster Type Infos:
Name: Raster Dataset
Description: Supports all ArcGIS Raster Datasets
Help:
Has Raster Attribute Table: false
Edit Fields Info: N/A
Ownership Based AccessControl For Rasters: N/A
Child Resources:
Info
Statistics
Key Properties
Legend
Raster Function Infos
Supported Operations:
Export Image
Query
Identify
Measure
Compute Histograms
Compute Statistics Histograms
Get Samples
Compute Class Statistics
Query GPS Info
Find Images
Image to Map
Map to Image
Measure from Image
Image to Map Multiray
Query Boundary
Compute Pixel Location
Compute Angles
Validate
Project