View In:
ArcGIS JavaScript
ArcGIS Enterprise Map Viewer
ArcGIS Earth
Service Description: This dataset summarizes the plot-based area estimates for Mature and Old Growth produced by the Forest Inventory Analysis for the Mature and Old Growth Forest inventory to Firesheds.
The Fireshed Registry is a geospatial dashboard and decision tool built to organize information about wildfire transmission to communities and monitor progress towards risk reduction for communities from management investments. The concept behind the Fireshed Registry is to identify and map the source of risk rather than what is at risk across all lands in the continental US. While the Fireshed Registry was organized around mapping the source of fire risk to communities, the framework does not preclude the assessment of other resource management priorities and trends such as water, fish and aquatic or wildlife habitat, or recreation. The Fireshed Registry is also a multi-scale decision tool for quantifying, prioritizing, and geospatially displaying wildfire transmission to buildings in adjacent or nearby communities.
Fireshed areas in the Fireshed Registry are approximately 250,000 acre accounting units that are delineated based on a smoothed building exposure map of the continental United States. This size was chosen to contain most (> 99%) of the large fires, with fire sizes generally smaller than 250,000 acres, although the largest extreme event fires can span multiple firesheds.These boundaries were created by dividing up the landscape into regular-sized units that represent similar source levels of community exposure to wildfire risk. Project areas are approximately 25,000 acre accounting units nested within firesheds.
This dataset additionally contains information from the EcoMap Provinces dataset, elevation data from 3DEP, and estimates of mature and old growth forest area derived from BIGMAP imputations.
Spatial Extent: NFS and BLM lands
Units: Categorical estimates of low, intermediate, or high amount of old growth forests, mature forests, and a combination. The estimates are expressed in relative (not percentages) terms.
Name: Fire_Aviation/USFS_CRV_Fireshed_MatureAndOldGrowthAreaFederalLandsOnly
Description:
Single Fused Map Cache: false
Extent:
XMin: -1.76167868509E7
YMin: 2754612.1093000025
XMax: -6379026.850900002
YMax: 1.0039812109300002E7
Spatial Reference: 102100
(3857)
LatestVCSWkid(0)
Initial Extent:
XMin: -1.76167868509E7
YMin: 2754612.1093000025
XMax: -6379026.850900002
YMax: 1.0039812109300002E7
Spatial Reference: 102100
(3857)
LatestVCSWkid(0)
Full Extent:
XMin: -1.76167868509E7
YMin: 2754612.1093000025
XMax: -6379026.850900002
YMax: 1.0039812109300002E7
Spatial Reference: 102100
(3857)
LatestVCSWkid(0)
Pixel Size X: 240.0
Pixel Size Y: 240.0
Band Count: 1
Pixel Type: U4
RasterFunction Infos: {"rasterFunctionInfos": [
{
"help": "",
"name": "RFT_CRV_Fireshed_MatureAndOldGrowthArea",
"description": "RFT_CRV_Fireshed_MatureAndOldGrowthArea"
},
{
"help": "",
"name": "None",
"description": "Make a Raster or Raster Dataset into a Function Raster Dataset."
}
]}
Mensuration Capabilities: Basic
Inspection Capabilities:
Has Histograms: true
Has Colormap: false
Has Multi Dimensions : false
Rendering Rule:
Min Scale: 0
Max Scale: 0
Copyright Text: USDA; Forest Service;
Service Data Type: esriImageServiceDataTypeThematic
Min Values: 1
Max Values: 15
Mean Values: 10.525132657728676
Standard Deviation Values: 5.903206690619025
Object ID Field: objectid
Fields:
-
objectid
(
alias: objectid
, type: esriFieldTypeOID
)
-
name
(
length: 200
, alias: name
, type: esriFieldTypeString
)
-
minps
(
alias: minps
, type: esriFieldTypeDouble
)
-
maxps
(
alias: maxps
, type: esriFieldTypeDouble
)
-
lowps
(
alias: lowps
, type: esriFieldTypeDouble
)
-
highps
(
alias: highps
, type: esriFieldTypeDouble
)
-
category
(
alias: category
, type: esriFieldTypeInteger
, Coded Values:
[0: Unknown]
, [1: Primary]
, [2: Overview]
, ...6 more...
)
-
tag
(
length: 100
, alias: tag
, type: esriFieldTypeString
)
-
groupname
(
length: 100
, alias: groupname
, type: esriFieldTypeString
)
-
productname
(
length: 100
, alias: productname
, type: esriFieldTypeString
)
-
centerx
(
alias: centerx
, type: esriFieldTypeDouble
)
-
centery
(
alias: centery
, type: esriFieldTypeDouble
)
-
zorder
(
alias: zorder
, type: esriFieldTypeInteger
)
-
shape
(
alias: shape
, type: esriFieldTypeGeometry
)
Default Mosaic Method: Northwest
Allowed Mosaic Methods: NorthWest,Center,LockRaster,ByAttribute,Nadir,Viewpoint,Seamline,None
SortField:
SortValue: N/A
Mosaic Operator: First
Default Compression Quality: 75
Default Resampling Method: Nearest
Max Record Count: 1000
Max Image Height: 100000
Max Image Width: 100000
Max Download Image Count: 20
Max Mosaic Image Count: 100
Allow Raster Function: true
Allow Copy: true
Allow Analysis: true
Allow Compute TiePoints: false
Supports Statistics: true
Supports Advanced Queries: true
Use StandardizedQueries: true
Raster Type Infos:
Name: Raster Dataset
Description: Supports all ArcGIS Raster Datasets
Help:
Has Raster Attribute Table: false
Edit Fields Info: N/A
Ownership Based AccessControl For Rasters: N/A
Child Resources:
Info
Histograms
Statistics
Key Properties
Legend
Raster Function Infos
Supported Operations:
Export Image
Query
Identify
Measure
Compute Histograms
Compute Statistics Histograms
Get Samples
Compute Class Statistics
Query GPS Info
Find Images
Image to Map
Map to Image
Measure from Image
Image to Map Multiray
Query Boundary
Compute Pixel Location
Compute Angles
Validate
Project