View In:
ArcGIS JavaScript
ArcGIS Enterprise Map Viewer
ArcGIS Earth
Service Description: Direct Download (Raster Data Gateway)
Objective: Assess impacts to vegetation from chronic exposure to ozone (O3) during the growing season (April to September).
Data: Two exposure indices were calculated from hourly O3 data collected by the EPA to track effects from chronic O3 exposure (W126 index) and acute O3 exposure (N100). The W126 index is a weighted measure of chronic (lower level) ozone exposure with an explanation of its daily, monthly, annual, and multi-year average values is available here. For both indices, hourly data was used to calculate monthly values. Monitoring sites were only included if at least 75% of the hourly observations were available, and monthly values were corrected to account for any missing data following the procedures of Lefohn, Knudsen, and Shadwick (2011). Corrected monthly values were totaled across the growing season to generate an annual value. Annual values were averaged over the most recently available 3 year period to generate a value for each site. Site values were then interpolated using inverse distance weighting to attribute values to landscapes within 40 km of a monitoring site. There is typically a 1 year lag between the TCA assessment year and the most recently available for instance, for the 2024 TCA Assessment, ozone data from 2021-2023 were used to compute the 3-year average.
Data Format: Point (site data) interpolated through inverse distance weighting and filtered to areas only within 40 km of an O3 monitor.
Units: W126 is expressed in parts per million of O3-hours or ppm-hours
Spatial Resolution: 1000m (1km)
Source data: EPA Hourly Ozone data
Additional Resources:
Details on Method Changes and Source Data Versions
Overview of the Terrestrial Condition Assessment: TCA Hubsite or Landfire Office Hour Presentation
Explore the results of the most recent assessment: TCA Interactive Data Viewer
Learn more about the TCA KPI: TCA Dashboard
*if you have trouble viewing the Dashboard, please submit a Tableau Viewer Access Request
Name: Ecosystems/USFS_EDW_TCA_OzoneChronic
Description:
Single Fused Map Cache: false
Extent:
XMin: -1.7948213279600002E7
YMin: 1954411.463200003
XMax: -6965213.279600002
YMax: 9842411.463200003
Spatial Reference: 102100
(3857)
LatestVCSWkid(0)
Initial Extent:
XMin: -1.7948213279600002E7
YMin: 1954411.463200003
XMax: -6965213.279600002
YMax: 9842411.463200003
Spatial Reference: 102100
(3857)
LatestVCSWkid(0)
Full Extent:
XMin: -1.7948213279600002E7
YMin: 1954411.463200003
XMax: -6965213.279600002
YMax: 9842411.463200003
Spatial Reference: 102100
(3857)
LatestVCSWkid(0)
Time Info:
Start Time Field: StdTime
End Time Field: StdTime
Time Extent:
[2020/01/01 00:00:00 UTC, 2025/01/01 00:00:00 UTC]
Time Reference:
N/A
Pixel Size X: 1000.0
Pixel Size Y: 1000.0
Band Count: 1
Pixel Type: F32
RasterFunction Infos: {"rasterFunctionInfos": [
{
"help": "",
"name": "None",
"description": "Make a Raster or Raster Dataset into a Function Raster Dataset."
},
{
"help": "",
"name": "Ozone chronic exposure",
"description": "A raster function template."
}
]}
Mensuration Capabilities: Basic
Inspection Capabilities:
Has Histograms: true
Has Colormap: false
Has Multi Dimensions : true
Rendering Rule:
Min Scale: 0
Max Scale: 0
Copyright Text: Lefohn, Knudsen, and Shadwick (2011, https://webcam.srs.fs.usda.gov/ozone/spatial/2010/contractor_2010.pdf); https://www.epa.gov/sites/default/files/2015-09/documents/w126_steps_to_calculate_revised_feb19.pdf
Service Data Type: esriImageServiceDataTypeScientific
Min Values: 0.35758540034294128
Max Values: 100.82009124755859
Mean Values: 13.042900505893224
Standard Deviation Values: 10.583762665623896
Object ID Field: objectid
Fields:
-
objectid
(
alias: objectid
, type: esriFieldTypeOID
)
-
name
(
length: 200
, alias: name
, type: esriFieldTypeString
)
-
minps
(
alias: minps
, type: esriFieldTypeDouble
)
-
maxps
(
alias: maxps
, type: esriFieldTypeDouble
)
-
lowps
(
alias: lowps
, type: esriFieldTypeDouble
)
-
highps
(
alias: highps
, type: esriFieldTypeDouble
)
-
category
(
alias: category
, type: esriFieldTypeInteger
, Coded Values:
[0: Unknown]
, [1: Primary]
, [2: Overview]
, ...6 more...
)
-
shape
(
alias: shape
, type: esriFieldTypeGeometry
)
-
metric
(
length: 24
, alias: metric
, type: esriFieldTypeString
)
-
year
(
length: 8
, alias: year
, type: esriFieldTypeDate
)
-
stdtime
(
length: 8
, alias: Standard Time
, type: esriFieldTypeDate
)
-
dimensions
(
length: 50
, alias: Dimensions
, type: esriFieldTypeString
)
-
variable
(
length: 50
, alias: Variable
, type: esriFieldTypeString
)
Default Mosaic Method: ByAttribute
Allowed Mosaic Methods: ByAttribute,NorthWest,Center,LockRaster,Nadir,Viewpoint,Seamline,None
SortField: StdTime
SortValue: 0
Mosaic Operator: First
Default Compression Quality: 75
Default Resampling Method: Bilinear
Max Record Count: 1000
Max Image Height: 100000
Max Image Width: 100000
Max Download Image Count: 20
Max Mosaic Image Count: 20
Allow Raster Function: true
Allow Copy: true
Allow Analysis: true
Allow Compute TiePoints: false
Supports Statistics: true
Supports Advanced Queries: true
Use StandardizedQueries: true
Raster Type Infos:
Name: Raster Dataset
Description: Supports all ArcGIS Raster Datasets
Help:
Has Raster Attribute Table: false
Edit Fields Info: N/A
Ownership Based AccessControl For Rasters: N/A
Child Resources:
Info
Histograms
Statistics
Key Properties
Legend
Raster Function Infos
Multidimensional Info
Slices
Supported Operations:
Export Image
Query
Identify
Measure
Compute Histograms
Compute Statistics Histograms
Get Samples
Compute Class Statistics
Query GPS Info
Find Images
Image to Map
Map to Image
Measure from Image
Image to Map Multiray
Query Boundary
Compute Pixel Location
Compute Angles
Validate
Project