View In:
ArcGIS JavaScript
ArcGIS Enterprise Map Viewer
ArcGIS Earth
Service Description: Direct Download (Raster Data Gateway)
Objective: Identify ecosystems that have a significant proportion of their area burning less frequently than what occurred under historic fire regimes. Often, missed fire cycles were due to human factors, principally fire suppression since early in the 20th Century.
Data: The area of a landscape with a deficient fire frequency was estimated by comparing observed fire frequencies to historical mean fire return intervals. Observed fire frequencies were calculated by determining the frequency of fire for each pixel based on raster data of observed fires from the Monitoring Trends in Burn Severity (MTBS) project. Areas in the unburned to low severity class were removed from this analysis. The ratio of observed to historical fire frequencies (as determined by Landfire MFRI) was used to determine pixels that are burning less frequently than expected. These pixels were then used to determine the percent area of the landscape deficient in fire. For areas with fire return intervals longer than the remote sensing record, the history of effective fire suppression was used to assume not enough fire occurred back to the implementation of widespread suppression starting in the 1920s through 1930s with policies such as the 10 AM rule. Prior to the 1920s, it is assumed fire return intervals were closer to the historic range of variation, although likely reduced due to the constrained role of Indigenous stewardship. Areas highly modified by anthropogenic activities (i.e., those with developed landcovers or agricultural landcovers of pasture and crop cultivation) and areas with a landcover that does not typically burn (i.e., barren or ice) were not included in the calculation. There is a 2 year lag between the most recent MTBS data and the TCA Assessment year (i.e. in the 2024 TCA Assessment, available MTBS data were from 1984-2022). To reduce this lag to 1 year, we compute the Composite Burn Index (CBI) for the year prior to the current assessment year using fire perimeters from National Interagency Fire Center (NIFC) with methods adapted from Parks et al. 2019. The CBI methods were added for the 2022 assessment. Landfire versions used for MFRI and the associated TCA Assessment are: Landfire 2014 (TCA Assessment 2020), Landfire 2016 (TCA Assessments 2021 and 2022) and Landfire 2020 (TCA Assessments 2023, 2024, and 2025).
Format: Raster data are ordinal: (1) Deficient (2) Sufficient (3) Excessive.
Resolution: 90m (2023, 2024, and 2025 assessments), 30m (2020-2022 assessments).
Source: MTBS fire perimeters, expected fire return interval , CBI methods, National Interagency Fire Center Perimeters (for CBI)
Additional Resources:
Details on Method Changes and Source Data Versions
Overview of the Terrestrial Condition Assessment: TCA Hubsite or Landfire Office Hour Presentation
Explore the results of the most recent assessment: TCA Interactive Data Viewer
Learn more about the TCA KPI: TCA Dashboard
*if you have trouble viewing the Dashboard, please submit a Tableau Viewer Access Request
Name: Ecosystems/USFS_EDW_TCA_FireDeficit
Description:
Single Fused Map Cache: false
Extent:
XMin: -1.58581829754E7
YMin: 1963290.6745000035
XMax: -5572802.975400001
YMax: 7574490.674500003
Spatial Reference: 102100
(3857)
LatestVCSWkid(0)
Initial Extent:
XMin: -1.58581829754E7
YMin: 1963290.6745000035
XMax: -5572802.975400001
YMax: 7574490.674500003
Spatial Reference: 102100
(3857)
LatestVCSWkid(0)
Full Extent:
XMin: -1.58581829754E7
YMin: 1963290.6745000035
XMax: -5572802.975400001
YMax: 7574490.674500003
Spatial Reference: 102100
(3857)
LatestVCSWkid(0)
Time Info:
Start Time Field: StdTime
End Time Field: StdTime
Time Extent:
[2020/01/01 00:00:00 UTC, 2025/01/01 00:00:00 UTC]
Time Reference:
N/A
Pixel Size X: 30.0
Pixel Size Y: 30.0
Band Count: 1
Pixel Type: U4
RasterFunction Infos: {"rasterFunctionInfos": [
{
"help": "",
"name": "Fire Deficit Categories",
"description": "TCA Ind 10 Fire Deficit Categories"
},
{
"help": "",
"name": "None",
"description": "Make a Raster or Raster Dataset into a Function Raster Dataset."
},
{
"help": "",
"name": "Fire Deficit",
"description": "A raster function template."
}
]}
Mensuration Capabilities: Basic
Inspection Capabilities:
Has Histograms: true
Has Colormap: false
Has Multi Dimensions : true
Rendering Rule:
Min Scale: 0
Max Scale: 0
Copyright Text: Parks et al. 2019 (https://www.mdpi.com/2072-4292/11/14/1735); NIFC (https://data-nifc.opendata.arcgis.com/datasets/nifc::wfigs-interagency-fire-perimeters/about); https://mtbs.gov/; https://www.landfire.gov/; USDA - GEO; USDA - USFS – GO
Service Data Type: esriImageServiceDataTypeGeneric
Min Values: 1
Max Values: 3
Mean Values: 1.3201163594816525
Standard Deviation Values: 0.49168024797245319
Object ID Field: objectid
Fields:
-
objectid
(
alias: objectid
, type: esriFieldTypeOID
)
-
name
(
length: 200
, alias: name
, type: esriFieldTypeString
)
-
minps
(
alias: minps
, type: esriFieldTypeDouble
)
-
maxps
(
alias: maxps
, type: esriFieldTypeDouble
)
-
lowps
(
alias: lowps
, type: esriFieldTypeDouble
)
-
highps
(
alias: highps
, type: esriFieldTypeDouble
)
-
category
(
alias: category
, type: esriFieldTypeInteger
, Coded Values:
[0: Unknown]
, [1: Primary]
, [2: Overview]
, ...6 more...
)
-
shape
(
alias: shape
, type: esriFieldTypeGeometry
)
-
condition
(
length: 24
, alias: condition
, type: esriFieldTypeString
)
-
year
(
length: 8
, alias: year
, type: esriFieldTypeDate
)
-
stdtime
(
length: 8
, alias: Standard Time
, type: esriFieldTypeDate
)
-
dimensions
(
length: 50
, alias: Dimensions
, type: esriFieldTypeString
)
-
variable
(
length: 50
, alias: Variable
, type: esriFieldTypeString
)
Default Mosaic Method: ByAttribute
Allowed Mosaic Methods: ByAttribute,NorthWest,Center,LockRaster,Nadir,Viewpoint,Seamline,None
SortField: StdTime
SortValue: 0
Mosaic Operator: First
Default Compression Quality: 75
Default Resampling Method: Nearest
Max Record Count: 1000
Max Image Height: 100000
Max Image Width: 100000
Max Download Image Count: 20
Max Mosaic Image Count: 20
Allow Raster Function: true
Allow Copy: true
Allow Analysis: true
Allow Compute TiePoints: false
Supports Statistics: true
Supports Advanced Queries: true
Use StandardizedQueries: true
Raster Type Infos:
Name: Raster Dataset
Description: Supports all ArcGIS Raster Datasets
Help:
Has Raster Attribute Table: false
Edit Fields Info: N/A
Ownership Based AccessControl For Rasters: N/A
Child Resources:
Info
Histograms
Statistics
Key Properties
Legend
Raster Function Infos
Multidimensional Info
Slices
Supported Operations:
Export Image
Query
Identify
Measure
Compute Histograms
Compute Statistics Histograms
Get Samples
Compute Class Statistics
Query GPS Info
Find Images
Image to Map
Map to Image
Measure from Image
Image to Map Multiray
Query Boundary
Compute Pixel Location
Compute Angles
Validate
Project