Gridded coverages based on PRISM climate data were used to calculate departure of mean temperature and total precipitation for winter, spring, summer, and fall seasons for the recent 5-year period (2018-2022) as compared with previous years (1900-2017) in the historical record. Data were summarized at the Subsection scale of the USFS National Hierarchy of Ecological Units and applied to the corresponding landscape (LTA).
Name: Ecosystems/USFS_EDW_TCA_ClimateExposurePrecipitation
Description: Direct Download (Raster Data Gateway)
Objective: Characterize climate departures for the most recent 5 years as compared with the historical record, identifying locations where recent conditions indicate a significant change from the historical baseline.
Data: Gridded coverages based on PRISM climate data were used to calculate departure of precipitation in winter (Dec. – Feb.), spring (Mar. – May), summer (Jun. – Aug.), and fall (Sep. – Nov.) for the recent 5-year period as compared with previous years in the historical record. Data were summarized at the Subsection scale of the USFS National Hierarchy of Ecological Units and applied to the corresponding landscape (LTA). There is a one-year lag between the most recent available PRISM data and the TCA Assessment year, for example, the 2024 TCA Assessment used 2019-2023 data for the most recent time period, and 1900-2018 data for the historical baseline.
Data Format: Raster data are continuous;
Units: Inches
Spatial Resolution: 4000m (4km)
Source data: PRISM
Additional Resources:
Details on Method Changes and Source Data Versions
Overview of the Terrestrial Condition Assessment: TCA Hubsite or Landfire Office Hour Presentation
Explore the results of the most recent assessment: TCA Interactive Data Viewer
Learn more about the TCA KPI: TCA Dashboard
*if you have trouble viewing the Dashboard, please submit a Tableau Viewer Access Request
Single Fused Map Cache: false
Extent:
XMin: -1.5130348178399999E7
YMin: 2262629.969499998
XMax: -6174348.178399999
YMax: 6982629.969499998
Spatial Reference: 102100
(3857)
LatestVCSWkid(0)
Initial Extent:
XMin: -1.5130348178399999E7
YMin: 2262629.969499998
XMax: -6174348.178399999
YMax: 6982629.969499998
Spatial Reference: 102100
(3857)
LatestVCSWkid(0)
Full Extent:
XMin: -1.5130348178399999E7
YMin: 2262629.969499998
XMax: -6174348.178399999
YMax: 6982629.969499998
Spatial Reference: 102100
(3857)
LatestVCSWkid(0)
Time Info:
Start Time Field: beginyear
End Time Field: endyear
Time Extent:
[2020/01/01 00:00:00 UTC, 2025/01/01 00:00:00 UTC]
Time Reference:
N/A
Pixel Size X: 4000.0
Pixel Size Y: 4000.0
Band Count: 1
Pixel Type: F32
RasterFunction Infos: {"rasterFunctionInfos": [
{
"help": "",
"name": "None",
"description": "Make a Raster or Raster Dataset into a Function Raster Dataset."
},
{
"help": "",
"name": "Fall",
"description": "A raster function template."
},
{
"help": "",
"name": "Spring",
"description": "A raster function template."
},
{
"help": "",
"name": "Summer",
"description": "A raster function template."
},
{
"help": "",
"name": "Winter",
"description": "A raster function template."
}
]}
Mensuration Capabilities: Basic
Inspection Capabilities:
Has Histograms: true
Has Colormap: false
Has Multi Dimensions : true
Rendering Rule:
Min Scale: 0
Max Scale: 0
Copyright Text: USDA - GEO; USDA - USFS – Geospatial Office (GO)
Service Data Type: esriImageServiceDataTypeScientific
Min Values: -17.661849975585938
Max Values: 13.077802658081055
Mean Values: 0.65286657826322514
Standard Deviation Values: 1.6018511641043984
Object ID Field: objectid
Fields:
-
objectid
(
alias: objectid
, type: esriFieldTypeOID
)
-
name
(
length: 200
, alias: name
, type: esriFieldTypeString
)
-
minps
(
alias: minps
, type: esriFieldTypeDouble
)
-
maxps
(
alias: maxps
, type: esriFieldTypeDouble
)
-
lowps
(
alias: lowps
, type: esriFieldTypeDouble
)
-
highps
(
alias: highps
, type: esriFieldTypeDouble
)
-
category
(
alias: category
, type: esriFieldTypeInteger
, Coded Values:
[0: Unknown]
, [1: Primary]
, [2: Overview]
, ...6 more...
)
-
shape
(
alias: shape
, type: esriFieldTypeGeometry
)
-
year
(
length: 8
, alias: year
, type: esriFieldTypeDate
)
-
season
(
length: 12
, alias: season
, type: esriFieldTypeString
)
-
stdtime
(
length: 8
, alias: Standard Time
, type: esriFieldTypeDate
)
-
dimensions
(
length: 50
, alias: Dimensions
, type: esriFieldTypeString
)
-
variable
(
length: 50
, alias: Variable
, type: esriFieldTypeString
)
Default Mosaic Method: ByAttribute
Allowed Mosaic Methods: ByAttribute,NorthWest,Center,LockRaster,Nadir,Viewpoint,Seamline,None
SortField: StdTime
SortValue: 0
Mosaic Operator: First
Default Compression Quality: 75
Default Resampling Method: Bilinear
Max Record Count: 1000
Max Image Height: 100000
Max Image Width: 100000
Max Download Image Count: 20
Max Mosaic Image Count: 20
Allow Raster Function: true
Allow Copy: true
Allow Analysis: true
Allow Compute TiePoints: false
Supports Statistics: true
Supports Advanced Queries: true
Use StandardizedQueries: true
Raster Type Infos:
Name: Raster Dataset
Description: Supports all ArcGIS Raster Datasets
Help:
Has Raster Attribute Table: false
Edit Fields Info: N/A
Ownership Based AccessControl For Rasters: N/A
Child Resources:
Info
Histograms
Statistics
Key Properties
Legend
Raster Function Infos
Multidimensional Info
Slices
Supported Operations:
Export Image
Query
Identify
Measure
Compute Histograms
Compute Statistics Histograms
Get Samples
Compute Class Statistics
Query GPS Info
Find Images
Image to Map
Map to Image
Measure from Image
Image to Map Multiray
Query Boundary
Compute Pixel Location
Compute Angles
Validate
Project