View In:
ArcGIS JavaScript
ArcGIS Enterprise Map Viewer
ArcGIS Earth
Service Description: With the Food, Conservation, and Energy Act of 2008 (the 2008 Farm Bill), Congress tasked states and territories to craft assessments of the forests within their boundaries and develop strategies to address threats and forest management opportunities. Now known as Forest Action Plans, these assessments and strategies provide an analysis of forest conditions and trends in the state and delineate priority forest landscape areas. They offer long-term plans for investing state, federal, and other resources where they can be most effective in achieving national conservation goals by addressing the State and Private Forestry (SPF) national priorities and objectives: 1) Conserve working forest lands, 2) Protect forests from harm, and 3) Enhance public benefits from trees and forests. Administered by the US Forest Service and implemented by State forestry agencies, the SPF Forest Stewardship Program encourages private forest landowners to manage their lands using professionally prepared Forest Stewardship plans. Participation in the Forest Stewardship Program requires that states and territories submit a raster dataset of priority areas specific to the Program - aligned with priority landscapes identified in Forest Action Plans - called Forest Stewardship Priority Areas, where they will focus their Program delivery efforts. Program performance measures include acres covered by active Forest Stewardship plans that are within Forest Stewardship Priority Areas
State and territory Forest Stewardship Priority Areas data set submissions are valid for up to 10 (ten) years, but must be reviewed every 5 years and may be updated as frequently as annually.
Name: Administrative_Boundaries/USFS_EDW_ForestStewardshipPriorityAreas_1_4
Description:
Single Fused Map Cache: false
Extent:
XMin: -2.0037504862034E7
YMin: -1640573.9190734793
XMax: 1.9952505137966E7
YMax: 1.357863608092652E7
Spatial Reference: 102100
(3857)
LatestVCSWkid(0)
Initial Extent:
XMin: -2.0037504862034E7
YMin: -1640573.9190734793
XMax: 1.9952505137966E7
YMax: 1.357863608092652E7
Spatial Reference: 102100
(3857)
LatestVCSWkid(0)
Full Extent:
XMin: -2.0037504862034E7
YMin: -1640573.9190734793
XMax: 1.9952505137966E7
YMax: 1.357863608092652E7
Spatial Reference: 102100
(3857)
LatestVCSWkid(0)
Pixel Size X: 10.0
Pixel Size Y: 10.0
Band Count: 1
Pixel Type: U8
RasterFunction Infos: {"rasterFunctionInfos": [
{
"help": "",
"name": "ForestStewardshipPriorityAreas",
"description": "ForestStewardshipPriorityAreas attribute table"
},
{
"help": "",
"name": "None",
"description": "Make a Raster or Raster Dataset into a Function Raster Dataset."
}
]}
Mensuration Capabilities: Basic
Inspection Capabilities:
Has Histograms: true
Has Colormap: false
Has Multi Dimensions : false
Rendering Rule:
Min Scale: 0
Max Scale: 0
Copyright Text: USDA - GEO; USDA - USFS – GTAC
Service Data Type: esriImageServiceDataTypeGeneric
Min Values: 0
Max Values: 1
Mean Values: 0.0064433478052867005
Standard Deviation Values: 0.080011443673843677
Object ID Field: objectid
Fields:
-
objectid
(
alias: objectid
, type: esriFieldTypeOID
)
-
name
(
length: 200
, alias: name
, type: esriFieldTypeString
)
-
minps
(
alias: minps
, type: esriFieldTypeDouble
)
-
maxps
(
alias: maxps
, type: esriFieldTypeDouble
)
-
lowps
(
alias: lowps
, type: esriFieldTypeDouble
)
-
highps
(
alias: highps
, type: esriFieldTypeDouble
)
-
category
(
alias: category
, type: esriFieldTypeInteger
, Coded Values:
[0: Unknown]
, [1: Primary]
, [2: Overview]
, ...6 more...
)
-
tag
(
length: 100
, alias: tag
, type: esriFieldTypeString
)
-
groupname
(
length: 100
, alias: groupname
, type: esriFieldTypeString
)
-
productname
(
length: 100
, alias: productname
, type: esriFieldTypeString
)
-
centerx
(
alias: centerx
, type: esriFieldTypeDouble
)
-
centery
(
alias: centery
, type: esriFieldTypeDouble
)
-
zorder
(
alias: zorder
, type: esriFieldTypeInteger
)
-
shape
(
alias: shape
, type: esriFieldTypeGeometry
)
Default Mosaic Method: Northwest
Allowed Mosaic Methods: NorthWest,Center,LockRaster,ByAttribute,Nadir,Viewpoint,Seamline,None
SortField:
SortValue: N/A
Mosaic Operator: First
Default Compression Quality: 75
Default Resampling Method: Nearest
Max Record Count: 1000
Max Image Height: 100000
Max Image Width: 100000
Max Download Image Count: 20
Max Mosaic Image Count: 20
Allow Raster Function: true
Allow Copy: true
Allow Analysis: true
Allow Compute TiePoints: false
Supports Statistics: true
Supports Advanced Queries: true
Use StandardizedQueries: true
Raster Type Infos:
Name: Raster Dataset
Description: Supports all ArcGIS Raster Datasets
Help:
Has Raster Attribute Table: false
Edit Fields Info: N/A
Ownership Based AccessControl For Rasters: N/A
Child Resources:
Info
Histograms
Statistics
Key Properties
Legend
Raster Function Infos
Supported Operations:
Export Image
Query
Identify
Measure
Compute Histograms
Compute Statistics Histograms
Get Samples
Compute Class Statistics
Query GPS Info
Find Images
Image to Map
Map to Image
Measure from Image
Image to Map Multiray
Query Boundary
Compute Pixel Location
Compute Angles
Validate
Project