{
 "extent": {
  "ymin": 2401774.5449264226,
  "xmin": -15018487.112500001,
  "ymax": 6867468.6235999987,
  "xmax": -6334157.1870627645,
  "spatialReference": {
   "latestWkid": 3857,
   "wkid": 102100
  }
 },
 "blockWidth": 2048,
 "mosaicOperator": "First",
 "serviceSourceType": "esriImageServiceSourceTypeMosaicDataset",
 "hasMultidimensions": false,
 "maxImageWidth": 100000,
 "maxRecordCount": 1000,
 "meanValues": [
  24.805423145681953
 ],
 "hasColormap": false,
 "compressionType": "None",
 "defaultCompressionQuality": 75,
 "maxValues": [
  2152.616516042096
 ],
 "hasHistograms": true,
 "datasetFormat": "AMD",
 "maxImageHeight": 100000,
 "sortField": "",
 "bandNames": [
  "Band_1"
 ],
 "spatialReference": {
  "latestWkid": 3857,
  "wkid": 102100
 },
 "fullExtent": {
  "ymin": 2401774.5449264226,
  "xmin": -15018487.112500001,
  "ymax": 6867468.6235999987,
  "xmax": -6334157.1870627645,
  "spatialReference": {
   "latestWkid": 3857,
   "wkid": 102100
  }
 },
 "bandCount": 1,
 "rasterFunctionInfos": [
  {
   "help": "",
   "name": "SWE",
   "description": "A raster function template."
  },
  {
   "help": "",
   "name": "None",
   "description": "Make a Raster or Raster Dataset into a Function Raster Dataset."
  }
 ],
 "supportsStatistics": true,
 "sortableFields": "minps,maxps,lowps,highps,centerx,centery,zorder,st_area(shape),st_perimeter(shape)",
 "minValues": [
  0
 ],
 "allowRasterFunction": true,
 "allowComputeTiePoints": false,
 "serviceDataType": "esriImageServiceDataTypeGeneric",
 "supportsAdvancedQueries": true,
 "maxDownloadSizeLimit": 2048,
 "currentVersion": 12,
 "sortValue": null,
 "objectIdField": "objectid",
 "blockHeight": 256,
 "initialExtent": {
  "ymin": 2401774.5449264226,
  "xmin": -15018487.112500001,
  "ymax": 6867468.6235999987,
  "xmax": -6334157.1870627645,
  "spatialReference": {
   "latestWkid": 3857,
   "wkid": 102100
  }
 },
 "pixelSizeX": 4661.4760737719998,
 "pixelSizeY": 4661.4760737719998,
 "defaultMosaicMethod": "Northwest",
 "name": "Weather_Climate/USFS_EDW_SnowWaterEquivApril1_2080",
 "allowedMosaicMethods": "NorthWest,Center,LockRaster,ByAttribute,Nadir,Viewpoint,Seamline,None",
 "maxDownloadImageCount": 20,
 "fields": [
  {
   "domain": null,
   "name": "objectid",
   "alias": "objectid",
   "type": "esriFieldTypeOID"
  },
  {
   "domain": null,
   "name": "name",
   "length": 200,
   "alias": "name",
   "type": "esriFieldTypeString"
  },
  {
   "domain": null,
   "name": "minps",
   "alias": "minps",
   "type": "esriFieldTypeDouble"
  },
  {
   "domain": null,
   "name": "maxps",
   "alias": "maxps",
   "type": "esriFieldTypeDouble"
  },
  {
   "domain": null,
   "name": "lowps",
   "alias": "lowps",
   "type": "esriFieldTypeDouble"
  },
  {
   "domain": null,
   "name": "highps",
   "alias": "highps",
   "type": "esriFieldTypeDouble"
  },
  {
   "domain": {
    "splitPolicy": "esriSPTDefaultValue",
    "name": "MosaicCatalogItemCategoryDomain",
    "description": "Catalog item categories.",
    "type": "codedValue",
    "codedValues": [
     {
      "code": 0,
      "name": "Unknown"
     },
     {
      "code": 1,
      "name": "Primary"
     },
     {
      "code": 2,
      "name": "Overview"
     },
     {
      "code": 3,
      "name": "Unprocessed Overview"
     },
     {
      "code": 4,
      "name": "Partial Overview"
     },
     {
      "code": 5,
      "name": "Inactive"
     },
     {
      "code": 253,
      "name": "Uploaded"
     },
     {
      "code": 254,
      "name": "Incomplete"
     },
     {
      "code": 255,
      "name": "Custom"
     }
    ],
    "mergePolicy": "esriMPTDefaultValue"
   },
   "name": "category",
   "alias": "category",
   "type": "esriFieldTypeInteger"
  },
  {
   "domain": null,
   "name": "tag",
   "length": 100,
   "alias": "tag",
   "type": "esriFieldTypeString"
  },
  {
   "domain": null,
   "name": "groupname",
   "length": 100,
   "alias": "groupname",
   "type": "esriFieldTypeString"
  },
  {
   "domain": null,
   "name": "productname",
   "length": 100,
   "alias": "productname",
   "type": "esriFieldTypeString"
  },
  {
   "domain": null,
   "name": "centerx",
   "alias": "centerx",
   "type": "esriFieldTypeDouble"
  },
  {
   "domain": null,
   "name": "centery",
   "alias": "centery",
   "type": "esriFieldTypeDouble"
  },
  {
   "domain": null,
   "name": "zorder",
   "alias": "zorder",
   "type": "esriFieldTypeInteger"
  },
  {
   "domain": null,
   "name": "shape",
   "alias": "shape",
   "type": "esriFieldTypeGeometry"
  }
 ],
 "allowAnalysis": true,
 "hasRasterAttributeTable": false,
 "useStandardizedQueries": true,
 "description": "",
 "pixelType": "F64",
 "meanPixelSize": 4661.4760737719998,
 "exportTilesAllowed": false,
 "editFieldsInfo": null,
 "rasterTypeInfos": [
  {
   "help": "",
   "name": "Raster Dataset",
   "description": "Supports all ArcGIS Raster Datasets"
  }
 ],
 "defaultResamplingMethod": "Nearest",
 "itemAccess": false,
 "minScale": 0,
 "serviceProperties": "NorthWest<\/MosaicMethod>First<\/MosaicOperator>true<\/SortAscending><\/LockImageID>name<\/TileOrderField>0<\/TileOrderBase>600.000000<\/AvgImageSpacingX>300.000000<\/AvgImageSpacingY>0.0<\/ViewPointX>0.0<\/ViewPointY>0.0<\/ViewPointDefShiftX>0.0<\/ViewPointDefShiftY>None<\/CompressionMethod>75<\/CompressionQuality>0.010000<\/CompressionTolerance>Nearest<\/SamplingMethod><\/ImageServiceProperties><\/ImageServer>",
 "advancedQueryCapabilities": {
  "supportsStatistics": true,
  "supportsSqlExpression": true,
  "supportsOrderBy": true,
  "useStandardizedQueries": true,
  "supportsPagination": true,
  "supportsDistinct": true
 },
 "serviceItemId": "8ad1194dfe394d4e86dfe63b388ca095",
 "capabilities": "Image,Metadata,Catalog,Mensuration",
 "maxScale": 0,
 "stdvValues": [
  84.108639505296509
 ],
 "allowedFields": "name,minps,maxps,lowps,highps,tag,groupname,productname,centerx,centery,zorder",
 "minPixelSize": 0,
 "noDataValues": [
  -1.7976900000000001E+308
 ],
 "sortAscending": true,
 "maxMosaicImageCount": 100,
 "inspectionCapabilities": "",
 "maxPixelSize": 0,
 "noDataValue": -1.7976900000000001E+308,
 "uncompressedSize": 14278032,
 "serviceDescription": " The April Snow Water Equivalent data were modeled using the spatial analog models of Luce et al. [https://agupubs.onlinelibrary.wiley.com/doi/full/10.1002/2013WR014844] (see also https://agupubs.onlinelibrary.wiley.com/doi/full/10.1002/2017WR020752). These models are built on precipitation and snow data from Snowpack Telemetry (SNOTEL) stations across the western United States and temperature data from 1975-2005. To simulate historical and future gridded snow, the models ingest gridded winter cumulative precipitation and winter average temperature (from the MACAv2-Metdata dataset). We used the MACAv2-metdata monthly precipitation and minimum and maximum temperature datasets for the period 2071-2090 (RCP8.5). Average temperature was calculated as the arithmetic mean of minimum and maximum temperature datasets. Average temperature was averaged over the winter months (November through March) and precipitation was summed over the winter months. More information on the project associated with this dataset is available from the U.S. Forest Service Rocky Mountain Research Station.",
 "allowCopy": true,
 "copyrightText": "U.S. Forest Service Rocky Mountain Research Station.",
 "mensurationCapabilities": "Basic",
 "ownershipBasedAccessControlForRasters": null
}
