The Moisture Deficit and Surplus map uses moisture difference z-score (MDZ) datasets developed by scientists Frank Koch, John Coulston, and William Smith of the Forest Service Southern Research Station to represent drought and moisture surplus across the contiguous United States. A z-score is a statistical method for assessing how different a value is from the mean. Mean moisture values over 1-year windows were derived from monthly historical precipitation and temperature data from PRISM, between 1900 and 2023, and compared against a 1900-2017 baseline. The greater the z-value, the larger the departure from average conditions, indicating larger moisture deficits (droughts) or surpluses. Thus, the dark orange areas on the map indicate a 1-year window with extreme drought, relative to the average conditions over the past century. For further reading on the methodology used to build these maps, see the publication here: https://www.fs.usda.gov/treesearch/pubs/43361Detailed technical methods for this analysis are available here: https://www.fs.usda.gov/treesearch/pubs/43361. This is derived from monthly PRISM temperature and precipitation data, located here: ftp://prism.nacse.org/monthly/. Monthly temperature data are used to calculate potential evapotranspiration (PET) using the Thornthwaite PET equation. Monthly precipitation and PET data are then used to calculate a moisture index (MI) for each month within a 1-year time window. The mean moisture index (MMI) across the months of the target window is compared to an appropriate long-term normal, in this case the average of the MMI for all windows between 1900 and 2017. Then, a moisture difference z-score (MDZ) is calculated from the MMI for the window of interest. This is done by subtracting the 1900-2017 normal MMI from the MMI for a given year, and then dividing by the standard deviation over the baseline period. Equations for calculating modified moisture index are adopted from Willmott, C.J. and Feddema, J.J. 1992. A more rational climatic moisture index. Professional Geographer 44(1): 84-87. The z-score values were then reclassified using the classification scheme below: z-score less than -2 -- extremely dry compared to normal conditions z-score -2 to -1.5 -- severely dry compared to normal conditions z-score -1.5 to -1 -- moderately dry compared to normal conditions z-score -1 to -0.5 - mildly dry compared to normal conditions z-score -0.5 to 0.5 -- near normal conditions z-score 0.5 to 1 -- mildly wet compared to normal conditions z-score 1 to 1.5 -- moderately wet compared to normal conditions z-score 1.5 to 2 -- severely wet compared to normal conditions z-score more than 2 -- extremely wet compared to normal conditions.
Name: Weather_Climate/USFS_EDW_Moisture_Difference_ZScore_5yr_multiYear
Description:
Single Fused Map Cache: false
Extent:
XMin: -1.39172572777E7
YMin: 2761917.521692192
XMax: -7400428.754124279
YMax: 6435460.7179000005
Spatial Reference: 102100
(3857)
LatestVCSWkid(0)
Initial Extent:
XMin: -1.39172572777E7
YMin: 2761917.521692192
XMax: -7400428.754124279
YMax: 6435460.7179000005
Spatial Reference: 102100
(3857)
LatestVCSWkid(0)
Full Extent:
XMin: -1.39172572777E7
YMin: 2761917.521692192
XMax: -7400428.754124279
YMax: 6435460.7179000005
Spatial Reference: 102100
(3857)
LatestVCSWkid(0)
Time Info:
Start Time Field: beginyear
End Time Field: endyear
Time Extent:
[1900/01/01 00:00:00 UTC, 2023/01/01 00:00:00 UTC]
Time Reference:
N/A
Pixel Size X: 4638.312116424
Pixel Size Y: 4638.312116424
Band Count: 1
Pixel Type: U8
RasterFunction Infos: {"rasterFunctionInfos": [
{
"help": "",
"name": "MDZ_color_table",
"description": "A raster function template."
},
{
"help": "",
"name": "None",
"description": "Make a Raster or Raster Dataset into a Function Raster Dataset."
}
]}
Mensuration Capabilities: None
Inspection Capabilities:
Has Histograms: true
Has Colormap: false
Has Multi Dimensions : false
Rendering Rule:
Min Scale: 0
Max Scale: 0
Copyright Text: USDA Forest Service Office of Sustainability and Climate; Southern Research Station;
Service Data Type: esriImageServiceDataTypeThematic
Min Values: 1
Max Values: 9
Mean Values: 5.0855951320725818
Standard Deviation Values: 1.3973813383398463
Object ID Field: objectid
Fields:
-
objectid
(
alias: objectid
, type: esriFieldTypeOID
)
-
name
(
length: 200
, alias: name
, type: esriFieldTypeString
)
-
minps
(
alias: minps
, type: esriFieldTypeDouble
)
-
maxps
(
alias: maxps
, type: esriFieldTypeDouble
)
-
lowps
(
alias: lowps
, type: esriFieldTypeDouble
)
-
highps
(
alias: highps
, type: esriFieldTypeDouble
)
-
category
(
alias: category
, type: esriFieldTypeInteger
, Coded Values:
[0: Unknown]
, [1: Primary]
, [2: Overview]
, ...6 more...
)
-
tag
(
length: 100
, alias: tag
, type: esriFieldTypeString
)
-
groupname
(
length: 100
, alias: groupname
, type: esriFieldTypeString
)
-
productname
(
length: 100
, alias: productname
, type: esriFieldTypeString
)
-
centerx
(
alias: centerx
, type: esriFieldTypeDouble
)
-
centery
(
alias: centery
, type: esriFieldTypeDouble
)
-
zorder
(
alias: zorder
, type: esriFieldTypeInteger
)
-
shape
(
alias: shape
, type: esriFieldTypeGeometry
)
-
beginyear
(
alias: beginyear
, type: esriFieldTypeSmallInteger
)
-
endyear
(
alias: endyear
, type: esriFieldTypeSmallInteger
)
-
public
(
length: 3
, alias: public
, type: esriFieldTypeString
)
-
resolution
(
alias: resolution
, type: esriFieldTypeDouble
)
Default Mosaic Method: ByAttribute
Allowed Mosaic Methods: ByAttribute,NorthWest,Center,LockRaster,Nadir,Viewpoint,Seamline,None
SortField: zorder
SortValue:
Mosaic Operator: First
Default Compression Quality: 75
Default Resampling Method: Nearest
Max Record Count: 1000
Max Image Height: 100000
Max Image Width: 100000
Max Download Image Count: 20
Max Mosaic Image Count: 100
Allow Raster Function: true
Allow Copy: true
Allow Analysis: true
Allow Compute TiePoints: false
Supports Statistics: true
Supports Advanced Queries: true
Use StandardizedQueries: true
Raster Type Infos:
Name: Raster Dataset
Description: Supports all ArcGIS Raster Datasets
Help:
Has Raster Attribute Table: false
Edit Fields Info: N/A
Ownership Based AccessControl For Rasters: N/A
Child Resources:
Info
Histograms
Statistics
Key Properties
Legend
Raster Function Infos
Supported Operations:
Export Image
Query
Identify
Compute Histograms
Compute Statistics Histograms
Get Samples
Compute Class Statistics
Query GPS Info
Find Images
Image to Map
Map to Image
Measure from Image
Image to Map Multiray
Query Boundary
Compute Pixel Location
Compute Angles
Validate
Project