<?xml version="1.0" encoding="UTF-8" standalone="no"?>
<metadata xml:lang="en">
<Esri>
<CreaDate>20251103</CreaDate>
<CreaTime>15232300</CreaTime>
<ArcGISFormat>1.0</ArcGISFormat>
<SyncOnce>FALSE</SyncOnce>
<DataProperties>
<itemProps>
<itemName Sync="FALSE">USFS_Daymet_Seasonal_SWE</itemName>
<nativeExtBox>
<westBL Sync="TRUE">-17080139.707500</westBL>
<eastBL Sync="TRUE">-5512139.707500</eastBL>
<southBL Sync="TRUE">2306562.710500</southBL>
<northBL Sync="TRUE">11640562.710500</northBL>
<exTypeCode Sync="TRUE">1</exTypeCode>
</nativeExtBox>
</itemProps>
<coordRef>
<type Sync="TRUE">Projected</type>
<geogcsn Sync="TRUE">GCS_WGS_1984</geogcsn>
<csUnits Sync="TRUE">Linear Unit: Meter (1.000000)</csUnits>
<projcsn Sync="TRUE">WGS_1984_Web_Mercator_Auxiliary_Sphere</projcsn>
<peXml Sync="TRUE">&lt;ProjectedCoordinateSystem xsi:type='typens:ProjectedCoordinateSystem' xmlns:xsi='http://www.w3.org/2001/XMLSchema-instance' xmlns:xs='http://www.w3.org/2001/XMLSchema' xmlns:typens='http://www.esri.com/schemas/ArcGIS/3.5.0'&gt;&lt;WKT&gt;PROJCS[&amp;quot;WGS_1984_Web_Mercator_Auxiliary_Sphere&amp;quot;,GEOGCS[&amp;quot;GCS_WGS_1984&amp;quot;,DATUM[&amp;quot;D_WGS_1984&amp;quot;,SPHEROID[&amp;quot;WGS_1984&amp;quot;,6378137.0,298.257223563]],PRIMEM[&amp;quot;Greenwich&amp;quot;,0.0],UNIT[&amp;quot;Degree&amp;quot;,0.0174532925199433]],PROJECTION[&amp;quot;Mercator_Auxiliary_Sphere&amp;quot;],PARAMETER[&amp;quot;False_Easting&amp;quot;,0.0],PARAMETER[&amp;quot;False_Northing&amp;quot;,0.0],PARAMETER[&amp;quot;Central_Meridian&amp;quot;,0.0],PARAMETER[&amp;quot;Standard_Parallel_1&amp;quot;,0.0],PARAMETER[&amp;quot;Auxiliary_Sphere_Type&amp;quot;,0.0],UNIT[&amp;quot;Meter&amp;quot;,1.0],AUTHORITY[&amp;quot;EPSG&amp;quot;,3857]]&lt;/WKT&gt;&lt;XOrigin&gt;-20037700&lt;/XOrigin&gt;&lt;YOrigin&gt;-30241100&lt;/YOrigin&gt;&lt;XYScale&gt;148923141.92838538&lt;/XYScale&gt;&lt;ZOrigin&gt;-100000&lt;/ZOrigin&gt;&lt;ZScale&gt;10000&lt;/ZScale&gt;&lt;MOrigin&gt;-100000&lt;/MOrigin&gt;&lt;MScale&gt;10000&lt;/MScale&gt;&lt;XYTolerance&gt;0.001&lt;/XYTolerance&gt;&lt;ZTolerance&gt;0.001&lt;/ZTolerance&gt;&lt;MTolerance&gt;0.001&lt;/MTolerance&gt;&lt;HighPrecision&gt;true&lt;/HighPrecision&gt;&lt;WKID&gt;102100&lt;/WKID&gt;&lt;LatestWKID&gt;3857&lt;/LatestWKID&gt;&lt;/ProjectedCoordinateSystem&gt;</peXml>
</coordRef>
<RasterProperties>
<General>
<PixelDepth Sync="TRUE">32</PixelDepth>
<HasColormap Sync="TRUE">FALSE</HasColormap>
<CompressionType Sync="TRUE">None</CompressionType>
<NumBands Sync="TRUE">4</NumBands>
<Format Sync="TRUE">AMD</Format>
<HasPyramids Sync="TRUE">TRUE</HasPyramids>
<SourceType Sync="TRUE">continuous</SourceType>
<PixelType Sync="TRUE">signed integer</PixelType>
<NoDataValue Sync="TRUE">
</NoDataValue>
</General>
<Properties>
<MaxImageHeight Sync="TRUE">100000</MaxImageHeight>
<MaxImageWidth Sync="TRUE">100000</MaxImageWidth>
<MaxRecordCount Sync="TRUE">1000</MaxRecordCount>
<MaxDownloadImageCount Sync="TRUE">20</MaxDownloadImageCount>
<MaxDownloadSizeLimit Sync="TRUE">2048</MaxDownloadSizeLimit>
<MaxMosaicImageCount Sync="TRUE">20</MaxMosaicImageCount>
<DefaultCompressionQuality Sync="TRUE">75</DefaultCompressionQuality>
<DefaultCompressionTolerance Sync="TRUE">0.01</DefaultCompressionTolerance>
<BlendWidth Sync="TRUE">10</BlendWidth>
<ViewpointSpacingX Sync="TRUE">600</ViewpointSpacingX>
<ViewpointSpacingY Sync="TRUE">300</ViewpointSpacingY>
<AllowedItemMetadata Sync="TRUE">Basic</AllowedItemMetadata>
<DefaultResamplingMethod Sync="TRUE">1</DefaultResamplingMethod>
<AllowedMosaicMethods Sync="TRUE">NorthWest,Center,LockRaster,ByAttribute,Nadir,Viewpoint,Seamline,None</AllowedMosaicMethods>
<AllowedCompressions Sync="TRUE">None,JPEG,LZ77,LERC</AllowedCompressions>
<AllowedMensurationCapabilities Sync="TRUE">Basic</AllowedMensurationCapabilities>
<AvailableMensurationCapabilities Sync="TRUE">None,Basic,Base-Top Height,Top-Top Shadow Height,Base-Top Shadow Height,3D</AvailableMensurationCapabilities>
<ClipToBoundary Sync="TRUE">-1</ClipToBoundary>
<FootprintMayContainNoData Sync="TRUE">-1</FootprintMayContainNoData>
<CellSizeTolerance Sync="TRUE">0.8</CellSizeTolerance>
<MinimumPixelContribution Sync="TRUE">1</MinimumPixelContribution>
<AvailableMosaicMethods Sync="TRUE">NorthWest,Center,LockRaster,ByAttribute,Nadir,Viewpoint,Seamline,None</AvailableMosaicMethods>
<AvailableCompressionMethods Sync="TRUE">None,JPEG,LZ77,LERC</AvailableCompressionMethods>
<AvailableItemMetadataLevels Sync="TRUE">None,Basic,Full</AvailableItemMetadataLevels>
<BandDefinitionKeyword Sync="TRUE">CUSTOM</BandDefinitionKeyword>
<ApplyColorCorrection Sync="TRUE">0</ApplyColorCorrection>
<_docversion_ Sync="TRUE">10</_docversion_>
<AllowedFields Sync="TRUE">name,minps,maxps,lowps,highps,tag,groupname,productname,centerx,centery,zorder,metadata</AllowedFields>
<MaxCellSize Sync="TRUE">320000</MaxCellSize>
<LowCellSize Sync="TRUE">1000</LowCellSize>
<HighCellSize Sync="TRUE">32000</HighCellSize>
<ClipToFootprint Sync="TRUE">0</ClipToFootprint>
<SortAscending Sync="TRUE">-1</SortAscending>
<MosaicOperator Sync="TRUE">1</MosaicOperator>
<UseTime Sync="TRUE">0</UseTime>
<DataType Sync="TRUE">Generic</DataType>
<AvailableFields Sync="TRUE">name,minps,maxps,lowps,highps,tag,groupname,productname,centerx,centery,zorder,metadata,st_area(shape),st_perimeter(shape)</AvailableFields>
<SortableFields Sync="TRUE">minps,maxps,lowps,highps,centerx,centery,zorder,st_area(shape),st_perimeter(shape)</SortableFields>
<BlendWidthUnits Sync="TRUE">1</BlendWidthUnits>
<ClipOverviewsToFootprint Sync="TRUE">0</ClipOverviewsToFootprint>
<HasDodgingTable Sync="TRUE">0</HasDodgingTable>
<StartTimeFieldName Sync="TRUE">
</StartTimeFieldName>
<EndTimeFieldName Sync="TRUE">
</EndTimeFieldName>
<TimeValueFormat Sync="TRUE">
</TimeValueFormat>
<UseRange Sync="TRUE">0</UseRange>
<TimeInterval Sync="TRUE">
</TimeInterval>
<TimeIntervalUnits Sync="TRUE">
</TimeIntervalUnits>
</Properties>
<Functions Sync="TRUE">
<Function Description="Performs on-the-fly mosaic on a raster catalog." Name="Mosaic Function">
</Function>
</Functions>
</RasterProperties>
</DataProperties>
<SyncDate>20251106</SyncDate>
<SyncTime>12021000</SyncTime>
<ModDate>20251106</ModDate>
<ModTime>12044400</ModTime>
<ArcGISProfile>FGDC</ArcGISProfile>
<scaleRange>
<minScale>150000000</minScale>
<maxScale>5000</maxScale>
</scaleRange>
</Esri>
<mdLang>
<languageCode value="eng">
</languageCode>
<countryCode Sync="TRUE" value="USA">
</countryCode>
</mdLang>
<mdChar>
<CharSetCd value="004">
</CharSetCd>
</mdChar>
<mdHrLv>
<ScopeCd value="005">
</ScopeCd>
</mdHrLv>
<mdHrLvName>dataset</mdHrLvName>
<mdDateSt Sync="TRUE">20251106</mdDateSt>
<mdStanName>ArcGIS Metadata</mdStanName>
<mdStanVer>1.0</mdStanVer>
<dataIdInfo>
<idCitation>
<resTitle>USFS_Daymet_Seasonal_SWE</resTitle>
<presForm>
<PresFormCd value="005">
</PresFormCd>
</presForm>
</idCitation>
<idAbs>&lt;div style='text-align:Left;'&gt;&lt;div&gt;&lt;p&gt;&lt;span&gt;Seasonal Snow Water Equivalent from Daymet. Snow water equivalent in kilograms per square meter. The amount of water contained within the snowpack.&lt;/span&gt;&lt;/p&gt;&lt;/div&gt;&lt;/div&gt;</idAbs>
<idPurp>Seasonal Snow Water Equivalent from Daymet.</idPurp>
<idCredit>USFS, GTAC, GO, USDA, Daymet, ORNL</idCredit>
<placeKeys>
<keyword>CONUS, Alaska</keyword>
</placeKeys>
<otherKeys>
<keyword>Climate</keyword>
<keyword>Daymet</keyword>
<keyword>Seasonal Snow Water Equivalent</keyword>
</otherKeys>
<searchKeys>
<keyword>CONUS</keyword>
<keyword>Alaska</keyword>
<keyword>Climate</keyword>
<keyword>Daymet</keyword>
<keyword>Seasonal Snow Water Equivalent</keyword>
</searchKeys>
<resConst>
<Consts>
<useLimit>&lt;div style='text-align:Left;'&gt;&lt;div&gt;&lt;p&gt;&lt;span&gt;The USDA Forest Service makes no warranty, expressed or implied, including the warranties of merchantability and fitness for a particular purpose, nor assumes any legal liability or responsibility for the accuracy, reliability, completeness or utility of these geospatial data, or for the improper or incorrect use of these geospatial data. These geospatial data and related maps or graphics are not legal documents and are not intended to be used as such. The data and maps may not be used to determine title, ownership, legal descriptions or boundaries, legal jurisdiction, or restrictions that may be in place on either public or private land. Natural hazards may or may not be depicted on the data and maps, and land users should exercise due caution. The user is responsible to verify the limitations of the geospatial data and to use the data accordingly. As a work of the United States Government, these data are within the public domain of the United States.&lt;/span&gt;&lt;/p&gt;&lt;p&gt;&lt;span&gt;Additionally, the U.S. Forest Service waives copyright and related rights in the work worldwide through the CC0 (which can be found at https://creativecommons.org/public-domain/cc0/).&lt;/span&gt;&lt;/p&gt;&lt;p&gt;&lt;span&gt;Non-Discrimination Statement&lt;/span&gt;&lt;/p&gt;&lt;p&gt;&lt;span&gt;In accordance with Federal civil rights law and U.S. Department of Agriculture (USDA) civil rights regulations and policies, the USDA, its Agencies, offices, and employees, and institutions participating in or administering USDA programs are prohibited from discriminating based on race, color, national origin, religion, sex, disability, age, marital status, family/parental status, income derived from a public assistance program, political beliefs, or reprisal or retaliation for prior civil rights activity, in any program or activity conducted or funded by USDA (not all bases apply to all programs). Remedies and complaint filing deadlines vary by program or incident.&lt;/span&gt;&lt;/p&gt;&lt;p&gt;&lt;span&gt;Persons with disabilities who require alternative means of communication for program information (e.g., Braille, large print, audiotape, American Sign Language, etc.) should contact the State or local Agency that administers the program or contact USDA through the Telecommunications Relay Service at 711 (voice and TTY). Additionally, program information may be made available in languages other than English.&lt;/span&gt;&lt;/p&gt;&lt;p&gt;&lt;span&gt;To file a program discrimination complaint, complete the USDA Program Discrimination Complaint Form, AD-3027, found online at How to File a Program Discrimination Complaint and at any USDA office or write a letter addressed to USDA and provide in the letter all of the information requested in the form. To request a copy of the complaint form, call (866) 632-9992. Submit your completed form or letter to USDA by: (1) mail: U.S. Department of Agriculture, Office of the Assistant Secretary for Civil Rights, 1400 Independence Avenue, SW, Mail Stop 9410, Washington, D.C. 20250-9410; (2) fax: (202) 690-7442; or (3) email: program.intake@usda.gov.&lt;/span&gt;&lt;/p&gt;&lt;p&gt;&lt;span&gt;USDA is an equal opportunity provider, employer, and lender.&lt;/span&gt;&lt;/p&gt;&lt;/div&gt;&lt;/div&gt;</useLimit>
</Consts>
</resConst>
<spatRpType>
<SpatRepTypCd value="002">
</SpatRepTypCd>
</spatRpType>
<dataLang>
<languageCode value="eng">
</languageCode>
<countryCode Sync="TRUE" value="USA">
</countryCode>
</dataLang>
<dataChar>
<CharSetCd value="004">
</CharSetCd>
</dataChar>
<envirDesc>Esri ArcGIS 13.5.3.57366</envirDesc>
<dataExt>
<geoEle>
<GeoBndBox>
<exTypeCode>true</exTypeCode>
<westBL>-153.433506</westBL>
<eastBL>-49.516393</eastBL>
<southBL>20.2828</southBL>
<northBL>71.684729</northBL>
</GeoBndBox>
</geoEle>
</dataExt>
<dataExt>
<geoEle>
<GeoBndBox>
<exTypeCode>true</exTypeCode>
<westBL>-153.433506</westBL>
<eastBL>-49.516393</eastBL>
<southBL>20.2828</southBL>
<northBL>71.684729</northBL>
</GeoBndBox>
</geoEle>
</dataExt>
<dataExt>
<geoEle>
<GeoBndBox>
<exTypeCode>true</exTypeCode>
<westBL>-153.433506</westBL>
<eastBL>-49.516393</eastBL>
<southBL>20.2828</southBL>
<northBL>71.684729</northBL>
</GeoBndBox>
</geoEle>
</dataExt>
<dataExt>
<geoEle>
<GeoBndBox>
<exTypeCode>true</exTypeCode>
<westBL>-153.433506</westBL>
<eastBL>-49.516393</eastBL>
<southBL>20.2828</southBL>
<northBL>71.684729</northBL>
</GeoBndBox>
</geoEle>
</dataExt>
<dataExt>
<geoEle>
<GeoBndBox>
<exTypeCode>true</exTypeCode>
<westBL>-153.433506</westBL>
<eastBL>-49.516393</eastBL>
<southBL>20.2828</southBL>
<northBL>71.684729</northBL>
</GeoBndBox>
</geoEle>
</dataExt>
<dataExt>
<geoEle>
<GeoBndBox>
<exTypeCode>true</exTypeCode>
<westBL>-153.433506</westBL>
<eastBL>-49.516393</eastBL>
<southBL>20.2828</southBL>
<northBL>71.684729</northBL>
</GeoBndBox>
</geoEle>
</dataExt>
<dataExt>
<geoEle>
<GeoBndBox esriExtentType="search">
<exTypeCode Sync="TRUE">1</exTypeCode>
<westBL Sync="TRUE">-153.433506</westBL>
<eastBL Sync="TRUE">-49.516393</eastBL>
<northBL Sync="TRUE">71.684729</northBL>
<southBL Sync="TRUE">20.282800</southBL>
</GeoBndBox>
</geoEle>
</dataExt>
<tpCat>
<TopicCatCd value="007">
</TopicCatCd>
</tpCat>
<tpCat>
<TopicCatCd value="008">
</TopicCatCd>
</tpCat>
</dataIdInfo>
<mdConst>
<LegConsts>
<accessConsts>
<RestrictCd value="008">
</RestrictCd>
</accessConsts>
<othConsts>The USDA Forest Service makes no warranty, expressed or implied, including the warranties of merchantability and fitness for a particular purpose, nor assumes any legal liability or responsibility for the accuracy, reliability, completeness or utility of these geospatial data, or for the improper or incorrect use of these geospatial data. These geospatial data and related maps or graphics are not legal documents and are not intended to be used as such. The data and maps may not be used to determine title, ownership, legal descriptions or boundaries, legal jurisdiction, or restrictions that may be in place on either public or private land. Natural hazards may or may not be depicted on the data and maps, and land users should exercise due caution. The user is responsible to verify the limitations of the geospatial data and to use the data accordingly. As a work of the United States Government, these data are within the public domain of the United States.
Additionally, the U.S. Forest Service waives copyright and related rights in the work worldwide through the CC0 (which can be found at https://creativecommons.org/public-domain/cc0/).
Non-Discrimination Statement
In accordance with Federal civil rights law and U.S. Department of Agriculture (USDA) civil rights regulations and policies, the USDA, its Agencies, offices, and employees, and institutions participating in or administering USDA programs are prohibited from discriminating based on race, color, national origin, religion, sex, disability, age, marital status, family/parental status, income derived from a public assistance program, political beliefs, or reprisal or retaliation for prior civil rights activity, in any program or activity conducted or funded by USDA (not all bases apply to all programs). Remedies and complaint filing deadlines vary by program or incident.
Persons with disabilities who require alternative means of communication for program information (e.g., Braille, large print, audiotape, American Sign Language, etc.) should contact the State or local Agency that administers the program or contact USDA through the Telecommunications Relay Service at 711 (voice and TTY). Additionally, program information may be made available in languages other than English.
To file a program discrimination complaint, complete the USDA Program Discrimination Complaint Form, AD-3027, found online at How to File a Program Discrimination Complaint and at any USDA office or write a letter addressed to USDA and provide in the letter all of the information requested in the form. To request a copy of the complaint form, call (866) 632-9992. Submit your completed form or letter to USDA by: (1) mail: U.S. Department of Agriculture, Office of the Assistant Secretary for Civil Rights, 1400 Independence Avenue, SW, Mail Stop 9410, Washington, D.C. 20250-9410; (2) fax: (202) 690-7442; or (3) email: program.intake@usda.gov.
USDA is an equal opportunity provider, employer, and lender.
</othConsts>
</LegConsts>
</mdConst>
<spatRepInfo>
<Georect>
<numDims>2</numDims>
<axisDimension type="002">
<dimSize>11568</dimSize>
<dimResol>
<value uom="m">1000.000000</value>
</dimResol>
</axisDimension>
<axisDimension type="001">
<dimSize>9334</dimSize>
<dimResol>
<value uom="m">1000.000000</value>
</dimResol>
</axisDimension>
<cellGeo>
<CellGeoCd Sync="TRUE" value="002">
</CellGeoCd>
</cellGeo>
<tranParaAv>true</tranParaAv>
<chkPtAv>false</chkPtAv>
<cornerPts gmlID="IDMXDYUD5IJIRGDSX0SIC5UC0MKE45C34VPO10ZXM4OSPL1AKD5RWG">
<pos>-17080139.707500 2306562.710500</pos>
</cornerPts>
<cornerPts gmlID="ID25ENFWYE5011IZ1WU2GD0GFKPDL3HVKPVJQYYB0NEDIN2OKKKML">
<pos>-17080139.707500 11640562.710500</pos>
</cornerPts>
<cornerPts gmlID="IDMI511UCTQLPJUVEV31RNRR3OODR1IUZUYMT5CDYOK430ERYW4MO">
<pos>-5512139.707500 11640562.710500</pos>
</cornerPts>
<cornerPts gmlID="IDD40TOCHFKHAIGZK2GA0HQRQZIIC1HHMBGYIQKWFEPZ1JSGUZZERC">
<pos>-5512139.707500 2306562.710500</pos>
</cornerPts>
<centerPt gmlID="IDLJV4YDV5QAAYHILCGO2K0WYISF0B0NKXNKXD2UP4CMF1BC104R5H">
<pos>-11296139.707500 6973562.710500</pos>
</centerPt>
<ptInPixel>
<PixOrientCd Sync="TRUE" value="001">
</PixOrientCd>
</ptInPixel>
</Georect>
</spatRepInfo>
<refSysInfo>
<RefSystem>
<refSysID>
<identCode code="3857">
</identCode>
<idCodeSpace>EPSG</idCodeSpace>
<identVrsn>6.18.3(9.3.1.2)</identVrsn>
<idVersion Sync="TRUE">6.18.3(9.3.1.2)</idVersion>
</refSysID>
</RefSystem>
</refSysInfo>
<contInfo>
<ImgDesc>
<contentTyp>
<ContentTypCd Sync="TRUE" value="001">
</ContentTypCd>
</contentTyp>
<covDim>
<Band>
<dimDescrp>winter</dimDescrp>
<maxVal>25922</maxVal>
<minVal>-25017</minVal>
<valUnit>
<UOM gmlID="IDW0VHWSL3CBNPPUL41TXYNL2JHHO2KOA3UFPLHFOSBEYGYDRXPX3I" type="length">
<gmlIdent codeSpace="GML_UomSymbol">Unified Code of Units of Measure</gmlIdent>
</UOM>
</valUnit>
<bitsPerVal>32</bitsPerVal>
</Band>
<Band>
<dimDescrp Sync="TRUE">spring</dimDescrp>
<maxVal Sync="TRUE">1000000.000000</maxVal>
<minVal Sync="TRUE">1.000000</minVal>
<bitsPerVal Sync="TRUE">32</bitsPerVal>
<valUnit>
<UOM type="length">
</UOM>
</valUnit>
</Band>
<Band>
<dimDescrp Sync="TRUE">summer</dimDescrp>
<maxVal Sync="TRUE">1000000.000000</maxVal>
<minVal Sync="TRUE">1.000000</minVal>
<bitsPerVal Sync="TRUE">32</bitsPerVal>
<valUnit>
<UOM type="length">
</UOM>
</valUnit>
</Band>
<Band>
<dimDescrp Sync="TRUE">fall</dimDescrp>
<maxVal Sync="TRUE">1000000.000000</maxVal>
<minVal Sync="TRUE">1.000000</minVal>
<bitsPerVal Sync="TRUE">32</bitsPerVal>
<valUnit>
<UOM type="length">
</UOM>
</valUnit>
</Band>
</covDim>
</ImgDesc>
</contInfo>
</metadata>
