{ "extent": { "ymin": 2801655.6347000003, "xmin": -13904049.7928, "ymax": 6410655.6347000003, "xmax": -7444049.7927999999, "spatialReference": { "latestWkid": 3857, "wkid": 102100 } }, "blockWidth": 2048, "mosaicOperator": "First", "serviceSourceType": "esriImageServiceSourceTypeMosaicDataset", "hasMultidimensions": false, "maxImageWidth": 100000, "maxRecordCount": 1000, "meanValues": [6.2644938053122203], "hasColormap": false, "compressionType": "None", "defaultCompressionQuality": 75, "maxValues": [1557], "hasHistograms": true, "datasetFormat": "AMD", "maxImageHeight": 100000, "sortField": "", "bandNames": ["Band_1"], "spatialReference": { "latestWkid": 3857, "wkid": 102100 }, "fullExtent": { "ymin": 2801655.6347000003, "xmin": -13904049.7928, "ymax": 6410655.6347000003, "xmax": -7444049.7927999999, "spatialReference": { "latestWkid": 3857, "wkid": 102100 } }, "bandCount": 1, "rasterFunctionInfos": [ { "help": "", "name": "USFS_EDW_CRV_Water_PercentChangeInWaterYield85", "description": "USFS_EDW_CRV_Water_PercentChangeInWaterYield85" }, { "help": "", "name": "None", "description": "Make a Raster or Raster Dataset into a Function Raster Dataset." } ], "supportsStatistics": true, "sortableFields": "minps,maxps,lowps,highps,centerx,centery,zorder", "minValues": [-100], "allowRasterFunction": true, "allowComputeTiePoints": false, "serviceDataType": "esriImageServiceDataTypeGeneric", "supportsAdvancedQueries": true, "maxDownloadSizeLimit": 2048, "currentVersion": 12, "sortValue": null, "objectIdField": "objectid", "blockHeight": 256, "initialExtent": { "ymin": 2801655.6347000003, "xmin": -13904049.7928, "ymax": 6410655.6347000003, "xmax": -7444049.7927999999, "spatialReference": { "latestWkid": 3857, "wkid": 102100 } }, "pixelSizeX": 1000, "pixelSizeY": 1000, "defaultMosaicMethod": "Northwest", "name": "Weather_Climate/USFS_CRV_Water_PercentChangeInWaterYield85", "allowedMosaicMethods": "NorthWest,Center,LockRaster,ByAttribute,Nadir,Viewpoint,Seamline,None", "maxDownloadImageCount": 20, "fields": [ { "domain": null, "name": "objectid", "alias": "objectid", "type": "esriFieldTypeOID" }, { "domain": null, "name": "name", "length": 200, "alias": "name", "type": "esriFieldTypeString" }, { "domain": null, "name": "minps", "alias": "minps", "type": "esriFieldTypeDouble" }, { "domain": null, "name": "maxps", "alias": "maxps", "type": "esriFieldTypeDouble" }, { "domain": null, "name": "lowps", "alias": "lowps", "type": "esriFieldTypeDouble" }, { "domain": null, "name": "highps", "alias": "highps", "type": "esriFieldTypeDouble" }, { "domain": { "splitPolicy": "esriSPTDefaultValue", "name": "MosaicCatalogItemCategoryDomain", "description": "Catalog item categories.", "type": "codedValue", "codedValues": [ { "code": 0, "name": "Unknown" }, { "code": 1, "name": "Primary" }, { "code": 2, "name": "Overview" }, { "code": 3, "name": "Unprocessed Overview" }, { "code": 4, "name": "Partial Overview" }, { "code": 5, "name": "Inactive" }, { "code": 253, "name": "Uploaded" }, { "code": 254, "name": "Incomplete" }, { "code": 255, "name": "Custom" } ], "mergePolicy": "esriMPTDefaultValue" }, "name": "category", "alias": "category", "type": "esriFieldTypeInteger" }, { "domain": null, "name": "tag", "length": 100, "alias": "tag", "type": "esriFieldTypeString" }, { "domain": null, "name": "groupname", "length": 100, "alias": "groupname", "type": "esriFieldTypeString" }, { "domain": null, "name": "productname", "length": 100, "alias": "productname", "type": "esriFieldTypeString" }, { "domain": null, "name": "centerx", "alias": "centerx", "type": "esriFieldTypeDouble" }, { "domain": null, "name": "centery", "alias": "centery", "type": "esriFieldTypeDouble" }, { "domain": null, "name": "zorder", "alias": "zorder", "type": "esriFieldTypeInteger" }, { "domain": null, "name": "shape", "alias": "shape", "type": "esriFieldTypeGeometry" } ], "allowAnalysis": true, "hasRasterAttributeTable": false, "useStandardizedQueries": true, "description": "", "pixelType": "S16", "meanPixelSize": 1000, "exportTilesAllowed": false, "editFieldsInfo": null, "rasterTypeInfos": [{ "help": "", "name": "Raster Dataset", "description": "Supports all ArcGIS Raster Datasets" }], "defaultResamplingMethod": "Nearest", "itemAccess": false, "minScale": 0, "serviceProperties": "NorthWest<\/MosaicMethod>First<\/MosaicOperator>true<\/SortAscending><\/LockImageID>name<\/TileOrderField>0<\/TileOrderBase>600.000000<\/AvgImageSpacingX>300.000000<\/AvgImageSpacingY>0.0<\/ViewPointX>0.0<\/ViewPointY>0.0<\/ViewPointDefShiftX>0.0<\/ViewPointDefShiftY>None<\/CompressionMethod>75<\/CompressionQuality>0.010000<\/CompressionTolerance>Nearest<\/SamplingMethod><\/ImageServiceProperties><\/ImageServer>", "advancedQueryCapabilities": { "supportsStatistics": true, "supportsSqlExpression": true, "supportsOrderBy": true, "useStandardizedQueries": true, "supportsPagination": true, "supportsDistinct": true }, "serviceItemId": "161a10b2cb7c474eae1c653e2bb1e33e", "capabilities": "Image,Metadata,Catalog,Mensuration", "maxScale": 0, "stdvValues": [49.441956612955238], "allowedFields": "name,minps,maxps,lowps,highps,tag,groupname,productname,centerx,centery,zorder", "minPixelSize": 0, "noDataValues": [-32768], "sortAscending": true, "maxMosaicImageCount": 100, "inspectionCapabilities": "", "maxPixelSize": 0, "noDataValue": -32768, "uncompressedSize": 46628280, "serviceDescription": "

The Forests to Faucets 2.0. Percent Change in Water Yield (2010\u20132040, RCP 8.5). data projects the percent change in mean annual water yield in the future. This layer is an integration of watersheds that are predicted to have a decrease in water quantity under future climate scenarios integrated with the watersheds important to surface drinking water and having the ability to produce clean water. This layer is part of the larger Forests to Faucets 2.0 project whose purpose is to quantify, rank, and illustrate the geographic connection between forests and other natural cover (private and public), surface drinking water supplies, and the populations that depend on them\u2013the ecosystem service of water supply. The Forests to Faucets 2.0 assessment evaluated four potential threats to important surface drinking water watersheds including fire, insects and disease, land use change, and reduced water yield due to a changing climate. Using data from a variety of existing sources and maps generated through GIS analyses, the project uses maps and statistics to describe the relative importance of private forests and National Forest System lands to surface drinking water supplies across the United States. Scenario = RCP 8.5-SSP5 from the HadGEM2-ES365 general circulation model (https://www.fs.usda.gov/research/treesearch/63723). Methods and further information are available here - https://storymaps.arcgis.com/collections/4e450a6c7ed24f0cbae4abc1c07843b7?item=4. <\/SPAN><\/P>
<\/P>
Spatial Extent: CONUS<\/SPAN><\/P>
Scale: HUC12<\/SPAN><\/P>
Units: Percent<\/SPAN><\/P>
<\/P><\/DIV><\/DIV><\/DIV>", "allowCopy": true, "copyrightText": "USDA Forest Service: Forests To Faucets (F2F);", "mensurationCapabilities": "Basic", "ownershipBasedAccessControlForRasters": null }