{ "extent": { "ymin": 2707429.307099998, "xmin": -14213046.158599999, "ymax": 6709029.307099998, "xmax": -7295846.1585999988, "spatialReference": { "latestWkid": 3857, "wkid": 102100 } }, "blockWidth": 2048, "mosaicOperator": "First", "serviceSourceType": "esriImageServiceSourceTypeMosaicDataset", "hasMultidimensions": false, "maxImageWidth": 100000, "maxRecordCount": 1000, "meanValues": [2.5472562298746553], "hasColormap": false, "compressionType": "None", "defaultCompressionQuality": 75, "maxValues": [3], "hasHistograms": true, "datasetFormat": "AMD", "maxImageHeight": 100000, "sortField": "", "bandNames": ["Band_1"], "spatialReference": { "latestWkid": 3857, "wkid": 102100 }, "fullExtent": { "ymin": 2707429.307099998, "xmin": -14213046.158599999, "ymax": 6709029.307099998, "xmax": -7295846.1585999988, "spatialReference": { "latestWkid": 3857, "wkid": 102100 } }, "bandCount": 1, "rasterFunctionInfos": [ { "help": "", "name": "CRV_Climate_ForestDisturbance20172022", "description": "CRV_Climate_ForestDisturbance20172022" }, { "help": "", "name": "None", "description": "Make a Raster or Raster Dataset into a Function Raster Dataset." } ], "supportsStatistics": true, "sortableFields": "minps,maxps,lowps,highps,centerx,centery,zorder", "minValues": [0], "allowRasterFunction": true, "allowComputeTiePoints": false, "serviceDataType": "esriImageServiceDataTypeGeneric", "supportsAdvancedQueries": true, "maxDownloadSizeLimit": 2048, "currentVersion": 12, "sortValue": null, "objectIdField": "objectid", "blockHeight": 256, "initialExtent": { "ymin": 2707429.307099998, "xmin": -14213046.158599999, "ymax": 6709029.307099998, "xmax": -7295846.1585999988, "spatialReference": { "latestWkid": 3857, "wkid": 102100 } }, "pixelSizeX": 100, "pixelSizeY": 100, "defaultMosaicMethod": "Northwest", "name": "Weather_Climate/USFS_CRV_Climate_ForestDisturbance20172022", "allowedMosaicMethods": "NorthWest,Center,LockRaster,ByAttribute,Nadir,Viewpoint,Seamline,None", "maxDownloadImageCount": 20, "fields": [ { "domain": null, "name": "objectid", "alias": "objectid", "type": "esriFieldTypeOID" }, { "domain": null, "name": "name", "length": 200, "alias": "name", "type": "esriFieldTypeString" }, { "domain": null, "name": "minps", "alias": "minps", "type": "esriFieldTypeDouble" }, { "domain": null, "name": "maxps", "alias": "maxps", "type": "esriFieldTypeDouble" }, { "domain": null, "name": "lowps", "alias": "lowps", "type": "esriFieldTypeDouble" }, { "domain": null, "name": "highps", "alias": "highps", "type": "esriFieldTypeDouble" }, { "domain": { "splitPolicy": "esriSPTDefaultValue", "name": "MosaicCatalogItemCategoryDomain", "description": "Catalog item categories.", "type": "codedValue", "codedValues": [ { "code": 0, "name": "Unknown" }, { "code": 1, "name": "Primary" }, { "code": 2, "name": "Overview" }, { "code": 3, "name": "Unprocessed Overview" }, { "code": 4, "name": "Partial Overview" }, { "code": 5, "name": "Inactive" }, { "code": 253, "name": "Uploaded" }, { "code": 254, "name": "Incomplete" }, { "code": 255, "name": "Custom" } ], "mergePolicy": "esriMPTDefaultValue" }, "name": "category", "alias": "category", "type": "esriFieldTypeInteger" }, { "domain": null, "name": "tag", "length": 100, "alias": "tag", "type": "esriFieldTypeString" }, { "domain": null, "name": "groupname", "length": 100, "alias": "groupname", "type": "esriFieldTypeString" }, { "domain": null, "name": "productname", "length": 100, "alias": "productname", "type": "esriFieldTypeString" }, { "domain": null, "name": "centerx", "alias": "centerx", "type": "esriFieldTypeDouble" }, { "domain": null, "name": "centery", "alias": "centery", "type": "esriFieldTypeDouble" }, { "domain": null, "name": "zorder", "alias": "zorder", "type": "esriFieldTypeInteger" }, { "domain": null, "name": "shape", "alias": "shape", "type": "esriFieldTypeGeometry" } ], "allowAnalysis": true, "hasRasterAttributeTable": false, "useStandardizedQueries": true, "description": "", "pixelType": "U4", "meanPixelSize": 100, "exportTilesAllowed": false, "editFieldsInfo": null, "rasterTypeInfos": [{ "help": "", "name": "Raster Dataset", "description": "Supports all ArcGIS Raster Datasets" }], "defaultResamplingMethod": "Nearest", "itemAccess": false, "minScale": 0, "serviceProperties": "NorthWest<\/MosaicMethod>First<\/MosaicOperator>true<\/SortAscending><\/LockImageID>name<\/TileOrderField>0<\/TileOrderBase>600.000000<\/AvgImageSpacingX>300.000000<\/AvgImageSpacingY>0.0<\/ViewPointX>0.0<\/ViewPointY>0.0<\/ViewPointDefShiftX>0.0<\/ViewPointDefShiftY>None<\/CompressionMethod>75<\/CompressionQuality>0.010000<\/CompressionTolerance>Nearest<\/SamplingMethod><\/ImageServiceProperties><\/ImageServer>", "advancedQueryCapabilities": { "supportsStatistics": true, "supportsSqlExpression": true, "supportsOrderBy": true, "useStandardizedQueries": true, "supportsPagination": true, "supportsDistinct": true }, "serviceItemId": "7eac6ac1bb7040079787f2b9d8a855f0", "capabilities": "Image,Metadata,Catalog,Mensuration", "maxScale": 0, "stdvValues": [0.59081167762734577], "allowedFields": "name,minps,maxps,lowps,highps,tag,groupname,productname,centerx,centery,zorder", "minPixelSize": 0, "sortAscending": true, "maxMosaicImageCount": 20, "inspectionCapabilities": "", "maxPixelSize": 0, "uncompressedSize": 1383993376, "serviceDescription": "

This layer contains a footprint that represents the intersection of the &quot;Wildfire Footprint (&gt; 100 acres) (2017-2022)&quot; data layer and the &quot;Bark Beetle Footprint (2017-2022)&quot; data layer.Wildfires (2017\u20132022). This dataset illustrates how increasing atmospheric dryness increases vegetation's flammability and susceptibility of trees to mortality by bark beetles. The dataset covers the years 2017\u20132022. It was derived from this data source: cumulative wildfire and wildland fire use perimeters greater than 1,000 acres in the western US and 500 acres in the eastern US ( MTBS - https://mtbs.gov/project-overview).Areas With Bark Beetle Mortality (2017\u20132022). This dataset illustrates how chronic precipitation deficits increase vegetation's flammability and susceptibility of trees to mortality by bark beetles. The dataset covers the years 2017\u20132022. It was derived from this data source: cumulative areas with bark beetle mortality mapped by Forest Health Protection and Partners (https://www.fs.usda.gov/science-technology/data-tools-products/fhp-mapping-reporting/detection-surveys).<\/SPAN><\/P>
Spatial Extent: CONUS<\/SPAN><\/P>
Units: Areas with wildfire &amp; Areas with bark beetle mortality<\/SPAN><\/P><\/DIV><\/DIV><\/DIV>", "allowCopy": true, "copyrightText": "USDA - GEO; USDA - USFS \u2013 GTAC", "mensurationCapabilities": "Basic", "ownershipBasedAccessControlForRasters": null }