{
 "extent": {
  "ymin": 5845208.6467999965,
  "xmin": -18669146.706599999,
  "ymax": 15797208.646799996,
  "xmax": -13452146.706599999,
  "spatialReference": {
   "latestWkid": 3857,
   "wkid": 102100
  }
 },
 "blockWidth": 2048,
 "mosaicOperator": "First",
 "serviceSourceType": "esriImageServiceSourceTypeMosaicDataset",
 "hasMultidimensions": false,
 "maxImageWidth": 100000,
 "maxRecordCount": 1000,
 "meanValues": [
  1
 ],
 "hasColormap": false,
 "compressionType": "None",
 "defaultCompressionQuality": 75,
 "maxValues": [
  1
 ],
 "hasHistograms": true,
 "datasetFormat": "AMD",
 "maxImageHeight": 100000,
 "sortField": "",
 "bandNames": [
  "Band_1"
 ],
 "spatialReference": {
  "latestWkid": 3857,
  "wkid": 102100
 },
 "fullExtent": {
  "ymin": 5845208.6467999965,
  "xmin": -18669146.706599999,
  "ymax": 15797208.646799996,
  "xmax": -13452146.706599999,
  "spatialReference": {
   "latestWkid": 3857,
   "wkid": 102100
  }
 },
 "bandCount": 1,
 "rasterFunctionInfos": [
  {
   "help": "",
   "name": "BarkBeetleMortality",
   "description": "barkbeetle"
  },
  {
   "help": "",
   "name": "None",
   "description": "Make a Raster or Raster Dataset into a Function Raster Dataset."
  }
 ],
 "supportsStatistics": true,
 "sortableFields": "minps,maxps,lowps,highps",
 "minValues": [
  0
 ],
 "allowRasterFunction": true,
 "allowComputeTiePoints": false,
 "serviceDataType": "esriImageServiceDataTypeGeneric",
 "supportsAdvancedQueries": true,
 "maxDownloadSizeLimit": 2048,
 "currentVersion": 12,
 "sortValue": null,
 "objectIdField": "objectid",
 "blockHeight": 256,
 "initialExtent": {
  "ymin": 5845208.6467999965,
  "xmin": -18669146.706599999,
  "ymax": 15797208.646799996,
  "xmax": -13452146.706599999,
  "spatialReference": {
   "latestWkid": 3857,
   "wkid": 102100
  }
 },
 "pixelSizeX": 1000,
 "pixelSizeY": 1000,
 "defaultMosaicMethod": "Northwest",
 "name": "Weather_Climate/USFS_CRV_Climate_AlaskaAreasWithBarkBeetleMortality",
 "allowedMosaicMethods": "NorthWest,Center,LockRaster,ByAttribute,Nadir,Viewpoint,Seamline,None",
 "maxDownloadImageCount": 20,
 "fields": [
  {
   "domain": null,
   "name": "objectid",
   "alias": "objectid",
   "type": "esriFieldTypeOID"
  },
  {
   "domain": null,
   "name": "name",
   "length": 200,
   "alias": "name",
   "type": "esriFieldTypeString"
  },
  {
   "domain": null,
   "name": "minps",
   "alias": "minps",
   "type": "esriFieldTypeDouble"
  },
  {
   "domain": null,
   "name": "maxps",
   "alias": "maxps",
   "type": "esriFieldTypeDouble"
  },
  {
   "domain": null,
   "name": "lowps",
   "alias": "lowps",
   "type": "esriFieldTypeDouble"
  },
  {
   "domain": null,
   "name": "highps",
   "alias": "highps",
   "type": "esriFieldTypeDouble"
  },
  {
   "domain": {
    "splitPolicy": "esriSPTDefaultValue",
    "name": "MosaicCatalogItemCategoryDomain",
    "description": "Catalog item categories.",
    "type": "codedValue",
    "codedValues": [
     {
      "code": 0,
      "name": "Unknown"
     },
     {
      "code": 1,
      "name": "Primary"
     },
     {
      "code": 2,
      "name": "Overview"
     },
     {
      "code": 3,
      "name": "Unprocessed Overview"
     },
     {
      "code": 4,
      "name": "Partial Overview"
     },
     {
      "code": 5,
      "name": "Inactive"
     },
     {
      "code": 253,
      "name": "Uploaded"
     },
     {
      "code": 254,
      "name": "Incomplete"
     },
     {
      "code": 255,
      "name": "Custom"
     }
    ],
    "mergePolicy": "esriMPTDefaultValue"
   },
   "name": "category",
   "alias": "category",
   "type": "esriFieldTypeInteger"
  },
  {
   "domain": null,
   "name": "shape",
   "alias": "shape",
   "type": "esriFieldTypeGeometry"
  },
  {
   "domain": null,
   "name": "agent_groups",
   "length": 255,
   "alias": "agent_groups",
   "type": "esriFieldTypeString"
  },
  {
   "domain": null,
   "name": "popuptext",
   "length": 255,
   "alias": "popuptext",
   "type": "esriFieldTypeString"
  }
 ],
 "allowAnalysis": true,
 "hasRasterAttributeTable": false,
 "useStandardizedQueries": true,
 "description": "",
 "pixelType": "U8",
 "meanPixelSize": 1000,
 "exportTilesAllowed": false,
 "editFieldsInfo": null,
 "rasterTypeInfos": [
  {
   "help": "",
   "name": "Raster Dataset",
   "description": "Supports all ArcGIS Raster Datasets"
  }
 ],
 "defaultResamplingMethod": "Nearest",
 "itemAccess": false,
 "minScale": 0,
 "serviceProperties": "NorthWest<\/MosaicMethod>First<\/MosaicOperator>true<\/SortAscending><\/LockImageID>name<\/TileOrderField>0<\/TileOrderBase>600.000000<\/AvgImageSpacingX>300.000000<\/AvgImageSpacingY>0.0<\/ViewPointX>0.0<\/ViewPointY>0.0<\/ViewPointDefShiftX>0.0<\/ViewPointDefShiftY>None<\/CompressionMethod>75<\/CompressionQuality>0.010000<\/CompressionTolerance>Nearest<\/SamplingMethod><\/ImageServiceProperties><\/ImageServer>",
 "advancedQueryCapabilities": {
  "supportsStatistics": true,
  "supportsSqlExpression": true,
  "supportsOrderBy": true,
  "useStandardizedQueries": true,
  "supportsPagination": true,
  "supportsDistinct": true
 },
 "serviceItemId": "c1a6f6fab46b409cad03fdb5ee1f9bf0",
 "capabilities": "Image,Metadata,Catalog,Mensuration",
 "maxScale": 0,
 "stdvValues": [
  0
 ],
 "allowedFields": "name,minps,maxps,lowps,highps,agent_groups,popuptext",
 "minPixelSize": 0,
 "sortAscending": true,
 "maxMosaicImageCount": 20,
 "inspectionCapabilities": "",
 "maxPixelSize": 0,
 "uncompressedSize": 51919584,
 "serviceDescription": " The Areas With Bark Beetle Mortality (2000-2021) data layer maps areas with bark beetle mortality over the years 2000-2021 and was derived from Forest Health Protection's dataset on 'cumulative areas with bark beetle mortality'. Detection surveys are the primary method of collecting data on the health of treed areas affected by insects and diseases. Aerial and ground surveys are conducted annually. Learn more at: https://www.fs.usda.gov/foresthealth/applied-sciences/mapping-reporting/detection-surveys.shtml.<\/SPAN><\/P><\/DIV><\/DIV><\/DIV>",
 "allowCopy": true,
 "copyrightText": "USDA - GEO; USDA - USFS \u2013 GTAC",
 "mensurationCapabilities": "Basic",
 "ownershipBasedAccessControlForRasters": null
}
