{ "extent": { "ymin": 3638531.3131000027, "xmin": -14278869.7557, "ymax": 6461741.3131000027, "xmax": -12276039.7557, "spatialReference": { "latestWkid": 3857, "wkid": 102100 } }, "blockWidth": 2048, "mosaicOperator": "First", "serviceSourceType": "esriImageServiceSourceTypeMosaicDataset", "hasMultidimensions": false, "maxImageWidth": 100000, "maxRecordCount": 1000, "meanValues": [9.1440946663416458], "hasColormap": false, "compressionType": "None", "defaultCompressionQuality": 75, "maxValues": [127], "hasHistograms": true, "datasetFormat": "AMD", "maxImageHeight": 100000, "sortField": "", "bandNames": ["Band_1"], "spatialReference": { "latestWkid": 3857, "wkid": 102100 }, "fullExtent": { "ymin": 3638531.3131000027, "xmin": -14278869.7557, "ymax": 6461741.3131000027, "xmax": -12276039.7557, "spatialReference": { "latestWkid": 3857, "wkid": 102100 } }, "bandCount": 1, "rasterFunctionInfos": [ { "help": "", "name": "SubZone", "description": "SubZone RFT" }, { "help": "", "name": "None", "description": "Make a Raster or Raster Dataset into a Function Raster Dataset." } ], "supportsStatistics": true, "sortableFields": "minps,maxps,lowps,highps,centerx,centery,zorder,beginyear,endyear", "minValues": [-114], "allowRasterFunction": true, "allowComputeTiePoints": false, "serviceDataType": "esriImageServiceDataTypeGeneric", "supportsAdvancedQueries": true, "maxDownloadSizeLimit": 2048, "currentVersion": 12, "sortValue": null, "objectIdField": "objectid", "blockHeight": 256, "initialExtent": { "ymin": 3638531.3131000027, "xmin": -14278869.7557, "ymax": 6461741.3131000027, "xmax": -12276039.7557, "spatialReference": { "latestWkid": 3857, "wkid": 102100 } }, "pixelSizeX": 30, "pixelSizeY": 30, "defaultMosaicMethod": "Northwest", "name": "Vegetation/USFS_Vegetation_SubZones", "allowedMosaicMethods": "NorthWest,Center,LockRaster,ByAttribute,Nadir,Viewpoint,Seamline,None", "maxDownloadImageCount": 20, "fields": [ { "domain": null, "name": "objectid", "alias": "objectid", "type": "esriFieldTypeOID" }, { "domain": null, "name": "name", "length": 200, "alias": "name", "type": "esriFieldTypeString" }, { "domain": null, "name": "minps", "alias": "minps", "type": "esriFieldTypeDouble" }, { "domain": null, "name": "maxps", "alias": "maxps", "type": "esriFieldTypeDouble" }, { "domain": null, "name": "lowps", "alias": "lowps", "type": "esriFieldTypeDouble" }, { "domain": null, "name": "highps", "alias": "highps", "type": "esriFieldTypeDouble" }, { "domain": { "splitPolicy": "esriSPTDefaultValue", "name": "MosaicCatalogItemCategoryDomain", "description": "Catalog item categories.", "type": "codedValue", "codedValues": [ { "code": 0, "name": "Unknown" }, { "code": 1, "name": "Primary" }, { "code": 2, "name": "Overview" }, { "code": 3, "name": "Unprocessed Overview" }, { "code": 4, "name": "Partial Overview" }, { "code": 5, "name": "Inactive" }, { "code": 253, "name": "Uploaded" }, { "code": 254, "name": "Incomplete" }, { "code": 255, "name": "Custom" } ], "mergePolicy": "esriMPTDefaultValue" }, "name": "category", "alias": "category", "type": "esriFieldTypeInteger" }, { "domain": null, "name": "tag", "length": 100, "alias": "tag", "type": "esriFieldTypeString" }, { "domain": null, "name": "groupname", "length": 100, "alias": "groupname", "type": "esriFieldTypeString" }, { "domain": null, "name": "productname", "length": 100, "alias": "productname", "type": "esriFieldTypeString" }, { "domain": null, "name": "centerx", "alias": "centerx", "type": "esriFieldTypeDouble" }, { "domain": null, "name": "centery", "alias": "centery", "type": "esriFieldTypeDouble" }, { "domain": null, "name": "zorder", "alias": "zorder", "type": "esriFieldTypeInteger" }, { "domain": null, "name": "shape", "alias": "shape", "type": "esriFieldTypeGeometry" }, { "domain": null, "name": "beginyear", "alias": "beginyear", "type": "esriFieldTypeSmallInteger" }, { "domain": null, "name": "endyear", "alias": "endyear", "type": "esriFieldTypeSmallInteger" } ], "allowAnalysis": true, "hasRasterAttributeTable": false, "useStandardizedQueries": true, "description": "", "pixelType": "S8", "meanPixelSize": 30, "exportTilesAllowed": false, "editFieldsInfo": null, "rasterTypeInfos": [{ "help": "", "name": "Raster Dataset", "description": "Supports all ArcGIS Raster Datasets" }], "defaultResamplingMethod": "Nearest", "itemAccess": false, "minScale": 0, "serviceProperties": "NorthWest<\/MosaicMethod>First<\/MosaicOperator>true<\/SortAscending><\/LockImageID>name<\/TileOrderField>0<\/TileOrderBase>600.000000<\/AvgImageSpacingX>300.000000<\/AvgImageSpacingY>0.0<\/ViewPointX>0.0<\/ViewPointY>0.0<\/ViewPointDefShiftX>0.0<\/ViewPointDefShiftY>None<\/CompressionMethod>75<\/CompressionQuality>0.010000<\/CompressionTolerance>Nearest<\/SamplingMethod><\/ImageServiceProperties><\/ImageServer>", "advancedQueryCapabilities": { "supportsStatistics": true, "supportsSqlExpression": true, "supportsOrderBy": true, "useStandardizedQueries": true, "supportsPagination": true, "supportsDistinct": true }, "serviceItemId": "5dc58748903646c29d3f9f8641a92b3a", "capabilities": "Image,Metadata,Catalog,Mensuration", "maxScale": 0, "stdvValues": [25.210875507061036], "allowedFields": "name,minps,maxps,lowps,highps,tag,groupname,productname,centerx,centery,zorder,beginyear,endyear", "minPixelSize": 0, "sortAscending": true, "maxMosaicImageCount": 20, "inspectionCapabilities": "", "maxPixelSize": 0, "uncompressedSize": 6282677427, "serviceDescription": "

The Subzone layer was derived from overstory and understory species composition and abundance (percent cover) information in existing Gradient Nearest Neighbor (GNN) vegetation maps developed by the Landscape Ecology, Modeling, Mapping, and Analysis (LEMMA) group in the Pacific Northwest Research Station (http://lemma.forestry.oregonstate.edu/). <\/SPAN><\/P>
Species composition in the imputations is determined from forest inventory plot data (1990-2019). A combination of FIA-Periodic, FIA-Annual, and R6/R5 CVS plot designs were used to determine PVT at the vegzone (Series) and subzone (Subseries or Plant Association Group (PAG)) levels. FIA-Periodic and R6/R5 CVS Inventory plots were used where they were co-located with FIA-Annual plots to help interpret previous or subsequent disturbance and succession. These Interpretations are based on multiple observations (2-5 obs per location) of species composition through time. Each plot location was assigned 1 vegzone and 1 subzone across all observations based on a vegzone/subzone ruleset (Key) programmed in R. <\/SPAN><\/P>
Map Data (1986-2017) consists of annual imputations of FIA-Annual Plots (2001-2016) only, using GNN K-1 (single nearest neighbor) methodology (Ohmann 2001). Each raster call was evaluated across all imputation years (1986-2017) for subzone Majority, subzone Min Rank (earliest subzone in the ruleset), and subzone Variety. Subzone Variety was used as an index of disturbance through time. Where subzone Variety >4, the cell was considered disturbed and subzone Min Rank was used in the final PVT map for that raster cell. Where subzone Variety was <=4, the cell was considered undisturbed and subzone Majority was used in the final PVT map.<\/SPAN><\/P>
<\/P>
Presence and percent cover of tree species were used to infer potential forest vegetation zones. Other indicator species (trees not used in vegetation zone delineation and understory species) were grouped by moisture and temperature regimes. The abundance and number of species in a group served as indicators for moisture and temperature subzones within a vegetation zone. This delineation often indicated different disturbance regimes, rates of development after disturbance, and ultimately what type of forest would dominate in the absence of disturbance. GNN maps for the entire 1986-2017 LandTrendr normalized Landsat time sequence were used to account for species composition changes owing to recent disturbances such as fire or timber harvest. Where imputations from different map years were highly variable (>4 different vegzone/subzones) indicating 1 or more disturbances, the higher ranked (generally more mesic) vegetation zone and subzone was assigned.<\/SPAN><\/P><\/DIV><\/DIV><\/DIV>", "allowCopy": true, "copyrightText": "ELK citation: https://www.fs.usda.gov/pnw/tools/westside-elk-model-toolbox; Rowland et al. 2018 Wildlife Monograph (https://www.fs.usda.gov/treesearch/pubs/57491)", "mensurationCapabilities": "Basic", "ownershipBasedAccessControlForRasters": null }