{ "extent": { "ymin": 2815900.1666866885, "xmin": -13890063.206811653, "ymax": 6342250.1666866885, "xmax": -7458003.2068116535, "spatialReference": { "latestWkid": 3857, "wkid": 102100 } }, "blockWidth": 2048, "mosaicOperator": "First", "serviceSourceType": "esriImageServiceSourceTypeMosaicDataset", "hasMultidimensions": false, "maxImageWidth": 100000, "maxRecordCount": 1000, "meanValues": [2.7210963387292058], "hasColormap": false, "compressionType": "None", "defaultCompressionQuality": 75, "maxValues": [46.494224548339844], "hasHistograms": true, "datasetFormat": "AMD", "maxImageHeight": 100000, "sortField": "", "bandNames": ["Band_1"], "spatialReference": { "latestWkid": 3857, "wkid": 102100 }, "fullExtent": { "ymin": 2815900.1666866885, "xmin": -13890063.206811653, "ymax": 6342250.1666866885, "xmax": -7458003.2068116535, "spatialReference": { "latestWkid": 3857, "wkid": 102100 } }, "bandCount": 1, "rasterFunctionInfos": [ { "help": "", "name": "Total Forest Carbon Attribute Map Colorful", "description": "Total Forest Carbon Attribute Map Colorful" }, { "help": "", "name": "Total Forest Carbon Attribute Map", "description": "Total Forest Carbon Attribute Map" }, { "help": "", "name": "None", "description": "Make a Raster or Raster Dataset into a Function Raster Dataset." } ], "supportsStatistics": true, "sortableFields": "minps,maxps,lowps,highps", "minValues": [0], "allowRasterFunction": true, "allowComputeTiePoints": false, "serviceDataType": "esriImageServiceDataTypeGeneric", "supportsAdvancedQueries": true, "maxDownloadSizeLimit": 2048, "currentVersion": 12, "sortValue": null, "objectIdField": "objectid", "blockHeight": 256, "initialExtent": { "ymin": 2815900.1666866885, "xmin": -13890063.206811653, "ymax": 6342250.1666866885, "xmax": -7458003.2068116535, "spatialReference": { "latestWkid": 3857, "wkid": 102100 } }, "pixelSizeX": 30, "pixelSizeY": 30, "defaultMosaicMethod": "Northwest", "name": "Vegetation/USFS_FIA_BIGMAP_CONUS_TotalForestCarbon_2018", "allowedMosaicMethods": "NorthWest,Center,LockRaster,ByAttribute,Nadir,Viewpoint,Seamline,None", "maxDownloadImageCount": 20, "fields": [ { "domain": null, "name": "objectid", "alias": "objectid", "type": "esriFieldTypeOID" }, { "domain": null, "name": "name", "length": 200, "alias": "name", "type": "esriFieldTypeString" }, { "domain": null, "name": "minps", "alias": "minps", "type": "esriFieldTypeDouble" }, { "domain": null, "name": "maxps", "alias": "maxps", "type": "esriFieldTypeDouble" }, { "domain": null, "name": "lowps", "alias": "lowps", "type": "esriFieldTypeDouble" }, { "domain": null, "name": "highps", "alias": "highps", "type": "esriFieldTypeDouble" }, { "domain": { "splitPolicy": "esriSPTDefaultValue", "name": "MosaicCatalogItemCategoryDomain", "description": "Catalog item categories.", "type": "codedValue", "codedValues": [ { "code": 0, "name": "Unknown" }, { "code": 1, "name": "Primary" }, { "code": 2, "name": "Overview" }, { "code": 3, "name": "Unprocessed Overview" }, { "code": 4, "name": "Partial Overview" }, { "code": 5, "name": "Inactive" }, { "code": 253, "name": "Uploaded" }, { "code": 254, "name": "Incomplete" }, { "code": 255, "name": "Custom" } ], "mergePolicy": "esriMPTDefaultValue" }, "name": "category", "alias": "category", "type": "esriFieldTypeInteger" }, { "domain": null, "name": "productname", "length": 100, "alias": "productname", "type": "esriFieldTypeString" }, { "domain": null, "name": "shape", "alias": "shape", "type": "esriFieldTypeGeometry" } ], "allowAnalysis": true, "hasRasterAttributeTable": false, "useStandardizedQueries": true, "description": "", "pixelType": "F32", "meanPixelSize": 30, "exportTilesAllowed": false, "editFieldsInfo": null, "rasterTypeInfos": [{ "help": "", "name": "Raster Dataset", "description": "Supports all ArcGIS Raster Datasets" }], "defaultResamplingMethod": "Bilinear", "itemAccess": false, "minScale": 0, "serviceProperties": "NorthWest<\/MosaicMethod>First<\/MosaicOperator>true<\/SortAscending><\/LockImageID>name<\/TileOrderField>0<\/TileOrderBase>600.000000<\/AvgImageSpacingX>300.000000<\/AvgImageSpacingY>0.0<\/ViewPointX>0.0<\/ViewPointY>0.0<\/ViewPointDefShiftX>0.0<\/ViewPointDefShiftY>None<\/CompressionMethod>75<\/CompressionQuality>0.010000<\/CompressionTolerance>Bilinear<\/SamplingMethod><\/ImageServiceProperties><\/ImageServer>", "advancedQueryCapabilities": { "supportsStatistics": true, "supportsSqlExpression": true, "supportsOrderBy": true, "useStandardizedQueries": true, "supportsPagination": true, "supportsDistinct": true }, "serviceItemId": "1e14c96bc62b4dd3828acd73233eccd8", "capabilities": "Image,Metadata,Catalog,Mensuration", "maxScale": 0, "stdvValues": [4.3224248771956066], "allowedFields": "name,minps,maxps,lowps,highps,productname", "minPixelSize": 0, "sortAscending": true, "maxMosaicImageCount": 20, "inspectionCapabilities": "", "maxPixelSize": 0, "uncompressedSize": 100807532360, "serviceDescription": "

This image service was developed using data from over 213,000 national forest inventory plots measured during the period 2014-2018 from the USFS Forest Inventory and Analysis (FIA) program, in conjunction with other auxiliary information. Roughly 4,900 Landsat 8 OLI scenes, collected during the same time period, were processed to extract information about vegetation phenology. This information, along with climatic and topographic raster data, were used in an ecological ordination model of tree species. The model produced a feature space of ecological gradients that was then used to impute FIA plots to pixels. The plots imputed to each pixel were then used to assign values (tons per pixel) for total forest carbon.<\/SPAN><\/P>
Carbon Pools can be found - <\/SPAN>HERE<\/SPAN><\/A>.<\/SPAN><\/P>
For more information about the methods used to produce this dataset please see the following references:<\/SPAN><\/P>