{ "extent": { "ymin": 2815889.6077999994, "xmin": -13890046.807399999, "ymax": 6342239.6077999994, "xmax": -7451446.8073999994, "spatialReference": { "latestWkid": 3857, "wkid": 102100 } }, "blockWidth": 2048, "mosaicOperator": "First", "serviceSourceType": "esriImageServiceSourceTypeMosaicDataset", "hasMultidimensions": false, "maxImageWidth": 100000, "maxRecordCount": 1000, "meanValues": [ 17.840717011953402, 22.473950342878336, 15.113287073857864 ], "hasColormap": false, "compressionType": "None", "defaultCompressionQuality": 75, "maxValues": [ 117.05040740966797, 322.98941040039062, 164.26582336425781 ], "hasHistograms": true, "datasetFormat": "AMD", "maxImageHeight": 100000, "sortField": "", "bandNames": [ "All_live_tree_stocking_pct", "Stand_age", "Lorey_stand_height" ], "spatialReference": { "latestWkid": 3857, "wkid": 102100 }, "fullExtent": { "ymin": 2815889.6077999994, "xmin": -13890046.807399999, "ymax": 6342239.6077999994, "xmax": -7451446.8073999994, "spatialReference": { "latestWkid": 3857, "wkid": 102100 } }, "bandCount": 3, "rasterFunctionInfos": [ { "help": "", "name": "Stocking Percentage", "description": "Stocking Percentage - per pixel. Nonstocked to overstocked." }, { "help": "", "name": "None", "description": "Make a Raster or Raster Dataset into a Function Raster Dataset." }, { "help": "", "name": "Age", "description": "Stand age (years)" }, { "help": "", "name": "Height", "description": "Lorey's height (Stand height weighted by basal area)(feet)" } ], "supportsStatistics": true, "sortableFields": "minps,maxps,lowps,highps", "minValues": [ 0, 0, 0 ], "allowRasterFunction": true, "allowComputeTiePoints": false, "serviceDataType": "esriImageServiceDataTypeScientific", "supportsAdvancedQueries": true, "maxDownloadSizeLimit": 2048, "currentVersion": 12, "sortValue": null, "objectIdField": "objectid", "blockHeight": 256, "initialExtent": { "ymin": 2815889.6077999994, "xmin": -13890046.807399999, "ymax": 6342239.6077999994, "xmax": -7451446.8073999994, "spatialReference": { "latestWkid": 3857, "wkid": 102100 } }, "pixelSizeX": 30, "pixelSizeY": 30, "defaultMosaicMethod": "Northwest", "name": "Vegetation/USFS_FIA_BIGMAP_CONUS_StockingAgeHeight_2018", "allowedMosaicMethods": "NorthWest,Center,LockRaster,ByAttribute,Nadir,Viewpoint,Seamline,None", "maxDownloadImageCount": 20, "fields": [ { "domain": null, "name": "objectid", "alias": "objectid", "type": "esriFieldTypeOID" }, { "domain": null, "name": "name", "length": 200, "alias": "name", "type": "esriFieldTypeString" }, { "domain": null, "name": "minps", "alias": "minps", "type": "esriFieldTypeDouble" }, { "domain": null, "name": "maxps", "alias": "maxps", "type": "esriFieldTypeDouble" }, { "domain": null, "name": "lowps", "alias": "lowps", "type": "esriFieldTypeDouble" }, { "domain": null, "name": "highps", "alias": "highps", "type": "esriFieldTypeDouble" }, { "domain": { "splitPolicy": "esriSPTDefaultValue", "name": "MosaicCatalogItemCategoryDomain", "description": "Catalog item categories.", "type": "codedValue", "codedValues": [ { "code": 0, "name": "Unknown" }, { "code": 1, "name": "Primary" }, { "code": 2, "name": "Overview" }, { "code": 3, "name": "Unprocessed Overview" }, { "code": 4, "name": "Partial Overview" }, { "code": 5, "name": "Inactive" }, { "code": 253, "name": "Uploaded" }, { "code": 254, "name": "Incomplete" }, { "code": 255, "name": "Custom" } ], "mergePolicy": "esriMPTDefaultValue" }, "name": "category", "alias": "category", "type": "esriFieldTypeInteger" }, { "domain": null, "name": "productname", "length": 100, "alias": "productname", "type": "esriFieldTypeString" }, { "domain": null, "name": "shape", "alias": "shape", "type": "esriFieldTypeGeometry" } ], "allowAnalysis": true, "hasRasterAttributeTable": false, "useStandardizedQueries": true, "description": "", "pixelType": "F32", "meanPixelSize": 30, "exportTilesAllowed": false, "editFieldsInfo": null, "rasterTypeInfos": [{ "help": "", "name": "Raster Dataset", "description": "Supports all ArcGIS Raster Datasets" }], "defaultResamplingMethod": "Bilinear", "itemAccess": false, "minScale": 0, "serviceProperties": "NorthWest<\/MosaicMethod>First<\/MosaicOperator>true<\/SortAscending><\/LockImageID>name<\/TileOrderField>0<\/TileOrderBase>600.000000<\/AvgImageSpacingX>300.000000<\/AvgImageSpacingY>0.0<\/ViewPointX>0.0<\/ViewPointY>0.0<\/ViewPointDefShiftX>0.0<\/ViewPointDefShiftY>None<\/CompressionMethod>75<\/CompressionQuality>0.010000<\/CompressionTolerance>Bilinear<\/SamplingMethod><\/ImageServiceProperties><\/ImageServer>", "advancedQueryCapabilities": { "supportsStatistics": true, "supportsSqlExpression": true, "supportsOrderBy": true, "useStandardizedQueries": true, "supportsPagination": true, "supportsDistinct": true }, "serviceItemId": "c642535eea064bc0bced862b3dce525e", "capabilities": "Image,Metadata,Catalog,Mensuration", "maxScale": 0, "stdvValues": [ 25.020596334667562, 36.22973527018889, 23.081281923179017 ], "allowedFields": "name,minps,maxps,lowps,highps,productname", "minPixelSize": 0, "sortAscending": true, "maxMosaicImageCount": 20, "inspectionCapabilities": "", "maxPixelSize": 0, "uncompressedSize": 302730094800, "serviceDescription": "

This image service was developed using data from over 213,000 national forest inventory plots measured during the period 2014-2018 from the USFS Forest Inventory and Analysis (FIA) program, in conjunction with other auxiliary information. Roughly 4,900 Landsat 8 OLI scenes, collected during the same time period, were processed to extract information about vegetation phenology. This information, along with climatic and topographic raster data, were used in an ecological ordination model of tree species. The model produced a feature space of ecological gradients that was then used to impute FIA plots to pixels. The plots imputed to each pixel were then used to assign values for stand age, stocking (percent), and Lorey's height. Raster function templates are imbedded within this service for visualizing each layer.<\/span><\/p>
Band descriptions are as follows:<\/span><\/p>
 <\/p>
Band_1 All - Live - Tree Stocking Percent (COND.ALSTK) (Percent)<\/span><\/p>
Band_2 Stand Age (COND.STDAGE) (Years)<\/span><\/p>
Band_3 Lorey's Height (TREE.HT weighted by TREE.DIA) (Feet)<\/span><\/p>
 <\/p>
Stocking class                     Class boundaries<\/span><\/p>
  • Nonstocked                  0 - <10 percent<\/span><\/li>
  • Poorly stocked             10 - <35 percent<\/span><\/li>
  • Moderately stocked    35 - <60 percent<\/span><\/li>
  • Fully stocked                 60 - 100 percent<\/span><\/li>
  • Overstocked                 > 100 percent<\/span><\/li><\/ul>
     <\/p>
    Wilson, Barry T.; Knight, Joseph F.; McRoberts, Ronald E. 2018. Harmonic regression of Landsat time series for modeling attributes from national forest inventory data. ISPRS Journal of Photogrammetry and Remote Sensing. 137: 29-46.For more information about the methods used to produce this dataset please see the following references:<\/span><\/p>
     <\/p>
    \u2022 Wilson, Barry Tyler; Woodall, Christopher W.; Griffith, Douglas M. 2013. Imputing forest carbon stock estimates from inventory plots to a nationally continuous coverage. Carbon Balance and Management. 8:1. doi:10.1186/1750-0680-8-1<\/span><\/p>
    \u2022 Wilson, B. Tyler; Lister, Andrew J.; Riemann, Rachel I. 2012. A nearest-neighbor imputation approach to mapping tree species over large areas using forest inventory plots and moderate resolution raster data. Forest Ecology and Management. 271: 182-198.<\/span><\/p>
    \u2022 Ohmann, Janet L.; Gregory, Matthew J. 2002.Predictive mapping of forest composition and structure with direct gradient analysis and nearest neighbor imputation in coastal Oregon, U.S.A. Canadian Journal of Forest Research. 32: 725-741<\/span><\/p><\/div><\/div><\/div>", "allowCopy": true, "copyrightText": "USDA Forest Service Forest Inventory & Analysis Program. Science by Barry T. Wilson (USFS)", "mensurationCapabilities": "Basic", "ownershipBasedAccessControlForRasters": null }