<?xml version="1.0" encoding="UTF-8" standalone="no"?>
<metadata xml:lang="en">
<Esri>
<CreaDate>20260224</CreaDate>
<CreaTime>12505800</CreaTime>
<ArcGISFormat>1.0</ArcGISFormat>
<SyncOnce>FALSE</SyncOnce>
<ArcGISProfile>FGDC</ArcGISProfile>
<DataProperties>
<itemProps>
<itemName Sync="FALSE">USFS_FIA_BIGMAP_AboveGroundBiomass</itemName>
<nativeExtBox>
<westBL Sync="TRUE">-2911620.000000</westBL>
<eastBL Sync="TRUE">2933940.000000</eastBL>
<southBL Sync="TRUE">164760.000000</southBL>
<northBL Sync="TRUE">3254760.000000</northBL>
<exTypeCode Sync="TRUE">1</exTypeCode>
</nativeExtBox>
</itemProps>
<coordRef>
<type Sync="TRUE">Projected</type>
<geogcsn Sync="TRUE">GCS_North_American_1983</geogcsn>
<csUnits Sync="TRUE">Linear Unit: Meter (1.000000)</csUnits>
<projcsn Sync="TRUE">USA_Contiguous_Albers_Equal_Area_Conic_USGS_version</projcsn>
<peXml Sync="TRUE">&lt;ProjectedCoordinateSystem xsi:type='typens:ProjectedCoordinateSystem' xmlns:xsi='http://www.w3.org/2001/XMLSchema-instance' xmlns:xs='http://www.w3.org/2001/XMLSchema' xmlns:typens='http://www.esri.com/schemas/ArcGIS/3.6.0'&gt;&lt;WKT&gt;PROJCS[&amp;quot;USA_Contiguous_Albers_Equal_Area_Conic_USGS_version&amp;quot;,GEOGCS[&amp;quot;GCS_North_American_1983&amp;quot;,DATUM[&amp;quot;D_North_American_1983&amp;quot;,SPHEROID[&amp;quot;GRS_1980&amp;quot;,6378137.0,298.257222101]],PRIMEM[&amp;quot;Greenwich&amp;quot;,0.0],UNIT[&amp;quot;Degree&amp;quot;,0.0174532925199433]],PROJECTION[&amp;quot;Albers&amp;quot;],PARAMETER[&amp;quot;False_Easting&amp;quot;,0.0],PARAMETER[&amp;quot;False_Northing&amp;quot;,0.0],PARAMETER[&amp;quot;Central_Meridian&amp;quot;,-96.0],PARAMETER[&amp;quot;Standard_Parallel_1&amp;quot;,29.5],PARAMETER[&amp;quot;Standard_Parallel_2&amp;quot;,45.5],PARAMETER[&amp;quot;Latitude_Of_Origin&amp;quot;,23.0],UNIT[&amp;quot;Meter&amp;quot;,1.0],AUTHORITY[&amp;quot;Esri&amp;quot;,102039]]&lt;/WKT&gt;&lt;XOrigin&gt;-16901100&lt;/XOrigin&gt;&lt;YOrigin&gt;-6972200&lt;/YOrigin&gt;&lt;XYScale&gt;266467840.99085236&lt;/XYScale&gt;&lt;ZOrigin&gt;-100000&lt;/ZOrigin&gt;&lt;ZScale&gt;10000&lt;/ZScale&gt;&lt;MOrigin&gt;-100000&lt;/MOrigin&gt;&lt;MScale&gt;10000&lt;/MScale&gt;&lt;XYTolerance&gt;0.001&lt;/XYTolerance&gt;&lt;ZTolerance&gt;0.001&lt;/ZTolerance&gt;&lt;MTolerance&gt;0.001&lt;/MTolerance&gt;&lt;HighPrecision&gt;true&lt;/HighPrecision&gt;&lt;WKID&gt;102039&lt;/WKID&gt;&lt;LatestWKID&gt;102039&lt;/LatestWKID&gt;&lt;/ProjectedCoordinateSystem&gt;</peXml>
</coordRef>
<RasterProperties>
<General>
<PixelDepth Sync="TRUE">32</PixelDepth>
<HasColormap Sync="TRUE">FALSE</HasColormap>
<CompressionType Sync="TRUE">None</CompressionType>
<NumBands Sync="TRUE">1</NumBands>
<Format Sync="TRUE">AMD</Format>
<HasPyramids Sync="TRUE">TRUE</HasPyramids>
<SourceType Sync="TRUE">continuous</SourceType>
<PixelType Sync="TRUE">floating point</PixelType>
</General>
<Properties>
<MaxImageHeight Sync="TRUE">100000</MaxImageHeight>
<MaxImageWidth Sync="TRUE">100000</MaxImageWidth>
<MaxRecordCount Sync="TRUE">1000</MaxRecordCount>
<MaxDownloadImageCount Sync="TRUE">20</MaxDownloadImageCount>
<MaxDownloadSizeLimit Sync="TRUE">2048</MaxDownloadSizeLimit>
<MaxMosaicImageCount Sync="TRUE">20</MaxMosaicImageCount>
<DefaultCompressionQuality Sync="TRUE">75</DefaultCompressionQuality>
<DefaultCompressionTolerance Sync="TRUE">0.01</DefaultCompressionTolerance>
<BlendWidth Sync="TRUE">10</BlendWidth>
<ViewpointSpacingX Sync="TRUE">600</ViewpointSpacingX>
<ViewpointSpacingY Sync="TRUE">300</ViewpointSpacingY>
<AllowedItemMetadata Sync="TRUE">Basic</AllowedItemMetadata>
<DefaultResamplingMethod Sync="TRUE">1</DefaultResamplingMethod>
<AllowedMosaicMethods Sync="TRUE">NorthWest,Center,LockRaster,ByAttribute,Nadir,Viewpoint,Seamline,None</AllowedMosaicMethods>
<AllowedCompressions Sync="TRUE">None,JPEG,LZ77,LERC</AllowedCompressions>
<AllowedMensurationCapabilities Sync="TRUE">None</AllowedMensurationCapabilities>
<AvailableMensurationCapabilities Sync="TRUE">None,Basic,Base-Top Height,Top-Top Shadow Height,Base-Top Shadow Height,3D</AvailableMensurationCapabilities>
<ClipToBoundary Sync="TRUE">-1</ClipToBoundary>
<FootprintMayContainNoData Sync="TRUE">-1</FootprintMayContainNoData>
<CellSizeTolerance Sync="TRUE">0.8</CellSizeTolerance>
<MinimumPixelContribution Sync="TRUE">1</MinimumPixelContribution>
<AvailableMosaicMethods Sync="TRUE">NorthWest,Center,LockRaster,ByAttribute,Nadir,Viewpoint,Seamline,None</AvailableMosaicMethods>
<AvailableCompressionMethods Sync="TRUE">None,JPEG,LZ77,LERC</AvailableCompressionMethods>
<AvailableItemMetadataLevels Sync="TRUE">None,Basic,Full</AvailableItemMetadataLevels>
<BandDefinitionKeyword Sync="TRUE">NONE</BandDefinitionKeyword>
<_docversion_ Sync="TRUE">10</_docversion_>
<AllowedFields Sync="TRUE">name,minps,maxps,lowps,highps,productname,spcd,genus,species,common_name,protemp,min,max,mean,stdev,median,mode</AllowedFields>
<MaxCellSize Sync="TRUE">153600</MaxCellSize>
<LowCellSize Sync="TRUE">15</LowCellSize>
<HighCellSize Sync="TRUE">15360</HighCellSize>
<TimeStamp.UpdateExtent Sync="TRUE">46077.9330859954</TimeStamp.UpdateExtent>
<DataType Sync="TRUE">Scientific</DataType>
<AvailableFields Sync="TRUE">name,minps,maxps,lowps,highps,tag,groupname,productname,centerx,centery,zorder,spcd,genus,species,common_name,protemp,min,max,mean,stdev,median,mode,st_area(shape),st_perimeter(shape)</AvailableFields>
<SortableFields Sync="TRUE">minps,maxps,lowps,highps,SPCD,min,max,mean,stdev,median,mode</SortableFields>
<SortAscending Sync="TRUE">-1</SortAscending>
<MosaicOperator Sync="TRUE">1</MosaicOperator>
<BlendWidthUnits Sync="TRUE">1</BlendWidthUnits>
<ClipToFootprint Sync="TRUE">0</ClipToFootprint>
<ClipOverviewsToFootprint Sync="TRUE">0</ClipOverviewsToFootprint>
<HasDodgingTable Sync="TRUE">0</HasDodgingTable>
<ApplyColorCorrection Sync="TRUE">0</ApplyColorCorrection>
<UseTime Sync="TRUE">0</UseTime>
<UseRange Sync="TRUE">0</UseRange>
<TimeStamp.RemoveItems Sync="TRUE">46078.7298398958</TimeStamp.RemoveItems>
</Properties>
<Functions Sync="TRUE">
<Function Description="Performs on-the-fly mosaic on a raster catalog." Name="Mosaic Function">
</Function>
</Functions>
</RasterProperties>
</DataProperties>
<SyncDate>20260302</SyncDate>
<SyncTime>14010700</SyncTime>
<ModDate>20260304</ModDate>
<ModTime>11585500</ModTime>
<scaleRange>
<minScale>150000000</minScale>
<maxScale>5000</maxScale>
</scaleRange>
</Esri>
<mdFileID>5c36f99ca3a6483e814ebf36fb27ce89</mdFileID>
<mdChar>
<CharSetCd Sync="FALSE" value="004">
</CharSetCd>
</mdChar>
<mdHrLv>
<ScopeCd value="005">
</ScopeCd>
</mdHrLv>
<distInfo>
<distTranOps>
<onLineSrc>
<linkage>https://imagery.geoplatform.gov/iipp/rest/services/Vegetation/USFS_FIA_BIGMAP_AboveGroundBiomass/ImageServer</linkage>
</onLineSrc>
</distTranOps>
<distFormat>
<formatName>Image Service</formatName>
</distFormat>
</distInfo>
<dataIdInfo>
<idAbs>&lt;div style='text-align:Left;'&gt;&lt;div&gt;&lt;div&gt;&lt;p&gt;&lt;span style='font-size:12pt'&gt;This is an image service contains pixel data for 327 individual tree species as well as total live tree aboveground forest biomass (tons/acre), 2014-2018. An efficient approach for mapping multiple individual tree species over large spatial domains was used to develop these raster datasets. The method integrates vegetation phenology derived from dense time series of Landsat imagery and raster data describing relevant environmental parameters with extensive field plot data of tree species aboveground biomass to create maps of tree species abundance and distribution at a 30-meter (m) pixel size for the Conterminous United States (CONUS). The approach uses the modeling techniques of k-nearest neighbors and canonical correspondence analysis, where model predictions are calculated using the mean of the nearest neighbors based on proximity in a feature space derived from the model.&lt;/span&gt;&lt;/p&gt;&lt;p&gt;&lt;span style='font-size:12pt'&gt;Each species layer has undergone an extensive validation process and resulting statistics and data layers will soon be available here on ArcGIS Online and via our upcoming BIGMAP data dashboard.&lt;/span&gt;&lt;/p&gt;&lt;/div&gt;&lt;/div&gt;&lt;/div&gt;</idAbs>
<idCitation>
<resTitle>USFS_FIA_BIGMAP_AboveGroundBiomass</resTitle>
<date>
<createDate>2024-11-18T17:42:21</createDate>
<reviseDate>2025-05-15T16:09:07</reviseDate>
</date>
<citRespParty>
<role>
<RoleCd value="006">
</RoleCd>
</role>
</citRespParty>
<presForm>
<PresFormCd Sync="TRUE" value="005">
</PresFormCd>
</presForm>
</idCitation>
<searchKeys>
<keyword>FIA_BIGMAP_2018_Tree_Species_Aboveground_Biomass</keyword>
<keyword>ImageServer</keyword>
<keyword>FIA</keyword>
<keyword>BIGMAP</keyword>
<keyword>Forest Service</keyword>
<keyword>forest inventory &amp; analysis</keyword>
</searchKeys>
<idPurp>This is an image service contains pixel data for 327 individual species as well as total live tree aboveground forest biomass (tons/acre) , 2014-2018.</idPurp>
<resConst>
<Consts>
<useLimit>&lt;div style='text-align:Left;'&gt;&lt;div&gt;&lt;div&gt;&lt;p style='margin:0 0 14 0;'&gt;&lt;span&gt;&lt;span&gt;The USDA Forest Service makes no warranty, expressed or implied, including the warranties of merchantability and fitness for a particular purpose, nor assumes any legal liability or responsibility for the accuracy, reliability, completeness or utility of these geospatial data, or for the improper or incorrect use of these geospatial data. These geospatial data and related maps or graphics are not legal documents and are not intended to be used as such. The data and maps may not be used to determine title, ownership, legal descriptions or boundaries, legal jurisdiction, or restrictions that may be in place on either public or private land. Natural hazards may or may not be depicted on the data and maps, and land users should exercise due caution. The user is responsible to verify the limitations of the geospatial data and to use the data accordingly. As a work of the United States Government, these data are within the public domain of the United States.&lt;/span&gt;&lt;/span&gt;&lt;/p&gt;&lt;p style='margin:0 0 14 0;'&gt;&lt;span&gt;&lt;span&gt;Additionally, the U.S. Forest Service waives copyright and related rights in the work worldwide through the CC0 (which can be found at &lt;/span&gt;&lt;/span&gt;&lt;a href='https://creativecommons.org/public-domain/cc0/' style='text-decoration:underline;'&gt;&lt;span style='text-decoration:underline;'&gt;&lt;span&gt;https://creativecommons.org/public-domain/cc0/&lt;/span&gt;&lt;/span&gt;&lt;/a&gt;&lt;span&gt;&lt;span&gt;).&lt;/span&gt;&lt;/span&gt;&lt;/p&gt;&lt;p style='font-weight:bold;margin:0 0 14 0;'&gt;&lt;span&gt;&lt;span&gt;Non-Discrimination Statement&lt;/span&gt;&lt;/span&gt;&lt;/p&gt;&lt;p style='margin:0 0 14 0;'&gt;&lt;span&gt;&lt;span&gt;In accordance with Federal civil rights law and U.S. Department of Agriculture (USDA) civil rights regulations and policies, the USDA, its Agencies, offices, and employees, and institutions participating in or administering USDA programs are prohibited from discriminating based on race, color, national origin, religion, sex, disability, age, marital status, family/parental status, income derived from a public assistance program, political beliefs, or reprisal or retaliation for prior civil rights activity, in any program or activity conducted or funded by USDA (not all bases apply to all programs). Remedies and complaint filing deadlines vary by program or incident.&lt;/span&gt;&lt;/span&gt;&lt;/p&gt;&lt;p style='margin:0 0 14 0;'&gt;&lt;span&gt;&lt;span&gt;Persons with disabilities who require alternative means of communication for program information (e.g., Braille, large print, audiotape, American Sign Language, etc.) should contact the State or local Agency that administers the program or contact USDA through the Telecommunications Relay Service at 711 (voice and TTY). Additionally, program information may be made available in languages other than English.&lt;/span&gt;&lt;/span&gt;&lt;/p&gt;&lt;p style='margin:0 0 14 0;'&gt;&lt;span&gt;&lt;span&gt;To file a program discrimination complaint, complete the USDA Program Discrimination Complaint Form, AD-3027, found online at &lt;/span&gt;&lt;/span&gt;&lt;a href='https://www.usda.gov/oascr/how-to-file-a-program-discrimination-complaint' style='text-decoration:underline;'&gt;&lt;span style='text-decoration:underline;'&gt;&lt;span&gt;How to File a Program Discrimination Complaint&lt;/span&gt;&lt;/span&gt;&lt;/a&gt;&lt;span&gt;&lt;span&gt; and at any USDA office or write a letter addressed to USDA and provide in the letter all of the information requested in the form. To request a copy of the complaint form, call (866) 632-9992. Submit your completed form or letter to USDA by: (1) mail: U.S. Department of Agriculture, Office of the Assistant Secretary for Civil Rights, 1400 Independence Avenue, SW, Mail Stop 9410, Washington, D.C. 20250-9410; (2) fax: (202) 690-7442; or (3) email: &lt;/span&gt;&lt;/span&gt;&lt;a href='mailto:program.intake@usda.gov' style='text-decoration:underline;'&gt;&lt;span style='text-decoration:underline;'&gt;&lt;span&gt;program.intake@usda.gov&lt;/span&gt;&lt;/span&gt;&lt;/a&gt;&lt;span&gt;&lt;span&gt;.&lt;/span&gt;&lt;/span&gt;&lt;/p&gt;&lt;p style='margin:0 0 14 0;'&gt;&lt;span&gt;&lt;span&gt;USDA is an equal opportunity provider, employer, and lender.&lt;/span&gt;&lt;/span&gt;&lt;/p&gt;&lt;/div&gt;&lt;/div&gt;&lt;/div&gt;</useLimit>
</Consts>
</resConst>
<dataChar>
<CharSetCd Sync="FALSE" value="004">
</CharSetCd>
</dataChar>
<envirDesc Sync="FALSE">Esri ArcGIS 13.6.0.59527</envirDesc>
<dataLang>
<languageCode Sync="TRUE" value="eng">
</languageCode>
<countryCode Sync="TRUE" value="USA">
</countryCode>
</dataLang>
<spatRpType>
<SpatRepTypCd Sync="TRUE" value="002">
</SpatRepTypCd>
</spatRpType>
<dataExt>
<geoEle>
<GeoBndBox esriExtentType="search">
<exTypeCode Sync="TRUE">1</exTypeCode>
<westBL Sync="TRUE">-135.093054</westBL>
<eastBL Sync="TRUE">-56.640274</eastBL>
<northBL Sync="TRUE">52.364567</northBL>
<southBL Sync="TRUE">20.535849</southBL>
</GeoBndBox>
</geoEle>
</dataExt>
<idCredit>USDA Forest Service, Forest Inventory and Analysis (FIA)</idCredit>
</dataIdInfo>
<mdLang>
<languageCode Sync="TRUE" value="eng">
</languageCode>
<countryCode Sync="TRUE" value="USA">
</countryCode>
</mdLang>
<refSysInfo>
<RefSystem>
<refSysID>
<identCode Sync="TRUE" code="102039">
</identCode>
<idCodeSpace Sync="TRUE">Esri</idCodeSpace>
<idVersion Sync="TRUE">8.1.2</idVersion>
</refSysID>
</RefSystem>
</refSysInfo>
<spatRepInfo>
<Georect>
<cellGeo>
<CellGeoCd Sync="TRUE" value="002">
</CellGeoCd>
</cellGeo>
<numDims Sync="TRUE">2</numDims>
<tranParaAv Sync="TRUE">1</tranParaAv>
<chkPtAv Sync="TRUE">0</chkPtAv>
<cornerPts>
<pos Sync="TRUE">-2911620.000000 164760.000000</pos>
</cornerPts>
<cornerPts>
<pos Sync="TRUE">-2911620.000000 3254760.000000</pos>
</cornerPts>
<cornerPts>
<pos Sync="TRUE">2933940.000000 3254760.000000</pos>
</cornerPts>
<cornerPts>
<pos Sync="TRUE">2933940.000000 164760.000000</pos>
</cornerPts>
<centerPt>
<pos Sync="TRUE">11160.000000 1709760.000000</pos>
</centerPt>
<axisDimension type="002">
<dimSize Sync="TRUE">389704</dimSize>
<dimResol>
<value Sync="TRUE" uom="m">30.00000000000</value>
</dimResol>
</axisDimension>
<axisDimension type="001">
<dimSize Sync="TRUE">206000</dimSize>
<dimResol>
<value Sync="TRUE" uom="m">30.00000000</value>
</dimResol>
</axisDimension>
<ptInPixel>
<PixOrientCd Sync="TRUE" value="001">
</PixOrientCd>
</ptInPixel>
</Georect>
</spatRepInfo>
<contInfo>
<ImgDesc>
<contentTyp>
<ContentTypCd Sync="TRUE" value="001">
</ContentTypCd>
</contentTyp>
<covDim>
<Band>
<dimDescrp Sync="TRUE">Band_1</dimDescrp>
<maxVal Sync="TRUE">491.259887</maxVal>
<minVal Sync="TRUE">0.000000</minVal>
<bitsPerVal Sync="TRUE">32</bitsPerVal>
<valUnit>
<UOM type="length">
</UOM>
</valUnit>
</Band>
</covDim>
<trianInd>False</trianInd>
<radCalDatAv>False</radCalDatAv>
<camCalInAv>False</camCalInAv>
<filmDistInAv>False</filmDistInAv>
<lensDistInAv>False</lensDistInAv>
</ImgDesc>
</contInfo>
<mdDateSt Sync="TRUE">20260304</mdDateSt>
<mdConst>
<LegConsts>
<othConsts>The USDA Forest Service makes no warranty, expressed or implied, including the warranties of merchantability and fitness for a particular purpose, nor assumes any legal liability or responsibility for the accuracy, reliability, completeness or utility of these geospatial data, or for the improper or incorrect use of these geospatial data. These geospatial data and related maps or graphics are not legal documents and are not intended to be used as such. The data and maps may not be used to determine title, ownership, legal descriptions or boundaries, legal jurisdiction, or restrictions that may be in place on either public or private land. Natural hazards may or may not be depicted on the data and maps, and land users should exercise due caution. The user is responsible to verify the limitations of the geospatial data and to use the data accordingly. As a work of the United States Government, these data are within the public domain of the United States.</othConsts>
</LegConsts>
</mdConst>
</metadata>
