{ "extent": { "ymin": 673513.26120000333, "xmin": -20037507.067200001, "ymax": 19257073.261200003, "xmax": 20037507.842788246, "spatialReference": { "latestWkid": 3857, "wkid": 102100 } }, "blockWidth": 2048, "mosaicOperator": "First", "serviceSourceType": "esriImageServiceSourceTypeMosaicDataset", "hasMultidimensions": false, "maxImageWidth": 100000, "maxRecordCount": 1000, "meanValues": [3.3337400827248302], "hasColormap": false, "compressionType": "None", "defaultCompressionQuality": 75, "maxValues": [19], "hasHistograms": true, "datasetFormat": "AMD", "maxImageHeight": 100000, "sortField": "", "bandNames": ["Band_1"], "spatialReference": { "latestWkid": 3857, "wkid": 102100 }, "fullExtent": { "ymin": 673513.26120000333, "xmin": -20037507.067200001, "ymax": 19257073.261200003, "xmax": 20037507.842788246, "spatialReference": { "latestWkid": 3857, "wkid": 102100 } }, "bandCount": 1, "rasterFunctionInfos": [ { "help": "", "name": "2010_LCNA_250m", "description": "lcna" }, { "help": "", "name": "None", "description": "Make a Raster or Raster Dataset into a Function Raster Dataset." } ], "supportsStatistics": true, "sortableFields": "minps,maxps,lowps,highps,centerx,centery,zorder", "minValues": [0], "allowRasterFunction": true, "allowComputeTiePoints": false, "serviceDataType": "esriImageServiceDataTypeGeneric", "supportsAdvancedQueries": true, "maxDownloadSizeLimit": 2048, "currentVersion": 12, "sortValue": null, "objectIdField": "objectid", "blockHeight": 256, "initialExtent": { "ymin": 673513.26120000333, "xmin": -20037507.067200001, "ymax": 19257073.261200003, "xmax": 20037507.842788246, "spatialReference": { "latestWkid": 3857, "wkid": 102100 } }, "pixelSizeX": 29.999996189637521, "pixelSizeY": 30, "defaultMosaicMethod": "Northwest", "name": "Vegetation/USFS_EDW_CEC_LandCoverOfNorthAmerica_2010", "allowedMosaicMethods": "NorthWest,Center,LockRaster,ByAttribute,Nadir,Viewpoint,Seamline,None", "maxDownloadImageCount": 20, "fields": [ { "domain": null, "name": "objectid", "alias": "objectid", "type": "esriFieldTypeOID" }, { "domain": null, "name": "name", "length": 200, "alias": "name", "type": "esriFieldTypeString" }, { "domain": null, "name": "minps", "alias": "minps", "type": "esriFieldTypeDouble" }, { "domain": null, "name": "maxps", "alias": "maxps", "type": "esriFieldTypeDouble" }, { "domain": null, "name": "lowps", "alias": "lowps", "type": "esriFieldTypeDouble" }, { "domain": null, "name": "highps", "alias": "highps", "type": "esriFieldTypeDouble" }, { "domain": { "splitPolicy": "esriSPTDefaultValue", "name": "MosaicCatalogItemCategoryDomain", "description": "Catalog item categories.", "type": "codedValue", "codedValues": [ { "code": 0, "name": "Unknown" }, { "code": 1, "name": "Primary" }, { "code": 2, "name": "Overview" }, { "code": 3, "name": "Unprocessed Overview" }, { "code": 4, "name": "Partial Overview" }, { "code": 5, "name": "Inactive" }, { "code": 253, "name": "Uploaded" }, { "code": 254, "name": "Incomplete" }, { "code": 255, "name": "Custom" } ], "mergePolicy": "esriMPTDefaultValue" }, "name": "category", "alias": "category", "type": "esriFieldTypeInteger" }, { "domain": null, "name": "tag", "length": 100, "alias": "tag", "type": "esriFieldTypeString" }, { "domain": null, "name": "groupname", "length": 100, "alias": "groupname", "type": "esriFieldTypeString" }, { "domain": null, "name": "productname", "length": 100, "alias": "productname", "type": "esriFieldTypeString" }, { "domain": null, "name": "centerx", "alias": "centerx", "type": "esriFieldTypeDouble" }, { "domain": null, "name": "centery", "alias": "centery", "type": "esriFieldTypeDouble" }, { "domain": null, "name": "zorder", "alias": "zorder", "type": "esriFieldTypeInteger" }, { "domain": null, "name": "shape", "alias": "shape", "type": "esriFieldTypeGeometry" } ], "allowAnalysis": true, "hasRasterAttributeTable": false, "useStandardizedQueries": true, "description": "
The 2010 North American Land Cover 30-meter dataset was produced as part of the North American Land Change Monitoring <\/span><\/p> System (NALCMS), a trilateral effort between Natural Resources Canada, the United States Geological Survey, and three Mexican <\/span><\/p> organizations including the National Institute of Statistics and Geography (Instituto Nacional de Estadística y Geografía), <\/span><\/p> National Commission for the Knowledge and Use of the Biodiversity (Comisión Nacional Para el Conocimiento y Uso de la <\/span><\/p> Biodiversidad), and the National Forestry Commission of Mexico (Comisión Nacional Forestal). The collaboration is facilitated <\/span><\/p> by the Commission for Environmental Cooperation, an international organization created by the Canada, Mexico, and United States <\/span><\/p> governments under the North American Agreement on Environmental Cooperation to promote environmental collaboration between the <\/span><\/p> three countries.<\/span><\/p> <\/p> The general objective of NALCMS is to devise, through collective effort, a harmonized multi-scale land cover monitoring <\/span><\/p> approach which ensures high accuracy and consistency in monitoring land cover changes at the North American scale and <\/span><\/p> which meets each country\u2019s specific requirements. <\/span><\/p> <\/p> This 30-meter dataset of North American Land Cover reflects land cover information for 2010 from Mexico and Canada and 2011 <\/span><\/p> for the United States. Each country developed its own classification method to identify Land Cover classes and then provided <\/span><\/p> an input layer to produce a continental Land Cover map across North America. Canada, Mexico, and the United States developed <\/span><\/p> their own 30-meter land cover products; see specific sections on data generation below.<\/span><\/p> <\/p> The main inputs for image classification were 30-meter Landsat data. Image selection processes and reduction to specific <\/span><\/p> spectral bands varied among the countries due to study-site-specific requirements. While Canada selected most images from <\/span><\/p> the year 2010 with a few from 2009 and 2011, the United States employed mainly images from 2011. Mexico used all available <\/span><\/p> images from 2010.<\/span><\/p> <\/p> In order to generate a seamless and consistent land cover map of North America, national maps were generated for Canada by <\/span><\/p> the CCRS; for Mexico by CONABIO, INEGI, and CONAFOR; and for the United States by the USGS. Each country chose their own<\/span><\/p> approaches, ancillary data, and land cover mapping methodologies to create national datasets. This North America dataset <\/span><\/p> was produced by combining the national land cover datasets.<\/span><\/p><\/div><\/div><\/div>",
"pixelType": "U8",
"meanPixelSize": 29.999998094818761,
"exportTilesAllowed": false,
"editFieldsInfo": null,
"rasterTypeInfos": [{
"help": "",
"name": "Raster Dataset",
"description": "Supports all ArcGIS Raster Datasets"
}],
"defaultResamplingMethod": "Nearest",
"itemAccess": false,
"minScale": 0,
"serviceProperties": " The 2010 North American Land Cover 30-meter dataset was produced as part of the North American Land Change Monitoring <\/SPAN><\/P> System (NALCMS), a trilateral effort between Natural Resources Canada, the United States Geological Survey, and three Mexican <\/SPAN><\/P> organizations including the National Institute of Statistics and Geography (Instituto Nacional de Estadística y Geografía), <\/SPAN><\/P> National Commission for the Knowledge and Use of the Biodiversity (Comisión Nacional Para el Conocimiento y Uso de la <\/SPAN><\/P> Biodiversidad), and the National Forestry Commission of Mexico (Comisión Nacional Forestal). The collaboration is facilitated <\/SPAN><\/P> by the Commission for Environmental Cooperation, an international organization created by the Canada, Mexico, and United States <\/SPAN><\/P> governments under the North American Agreement on Environmental Cooperation to promote environmental collaboration between the <\/SPAN><\/P> three countries.<\/SPAN><\/P> <\/P> The general objective of NALCMS is to devise, through collective effort, a harmonized multi-scale land cover monitoring <\/SPAN><\/P> approach which ensures high accuracy and consistency in monitoring land cover changes at the North American scale and <\/SPAN><\/P> which meets each country\u2019s specific requirements. <\/SPAN><\/P> <\/P> This 30-meter dataset of North American Land Cover reflects land cover information for 2010 from Mexico and Canada and 2011 <\/SPAN><\/P> for the United States. Each country developed its own classification method to identify Land Cover classes and then provided <\/SPAN><\/P> an input layer to produce a continental Land Cover map across North America. Canada, Mexico, and the United States developed <\/SPAN><\/P> their own 30-meter land cover products; see specific sections on data generation below.<\/SPAN><\/P> <\/P> The main inputs for image classification were 30-meter Landsat data. Image selection processes and reduction to specific <\/SPAN><\/P> spectral bands varied among the countries due to study-site-specific requirements. While Canada selected most images from <\/SPAN><\/P> the year 2010 with a few from 2009 and 2011, the United States employed mainly images from 2011. Mexico used all available <\/SPAN><\/P> images from 2010.<\/SPAN><\/P> <\/P> In order to generate a seamless and consistent land cover map of North America, national maps were generated for Canada by <\/SPAN><\/P> the CCRS; for Mexico by CONABIO, INEGI, and CONAFOR; and for the United States by the USGS. Each country chose their own<\/SPAN><\/P> approaches, ancillary data, and land cover mapping methodologies to create national datasets. This North America dataset <\/SPAN><\/P> was produced by combining the national land cover datasets.<\/SPAN><\/P><\/DIV><\/DIV><\/DIV>",
"allowCopy": true,
"copyrightText": "USDA - GEO; USDA - USFS \u2013 GTAC",
"mensurationCapabilities": "Basic",
"ownershipBasedAccessControlForRasters": null
}