<?xml version="1.0" encoding="UTF-8" standalone="no"?>
<metadata xml:lang="en">
<Esri>
<CreaDate>20250304</CreaDate>
<CreaTime>08010100</CreaTime>
<ArcGISFormat>1.0</ArcGISFormat>
<SyncOnce>FALSE</SyncOnce>
<DataProperties>
<itemProps>
<imsContentType export="False">007</imsContentType>
<itemName Sync="FALSE">AP_BareEarthDEM_multiYear_USFS_R3_Southwest_multiRes</itemName>
<nativeExtBox>
<westBL Sync="TRUE">-11921542.960349</westBL>
<eastBL Sync="TRUE">-11582526.471048</eastBL>
<southBL Sync="TRUE">4107140.708333</southBL>
<northBL Sync="TRUE">4445757.390675</northBL>
<exTypeCode Sync="TRUE">1</exTypeCode>
</nativeExtBox>
</itemProps>
<coordRef>
<type Sync="TRUE">Projected</type>
<geogcsn Sync="TRUE">GCS_WGS_1984</geogcsn>
<csUnits Sync="TRUE">Linear Unit: Meter (1.000000)</csUnits>
<projcsn Sync="TRUE">WGS_1984_Web_Mercator_Auxiliary_Sphere</projcsn>
<peXml Sync="TRUE">&lt;ProjectedCoordinateSystem xsi:type='typens:ProjectedCoordinateSystem' xmlns:xsi='http://www.w3.org/2001/XMLSchema-instance' xmlns:xs='http://www.w3.org/2001/XMLSchema' xmlns:typens='http://www.esri.com/schemas/ArcGIS/3.2.0'&gt;&lt;WKT&gt;PROJCS[&amp;quot;WGS_1984_Web_Mercator_Auxiliary_Sphere&amp;quot;,GEOGCS[&amp;quot;GCS_WGS_1984&amp;quot;,DATUM[&amp;quot;D_WGS_1984&amp;quot;,SPHEROID[&amp;quot;WGS_1984&amp;quot;,6378137.0,298.257223563]],PRIMEM[&amp;quot;Greenwich&amp;quot;,0.0],UNIT[&amp;quot;Degree&amp;quot;,0.0174532925199433]],PROJECTION[&amp;quot;Mercator_Auxiliary_Sphere&amp;quot;],PARAMETER[&amp;quot;False_Easting&amp;quot;,0.0],PARAMETER[&amp;quot;False_Northing&amp;quot;,0.0],PARAMETER[&amp;quot;Central_Meridian&amp;quot;,0.0],PARAMETER[&amp;quot;Standard_Parallel_1&amp;quot;,0.0],PARAMETER[&amp;quot;Auxiliary_Sphere_Type&amp;quot;,0.0],UNIT[&amp;quot;Meter&amp;quot;,1.0],AUTHORITY[&amp;quot;EPSG&amp;quot;,3857]]&lt;/WKT&gt;&lt;XOrigin&gt;-20037700&lt;/XOrigin&gt;&lt;YOrigin&gt;-30241100&lt;/YOrigin&gt;&lt;XYScale&gt;148923141.92838538&lt;/XYScale&gt;&lt;ZOrigin&gt;-100000&lt;/ZOrigin&gt;&lt;ZScale&gt;10000&lt;/ZScale&gt;&lt;MOrigin&gt;-100000&lt;/MOrigin&gt;&lt;MScale&gt;10000&lt;/MScale&gt;&lt;XYTolerance&gt;0.001&lt;/XYTolerance&gt;&lt;ZTolerance&gt;0.001&lt;/ZTolerance&gt;&lt;MTolerance&gt;0.001&lt;/MTolerance&gt;&lt;HighPrecision&gt;true&lt;/HighPrecision&gt;&lt;WKID&gt;102100&lt;/WKID&gt;&lt;LatestWKID&gt;3857&lt;/LatestWKID&gt;&lt;/ProjectedCoordinateSystem&gt;</peXml>
</coordRef>
<RasterProperties>
<General>
<PixelDepth Sync="TRUE">32</PixelDepth>
<HasColormap Sync="TRUE">FALSE</HasColormap>
<CompressionType Sync="TRUE">None</CompressionType>
<NumBands Sync="TRUE">1</NumBands>
<Format Sync="TRUE">AMD</Format>
<HasPyramids Sync="TRUE">TRUE</HasPyramids>
<SourceType Sync="TRUE">continuous</SourceType>
<PixelType Sync="TRUE">floating point</PixelType>
<NoDataValue Sync="TRUE">
</NoDataValue>
</General>
<Properties>
<MaxImageHeight Sync="TRUE">100000</MaxImageHeight>
<MaxImageWidth Sync="TRUE">100000</MaxImageWidth>
<MaxRecordCount Sync="TRUE">1000</MaxRecordCount>
<MaxDownloadImageCount Sync="TRUE">20</MaxDownloadImageCount>
<MaxDownloadSizeLimit Sync="TRUE">2048</MaxDownloadSizeLimit>
<MaxMosaicImageCount Sync="TRUE">100</MaxMosaicImageCount>
<DefaultCompressionQuality Sync="TRUE">75</DefaultCompressionQuality>
<DefaultCompressionTolerance Sync="TRUE">0.01</DefaultCompressionTolerance>
<BlendWidth Sync="TRUE">10</BlendWidth>
<ViewpointSpacingX Sync="TRUE">600</ViewpointSpacingX>
<ViewpointSpacingY Sync="TRUE">300</ViewpointSpacingY>
<AllowedItemMetadata Sync="TRUE">Basic</AllowedItemMetadata>
<DefaultResamplingMethod Sync="TRUE">0</DefaultResamplingMethod>
<AllowedMosaicMethods Sync="TRUE">NorthWest,Center,LockRaster,ByAttribute,Nadir,Viewpoint,Seamline,None</AllowedMosaicMethods>
<AllowedCompressions Sync="TRUE">None,JPEG,LZ77,LERC</AllowedCompressions>
<AllowedMensurationCapabilities Sync="TRUE">Basic</AllowedMensurationCapabilities>
<AvailableMensurationCapabilities Sync="TRUE">None,Basic,Base-Top Height,Top-Top Shadow Height,Base-Top Shadow Height,3D</AvailableMensurationCapabilities>
<ClipToBoundary Sync="TRUE">-1</ClipToBoundary>
<FootprintMayContainNoData Sync="TRUE">-1</FootprintMayContainNoData>
<CellSizeTolerance Sync="TRUE">0.8</CellSizeTolerance>
<MinimumPixelContribution Sync="TRUE">1</MinimumPixelContribution>
<AvailableMosaicMethods Sync="TRUE">NorthWest,Center,LockRaster,ByAttribute,Nadir,Viewpoint,Seamline,None</AvailableMosaicMethods>
<AvailableCompressionMethods Sync="TRUE">None,JPEG,LZ77,LERC</AvailableCompressionMethods>
<AvailableItemMetadataLevels Sync="TRUE">None,Basic,Full</AvailableItemMetadataLevels>
<BandDefinitionKeyword Sync="TRUE">NONE</BandDefinitionKeyword>
<_docversion_ Sync="TRUE">10</_docversion_>
<AllowedFields Sync="TRUE">name,minps,maxps,lowps,highps,tag,groupname,productname,centerx,centery,zorder,st_area(shape),st_perimeter(shape),resolution,beginyear,endyear,dataset_name,metadata</AllowedFields>
<MaxCellSize Sync="TRUE">10240</MaxCellSize>
<LowCellSize Sync="TRUE">0.396240792</LowCellSize>
<HighCellSize Sync="TRUE">1024</HighCellSize>
<TimeStamp.RemoveItems Sync="TRUE">45720.5483073727</TimeStamp.RemoveItems>
<ClipToFootprint Sync="TRUE">-1</ClipToFootprint>
<DataType Sync="TRUE">Elevation</DataType>
<TimeStamp.UpdateExtent Sync="TRUE">45720.5524854514</TimeStamp.UpdateExtent>
<AvailableFields Sync="TRUE">name,minps,maxps,lowps,highps,tag,groupname,productname,centerx,centery,zorder,resolution,beginyear,endyear,dataset_name,metadata,st_area(shape),st_perimeter(shape)</AvailableFields>
<SortableFields Sync="TRUE">minps,maxps,lowps,highps,centerx,centery,zorder,st_area(shape),st_perimeter(shape),resolution,beginyear,endyear</SortableFields>
<SortAscending Sync="TRUE">-1</SortAscending>
<MosaicOperator Sync="TRUE">1</MosaicOperator>
<BlendWidthUnits Sync="TRUE">1</BlendWidthUnits>
<ClipOverviewsToFootprint Sync="TRUE">0</ClipOverviewsToFootprint>
<HasDodgingTable Sync="TRUE">0</HasDodgingTable>
<ApplyColorCorrection Sync="TRUE">0</ApplyColorCorrection>
<UseTime Sync="TRUE">-1</UseTime>
<StartTimeFieldName Sync="TRUE">beginyear</StartTimeFieldName>
<EndTimeFieldName Sync="TRUE">endyear</EndTimeFieldName>
<TimeValueFormat Sync="TRUE">YYYY</TimeValueFormat>
<UseRange Sync="TRUE">0</UseRange>
<TimeInterval Sync="TRUE">
</TimeInterval>
<TimeIntervalUnits Sync="TRUE">Years</TimeIntervalUnits>
</Properties>
<Functions Sync="TRUE">
<Function Description="Performs on-the-fly mosaic on a raster catalog." Name="Mosaic Function">
</Function>
</Functions>
</RasterProperties>
</DataProperties>
<scaleRange>
<minScale>5000000</minScale>
<maxScale>5000</maxScale>
</scaleRange>
<SyncDate>20250304</SyncDate>
<SyncTime>08250100</SyncTime>
<ModDate>20260626</ModDate>
<ModTime>16542100</ModTime>
<ArcGISProfile>FGDC</ArcGISProfile>
</Esri>
<mdLang>
<languageCode Sync="TRUE" value="eng">
</languageCode>
<countryCode Sync="TRUE" value="USA">
</countryCode>
</mdLang>
<mdChar>
<CharSetCd value="004">
</CharSetCd>
</mdChar>
<mdHrLv>
<ScopeCd value="005">
</ScopeCd>
</mdHrLv>
<mdContact>
<rpIndName>USFS IIPP Support</rpIndName>
<rpOrgName>USFS</rpOrgName>
<rpPosName>Support</rpPosName>
<role>
<RoleCd value="007">
</RoleCd>
</role>
<rpCntInfo>
<cntAddress>
<eMailAdd>sm.fs.IIPP_Support@usda.gov</eMailAdd>
</cntAddress>
</rpCntInfo>
<displayName>USFS IIPP Support</displayName>
</mdContact>
<mdDateSt Sync="TRUE">20260626</mdDateSt>
<mdTimeSt>000000</mdTimeSt>
<dataIdInfo>
<idAbs>&lt;div style='text-align:Left;'&gt;&lt;div&gt;&lt;div&gt;&lt;p&gt;&lt;span&gt;This is a collection of bare-Earth digital elevation models covering selected U.S. Forest Service and adjoining lands in the Southwest Region, encompassing Arizona and New Mexico. The data are presented in a time-enabled format, allowing the end-user to view available data year-by-year, or all available years at once, within a GIS system. The data encompass varying years, varying resolutions, and varying geographic extents, dependent upon available data as provided by the region. Bare-Earth DEMs, also commonly called Digital Terrain Models (DTM), represent the ground topography after removal of persistent objects such as vegetation and buildings, and therefore show the natural terrain.&lt;/span&gt;&lt;/p&gt;&lt;p style='margin:1 1 1 0;'&gt;&lt;span&gt;The data contains an attribute table. Notable attributes that may be of interest to an end-user are:&lt;/span&gt;&lt;/p&gt;&lt;ul&gt;&lt;li&gt;&lt;p&gt;&lt;span&gt;lowps: the pixel size of the source raster, given in meters.&lt;/span&gt;&lt;/p&gt;&lt;/li&gt;&lt;li&gt;&lt;p&gt;&lt;span&gt;highps: the pixel size of the top-most pyramid for the raster, given in meters.&lt;/span&gt;&lt;/p&gt;&lt;/li&gt;&lt;li&gt;&lt;p&gt;&lt;span&gt;beginyear: the first year of data acquisition for an individual dataset.&lt;/span&gt;&lt;/p&gt;&lt;/li&gt;&lt;li&gt;&lt;p&gt;&lt;span&gt;endyear: the final year of data acquisition for an individual dataset.&lt;/span&gt;&lt;/p&gt;&lt;/li&gt;&lt;li&gt;&lt;p&gt;&lt;span&gt;dataset_name: the name of the individual dataset within the collection.&lt;/span&gt;&lt;/p&gt;&lt;/li&gt;&lt;li&gt;&lt;p&gt;&lt;span&gt;metadata: A URL link to a file on IIPP's Portal containing metadata pertaining to an individual dataset within the image service.&lt;/span&gt;&lt;/p&gt;&lt;/li&gt;&lt;li&gt;&lt;p&gt;&lt;span&gt;resolution: The pixel size of the source raster, given in meters.&lt;/span&gt;&lt;/p&gt;&lt;/li&gt;&lt;/ul&gt;&lt;p style='font-size:16pt'&gt;&lt;span style='font-size:12pt'&gt;Terrain-related imagery are primarily derived from Lidar, stereoscopic aerial imagery, or Interferometric Synthetic Aperture Radar datasets. Consequently, these derivatives inherit the limitations and uncertainties of the parent sensor and platform and the processing techniques used to produce the imagery. The terrain images are orthographic; they have been georeferenced and displacement due to sensor orientation and topography have been removed, producing data that combines the characteristics of an image with the geometric qualities of a map. The orthographic images show ground features in their proper positions, without the distortion characteristic of unrectified aerial or satellite imagery. Digital orthoimages produced and used within the Forest Service are developed from imagery acquired through various national and regional image acquisition programs. The resulting orthoimages can be directly applied in remote sensing, GIS and mapping applications. They serve a variety of purposes, from interim maps to references for Earth science investigations and analysis. Because of the orthographic property, an orthoimage can be used like a map for measurement of distances, angles, and areas with scale being constant everywhere. Also, they can be used as map layers in GIS or other computer-based manipulation, overlaying, and analysis. An orthoimage differs from a map in a manner of depiction of detail; on a map only selected detail is shown by conventional symbols whereas on an orthoimage all details appear just as in original aerial or satellite imagery.&lt;/span&gt;&lt;/p&gt;&lt;p style='font-size:16pt'&gt;&lt;span style='font-size:12pt'&gt;Tribal lands have been masked from this public service in accordance with Tribal agreements.&lt;/span&gt;&lt;/p&gt;&lt;/div&gt;&lt;/div&gt;&lt;/div&gt;</idAbs>
<idPurp>These are bare-Earth digital elevation models covering U.S. Forest Service Southwest Region (R3) of varying years, varying resolutions, and varying geographic extents. This data is served to support Forest Service strategic goals, including: sustain our National Forests and Grasslands, deliver benefits to the public, apply knowledge globally, and excel as a high-performing agency, as well as the U.S. Dept. of Agriculture's goals to combat climate change and ensure America's agricultural system is equitable, resilient, and prosperous.</idPurp>
<idCredit>These datasets were provided by the U.S. Forest Service Southwest Region (R3) and are served by the U.S. Forest Service Geospatial Technology &amp; Applications Center (GTAC), in cooperation with the U.S. Department of the Interior's Geospatial Platform (GeoPlatform), as part of the Interdepartmental Imagery Publication Platform (IIPP).</idCredit>
<resMaint>
<maintFreq>
<MaintFreqCd value="009">
</MaintFreqCd>
</maintFreq>
<maintCont>
<rpIndName>USFS IIPP Support</rpIndName>
<rpOrgName>USFS</rpOrgName>
<rpPosName>Support</rpPosName>
<role>
<RoleCd value="007">
</RoleCd>
</role>
<rpCntInfo>
<cntAddress>
<eMailAdd>sm.fs.IIPP_Support@usda.gov</eMailAdd>
</cntAddress>
</rpCntInfo>
<displayName>USFS IIPP Support</displayName>
</maintCont>
</resMaint>
<searchKeys>
<keyword>Bare Earth</keyword>
<keyword>DEM</keyword>
<keyword>Digital Elevation Model</keyword>
<keyword>DTM</keyword>
<keyword>Digital Terrain Model</keyword>
<keyword>USFS</keyword>
<keyword>Forest Service</keyword>
<keyword>Geospatial Technology &amp; Applications Center</keyword>
<keyword>GTAC</keyword>
<keyword>IIPP</keyword>
<keyword>Interdepartmental Imagery Publication Platform</keyword>
<keyword>Southwest Region</keyword>
<keyword>R3</keyword>
<keyword>Region 3</keyword>
<keyword>Arizona</keyword>
<keyword>New Mexico</keyword>
<keyword>Carson</keyword>
<keyword>Coconino</keyword>
<keyword>Santa Fe</keyword>
<keyword>Tonto</keyword>
<keyword>Hermits Peak</keyword>
<keyword>Enchanted Circle</keyword>
<keyword>Tortilla Mountains</keyword>
<keyword>Kaibab</keyword>
<keyword>Kaibab Plateau</keyword>
<keyword>2014</keyword>
<keyword>2017</keyword>
<keyword>2022</keyword>
<keyword>2023</keyword>
<keyword>2024</keyword>
</searchKeys>
<resConst>
<Consts>
<useLimit>&lt;div style='text-align:Left;'&gt;&lt;div&gt;&lt;div&gt;&lt;p&gt;&lt;span&gt;The USDA Forest Service makes no warranty, expressed or implied, including the warranties of merchantability and fitness for a particular purpose, and assumes no legal liability or responsibility for the accuracy, reliability, completeness, or utility of these geospatial data, or for the improper or incorrect use of these geospatial data. These geospatial data and related maps or graphics are not legal documents and are not intended to be used as such. The data and maps may not be used to determine title, ownership, legal descriptions or boundaries, legal jurisdiction, or restrictions that may be in place on either public or private land. Natural hazards may or may not be depicted on the data and maps, and land users should exercise due caution. The data are dynamic and may change over time. The user is responsible to verify the limitations of the geospatial data and to use the data accordingly.&lt;/span&gt;&lt;/p&gt;&lt;/div&gt;&lt;/div&gt;&lt;/div&gt;</useLimit>
</Consts>
</resConst>
<themeKeys>
<keyword>Bare Earth; DEM; Digital Elevation Model; DTM; Digital Terrain Model; USFS; Forest Service; Geospatial Technology &amp; Applications Center; GTAC; IIPP; Interdepartmental Imagery Publication Platform;</keyword>
</themeKeys>
<placeKeys>
<keyword>Southwest Region; R3; Region 3; Arizona; New Mexico; Carson; Coconino; Tonto; Santa Fe; Hermits Peak; Enchanted Circle; Tortilla Mountains; Kaibab; Kaibab Plateau;</keyword>
</placeKeys>
<tempKeys>
<keyword>2014; 2017; 2022; 2023; 2024;</keyword>
</tempKeys>
<dataChar>
<CharSetCd value="004">
</CharSetCd>
</dataChar>
<dataExt>
<exDesc>Data of varying years.</exDesc>
</dataExt>
<idCitation>
<resTitle>BareEarthDEM_multiYear_USFS_R3_Southwest_multiRes_Public</resTitle>
<date>
<pubDate>2023-11-14T00:00:00</pubDate>
</date>
<citRespParty>
<rpIndName>USFS IIPP Support</rpIndName>
<rpOrgName>USFS</rpOrgName>
<rpPosName>Support</rpPosName>
<role>
<RoleCd value="007">
</RoleCd>
</role>
<rpCntInfo>
<cntAddress>
<eMailAdd>sm.fs.IIPP_Support@usda.gov</eMailAdd>
</cntAddress>
</rpCntInfo>
</citRespParty>
<presForm>
<PresFormCd Sync="TRUE" value="005">
</PresFormCd>
</presForm>
</idCitation>
<dataExt>
<geoEle>
<GeoBndBox esriExtentType="search">
<westBL>-113.388645</westBL>
<eastBL>-98.986383</eastBL>
<northBL>36.450646</northBL>
<southBL>31.071030</southBL>
<exTypeCode>1</exTypeCode>
</GeoBndBox>
</geoEle>
</dataExt>
<idStatus>
<ProgCd value="004">
</ProgCd>
</idStatus>
<idPoC>
<rpIndName>USFS IIPP Support</rpIndName>
<rpOrgName>USFS</rpOrgName>
<rpPosName>Support</rpPosName>
<role>
<RoleCd value="007">
</RoleCd>
</role>
<rpCntInfo>
<cntAddress addressType="">
<eMailAdd>sm.fs.IIPP_Support@usda.gov</eMailAdd>
</cntAddress>
</rpCntInfo>
<displayName>USFS IIPP Support</displayName>
</idPoC>
<envirDesc Sync="FALSE">Esri ArcGIS 13.2.0.49743</envirDesc>
<dataLang>
<languageCode Sync="TRUE" value="eng">
</languageCode>
<countryCode Sync="TRUE" value="USA">
</countryCode>
</dataLang>
<spatRpType>
<SpatRepTypCd Sync="TRUE" value="002">
</SpatRepTypCd>
</spatRpType>
<tpCat>
<TopicCatCd value="010">
</TopicCatCd>
</tpCat>
<tpCat>
<TopicCatCd value="007">
</TopicCatCd>
</tpCat>
<tpCat>
<TopicCatCd value="008">
</TopicCatCd>
</tpCat>
<tpCat>
<TopicCatCd value="006">
</TopicCatCd>
</tpCat>
</dataIdInfo>
<mdMaint>
<maintFreq>
<MaintFreqCd value="009">
</MaintFreqCd>
</maintFreq>
<maintCont>
<rpIndName>USFS IIPP Support</rpIndName>
<rpOrgName>USFS</rpOrgName>
<rpPosName>Support</rpPosName>
<role>
<RoleCd value="007">
</RoleCd>
</role>
<rpCntInfo>
<cntAddress>
<eMailAdd>sm.fs.IIPP_Support@usda.gov</eMailAdd>
</cntAddress>
</rpCntInfo>
<displayName>USFS IIPP Support</displayName>
</maintCont>
</mdMaint>
<dqInfo>
<dqScope>
<scpLvl>
<ScopeCd value="014">
</ScopeCd>
</scpLvl>
<scpLvlDesc>
<attribSet>elevation</attribSet>
<attribIntSet>pixel</attribIntSet>
</scpLvlDesc>
<scpLvlDesc>
<attribSet>horizontal accuracy</attribSet>
<attribIntSet>pixel</attribIntSet>
</scpLvlDesc>
<scpLvlDesc>
<attribSet>BeginYear, EndYear</attribSet>
<attribIntSet>dataset</attribIntSet>
</scpLvlDesc>
</dqScope>
<dataLineage>
<statement>The lineage for the individual datasets within this image service prior to GTAC's receipt is unknown. GTAC processes the data in a manner to preserve original pixel values, including using lossless compression while converting the data to cloud-optimized formats, except in the case of three or more decimal places, in which case the data is truncated to two decimal places to reduce storage and associated costs. Individual steps in producing the image services may include, but are not limited to producing image mosaics, calculating data statistics, creating overview images, and setting and adjusting mosaic parameters for optimal performance and data rendering.</statement>
</dataLineage>
<report dimension="" type="DQNonQuanAttAcc">
<evalMethDesc>The vertical accuracy of these datasets are determined during image collection by atmospheric conditions and the hardware, sensor, and software used by the vendor who produced the data and are either not currently available or beyond the scope of this project. It is the end-user's responsibility to verify whether this dataset suits their needs with regards to quality, precision, and accuracy.</evalMethDesc>
<evalMethType>
<EvalMethTypeCd value="003">
</EvalMethTypeCd>
</evalMethType>
<measResult>
<QuanResult>
<quanValType>vertical accuracy</quanValType>
<errStat>unknown</errStat>
<quanValUnit>
<UOM gmlID="" type="">
<unitSymbol>m</unitSymbol>
</UOM>
</quanValUnit>
<quanVal>elevation</quanVal>
</QuanResult>
</measResult>
</report>
<report dimension="horizontal" type="DQNonQuanAttAcc">
<evalMethDesc>The horizontal accuracy of these datasets are determined during image collection by flight conditions and the hardware, sensor, and software used by the vendor who produced the data and are either not currently available or beyond the scope of this project. It is the end-user's responsibility to verify whether this dataset suits their needs with regards to quality, precision, and accuracy.</evalMethDesc>
<evalMethType>
<EvalMethTypeCd value="003">
</EvalMethTypeCd>
</evalMethType>
<measResult>
<QuanResult>
<quanValType>horizontal accuracy</quanValType>
<quanValUnit>
<UOM gmlID="" type="">
<unitSymbol>m</unitSymbol>
</UOM>
</quanValUnit>
<errStat>unknown</errStat>
<quanVal>distance</quanVal>
</QuanResult>
</measResult>
</report>
<report dimension="" type="DQNonQuanAttAcc">
<evalMethDesc>This image service is given BeginYear and EndYear dates, indicating the years(s) of data acquisition. If BeginYear and EndYear are the same, the dataset was acquired within a single year. If the BeginYear and EndYear differ, it indicates the dataset was acquired over multiple years and put together into a single dataset, and the dataset will render across multiple time-steps.</evalMethDesc>
<evalMethType>
<EvalMethTypeCd value="001">
</EvalMethTypeCd>
</evalMethType>
<measResult>
<QuanResult>
<quanValType>Time</quanValType>
<quanValUnit>
<UOM gmlID="" type="">
<unitSymbol>a</unitSymbol>
</UOM>
</quanValUnit>
<errStat>none</errStat>
<quanVal>YYYY</quanVal>
</QuanResult>
</measResult>
</report>
</dqInfo>
<spatRepInfo>
<Georect>
<axisDimension type="002">
<dimSize Sync="TRUE">855582</dimSize>
<dimResol>
<value Sync="TRUE" uom="m">0.396241</value>
</dimResol>
</axisDimension>
<axisDimension type="001">
<dimSize Sync="TRUE">854573</dimSize>
<dimResol>
<value Sync="TRUE" uom="m">0.396241</value>
</dimResol>
</axisDimension>
<tranParaAv Sync="FALSE">0</tranParaAv>
<cellGeo>
<CellGeoCd Sync="TRUE" value="002">
</CellGeoCd>
</cellGeo>
<numDims Sync="TRUE">2</numDims>
<chkPtAv Sync="TRUE">0</chkPtAv>
<cornerPts>
<pos Sync="TRUE">-11921542.960349 4107140.708333</pos>
</cornerPts>
<cornerPts>
<pos Sync="TRUE">-11921542.960349 4445757.390675</pos>
</cornerPts>
<cornerPts>
<pos Sync="TRUE">-11582526.471048 4445757.390675</pos>
</cornerPts>
<cornerPts>
<pos Sync="TRUE">-11582526.471048 4107140.708333</pos>
</cornerPts>
<centerPt>
<pos Sync="TRUE">-11752034.715699 4276449.049504</pos>
</centerPt>
<ptInPixel>
<PixOrientCd Sync="TRUE" value="001">
</PixOrientCd>
</ptInPixel>
</Georect>
</spatRepInfo>
<refSysInfo>
<RefSystem dimension="">
<refSysID>
<identCode Sync="TRUE" code="3857">
</identCode>
<idCodeSpace Sync="TRUE">EPSG</idCodeSpace>
<idVersion Sync="TRUE">6.18.3(9.3.1.2)</idVersion>
</refSysID>
</RefSystem>
</refSysInfo>
<contInfo>
<ImgDesc>
<covDim>
<Band>
<valUnit>
<UOM gmlID="" type="length">
<unitSymbol>m</unitSymbol>
</UOM>
</valUnit>
<seqID>
<aName>Elevation</aName>
<attributeType>
<aName>Float</aName>
</attributeType>
</seqID>
<dimDescrp Sync="TRUE">Band_1</dimDescrp>
<maxVal Sync="TRUE">4010.389893</maxVal>
<minVal Sync="TRUE">1234.520020</minVal>
<bitsPerVal Sync="TRUE">32</bitsPerVal>
</Band>
</covDim>
<attDesc>Elevation</attDesc>
<trianInd>False</trianInd>
<radCalDatAv>False</radCalDatAv>
<camCalInAv>False</camCalInAv>
<filmDistInAv>False</filmDistInAv>
<lensDistInAv>False</lensDistInAv>
<contentTyp>
<ContentTypCd Sync="TRUE" value="001">
</ContentTypCd>
</contentTyp>
</ImgDesc>
</contInfo>
</metadata>
