{ "extent": { "ymin": 2617329.5305000022, "xmin": -14236439.4629, "ymax": 6728829.5305000022, "xmax": -7266359.4628999997, "spatialReference": { "latestWkid": 3857, "wkid": 102100 } }, "blockWidth": 2048, "mosaicOperator": "First", "serviceSourceType": "esriImageServiceSourceTypeMosaicDataset", "hasMultidimensions": true, "maxImageWidth": 100000, "maxRecordCount": 1000, "meanValues": [18.018975677986994], "hasColormap": false, "compressionType": "None", "defaultCompressionQuality": 75, "maxValues": [100], "hasHistograms": true, "datasetFormat": "AMD", "maxImageHeight": 100000, "bandNames": ["Band_1"], "spatialReference": { "latestWkid": 3857, "wkid": 102100 }, "fullExtent": { "ymin": 2617329.5305000022, "xmin": -14236439.4629, "ymax": 6728829.5305000022, "xmax": -7266359.4628999997, "spatialReference": { "latestWkid": 3857, "wkid": 102100 } }, "bandCount": 1, "rasterFunctionInfos": [ { "help": "", "name": "Sand", "description": "A raster function template." }, { "help": "", "name": "None", "description": "Make a Raster or Raster Dataset into a Function Raster Dataset." }, { "help": "", "name": "Clay", "description": "A raster function template." }, { "help": "", "name": "Silt", "description": "A raster function template." } ], "supportsStatistics": true, "sortableFields": "minps,maxps,lowps,highps,centerx,centery,zorder,depth", "minValues": [0], "allowRasterFunction": true, "allowComputeTiePoints": false, "serviceDataType": "esriImageServiceDataTypeScientific", "supportsAdvancedQueries": true, "maxDownloadSizeLimit": 2048, "currentVersion": 12, "objectIdField": "objectid", "blockHeight": 256, "initialExtent": { "ymin": 2617329.5305000022, "xmin": -14236439.4629, "ymax": 6728829.5305000022, "xmax": -7266359.4628999997, "spatialReference": { "latestWkid": 3857, "wkid": 102100 } }, "pixelSizeX": 30, "pixelSizeY": 30, "defaultMosaicMethod": "None", "name": "Soil_Geology/USFS_Soil_Texture", "allowedMosaicMethods": "None,NorthWest,Center,LockRaster,ByAttribute,Nadir,Viewpoint,Seamline", "maxDownloadImageCount": 20, "fields": [ { "domain": null, "name": "objectid", "alias": "objectid", "type": "esriFieldTypeOID" }, { "domain": null, "name": "name", "length": 200, "alias": "name", "type": "esriFieldTypeString" }, { "domain": null, "name": "minps", "alias": "minps", "type": "esriFieldTypeDouble" }, { "domain": null, "name": "maxps", "alias": "maxps", "type": "esriFieldTypeDouble" }, { "domain": null, "name": "lowps", "alias": "lowps", "type": "esriFieldTypeDouble" }, { "domain": null, "name": "highps", "alias": "highps", "type": "esriFieldTypeDouble" }, { "domain": { "splitPolicy": "esriSPTDefaultValue", "name": "MosaicCatalogItemCategoryDomain", "description": "Catalog item categories.", "type": "codedValue", "codedValues": [ { "code": 0, "name": "Unknown" }, { "code": 1, "name": "Primary" }, { "code": 2, "name": "Overview" }, { "code": 3, "name": "Unprocessed Overview" }, { "code": 4, "name": "Partial Overview" }, { "code": 5, "name": "Inactive" }, { "code": 253, "name": "Uploaded" }, { "code": 254, "name": "Incomplete" }, { "code": 255, "name": "Custom" } ], "mergePolicy": "esriMPTDefaultValue" }, "name": "category", "alias": "category", "type": "esriFieldTypeInteger" }, { "domain": null, "name": "tag", "length": 100, "alias": "tag", "type": "esriFieldTypeString" }, { "domain": null, "name": "groupname", "length": 100, "alias": "groupname", "type": "esriFieldTypeString" }, { "domain": null, "name": "productname", "length": 100, "alias": "productname", "type": "esriFieldTypeString" }, { "domain": null, "name": "centerx", "alias": "centerx", "type": "esriFieldTypeDouble" }, { "domain": null, "name": "centery", "alias": "centery", "type": "esriFieldTypeDouble" }, { "domain": null, "name": "zorder", "alias": "zorder", "type": "esriFieldTypeInteger" }, { "domain": null, "name": "shape", "alias": "shape", "type": "esriFieldTypeGeometry" }, { "domain": null, "name": "variable", "length": 255, "alias": "variable", "type": "esriFieldTypeString" }, { "domain": null, "name": "depth", "alias": "depth", "type": "esriFieldTypeSmallInteger" }, { "domain": null, "name": "dimensions", "length": 50, "alias": "Dimensions", "type": "esriFieldTypeString" } ], "defaultVariable": "", "allowAnalysis": true, "hasRasterAttributeTable": false, "useStandardizedQueries": true, "description": "", "pixelType": "F32", "meanPixelSize": 30, "exportTilesAllowed": false, "editFieldsInfo": null, "rasterTypeInfos": [{ "help": "", "name": "Raster Dataset", "description": "Supports all ArcGIS Raster Datasets" }], "defaultResamplingMethod": "Bilinear", "itemAccess": false, "minScale": 0, "serviceProperties": "None<\/MosaicMethod>First<\/MosaicOperator>true<\/SortAscending><\/LockImageID>name<\/TileOrderField>0<\/TileOrderBase>600.000000<\/AvgImageSpacingX>300.000000<\/AvgImageSpacingY>0.0<\/ViewPointX>0.0<\/ViewPointY>0.0<\/ViewPointDefShiftX>0.0<\/ViewPointDefShiftY>None<\/CompressionMethod>75<\/CompressionQuality>0.010000<\/CompressionTolerance>Bilinear<\/SamplingMethod><\/ImageServiceProperties><\/ImageServer>", "advancedQueryCapabilities": { "supportsStatistics": true, "supportsSqlExpression": true, "supportsOrderBy": true, "useStandardizedQueries": true, "supportsPagination": true, "supportsDistinct": true }, "serviceItemId": "b4ba0d2d60d6474aa030ad9750f35708", "capabilities": "Image,Metadata,Catalog,Mensuration", "maxScale": 0, "stdvValues": [11.302754197317945], "allowedFields": "name,minps,maxps,lowps,highps,tag,groupname,productname,centerx,centery,zorder,variable,depth,dimensions", "minPixelSize": 0, "maxMosaicImageCount": 20, "inspectionCapabilities": "", "maxPixelSize": 0, "uncompressedSize": 127366595200, "serviceDescription": "

The representative value of the percent of sand (0.05-2mm), silt (0.002 to 0.05mm), and clay (<0.002mm) particles in the less than 2mm fraction of the soil at each depth range.<\/SPAN><\/P>
Contact: Estella Smith, Geospatial Technology and Applications Center (GTAC), USFS. estella.smith@usda.gov<\/SPAN><\/P><\/DIV><\/DIV><\/DIV>", "allowCopy": true, "copyrightText": "Generated using 2022 gNATSGO soil database with NRCS Soil Data Development Toolkit (version 20201013).", "mensurationCapabilities": "Basic", "ownershipBasedAccessControlForRasters": null }