<?xml version="1.0" encoding="UTF-8" standalone="no"?>
<metadata xml:lang="en">
<Esri>
<CreaDate>20230911</CreaDate>
<CreaTime>13101100</CreaTime>
<ArcGISFormat>1.0</ArcGISFormat>
<SyncOnce>FALSE</SyncOnce>
<DataProperties>
<itemProps>
<imsContentType export="False">007</imsContentType>
<itemName Sync="TRUE">naip_2021.usfs.A_NAIP2021_CONUS</itemName>
<itemLocation>
<linkage Sync="TRUE">Server=iipp-arcgis-d-3.cmwoth4tqfhc.us-east-1.rds.amazonaws.com; Service=sde:postgresql:iipp-arcgis-d-3.cmwoth4tqfhc.us-east-1.rds.amazonaws.com; Database=naip_2021; User=usfs; Version=sde.DEFAULT</linkage>
<protocol Sync="TRUE">ArcSDE Connection</protocol>
</itemLocation>
<nativeExtBox>
<westBL Sync="TRUE">-13539701.193500</westBL>
<eastBL Sync="TRUE">-7450704.393500</eastBL>
<southBL Sync="TRUE">2814062.309500</southBL>
<northBL Sync="TRUE">6350184.509500</northBL>
<exTypeCode Sync="TRUE">1</exTypeCode>
</nativeExtBox>
</itemProps>
<coordRef>
<type Sync="TRUE">Projected</type>
<geogcsn Sync="TRUE">GCS_WGS_1984</geogcsn>
<csUnits Sync="TRUE">Linear Unit: Meter (1.000000)</csUnits>
<projcsn Sync="TRUE">WGS_1984_Web_Mercator_Auxiliary_Sphere</projcsn>
<peXml Sync="TRUE">&lt;ProjectedCoordinateSystem xsi:type='typens:ProjectedCoordinateSystem' xmlns:xsi='http://www.w3.org/2001/XMLSchema-instance' xmlns:xs='http://www.w3.org/2001/XMLSchema' xmlns:typens='http://www.esri.com/schemas/ArcGIS/3.2.0'&gt;&lt;WKT&gt;PROJCS[&amp;quot;WGS_1984_Web_Mercator_Auxiliary_Sphere&amp;quot;,GEOGCS[&amp;quot;GCS_WGS_1984&amp;quot;,DATUM[&amp;quot;D_WGS_1984&amp;quot;,SPHEROID[&amp;quot;WGS_1984&amp;quot;,6378137.0,298.257223563]],PRIMEM[&amp;quot;Greenwich&amp;quot;,0.0],UNIT[&amp;quot;Degree&amp;quot;,0.0174532925199433]],PROJECTION[&amp;quot;Mercator_Auxiliary_Sphere&amp;quot;],PARAMETER[&amp;quot;False_Easting&amp;quot;,0.0],PARAMETER[&amp;quot;False_Northing&amp;quot;,0.0],PARAMETER[&amp;quot;Central_Meridian&amp;quot;,0.0],PARAMETER[&amp;quot;Standard_Parallel_1&amp;quot;,0.0],PARAMETER[&amp;quot;Auxiliary_Sphere_Type&amp;quot;,0.0],UNIT[&amp;quot;Meter&amp;quot;,1.0],AUTHORITY[&amp;quot;EPSG&amp;quot;,3857]]&lt;/WKT&gt;&lt;XOrigin&gt;-20037700&lt;/XOrigin&gt;&lt;YOrigin&gt;-30241100&lt;/YOrigin&gt;&lt;XYScale&gt;148923141.92838538&lt;/XYScale&gt;&lt;ZOrigin&gt;-100000&lt;/ZOrigin&gt;&lt;ZScale&gt;10000&lt;/ZScale&gt;&lt;MOrigin&gt;-100000&lt;/MOrigin&gt;&lt;MScale&gt;10000&lt;/MScale&gt;&lt;XYTolerance&gt;0.001&lt;/XYTolerance&gt;&lt;ZTolerance&gt;0.001&lt;/ZTolerance&gt;&lt;MTolerance&gt;0.001&lt;/MTolerance&gt;&lt;HighPrecision&gt;true&lt;/HighPrecision&gt;&lt;WKID&gt;102100&lt;/WKID&gt;&lt;LatestWKID&gt;3857&lt;/LatestWKID&gt;&lt;/ProjectedCoordinateSystem&gt;</peXml>
</coordRef>
<RasterProperties>
<General>
<PixelDepth Sync="TRUE">8</PixelDepth>
<HasColormap Sync="TRUE">FALSE</HasColormap>
<CompressionType Sync="TRUE">None</CompressionType>
<NumBands Sync="TRUE">4</NumBands>
<Format Sync="TRUE">AMD</Format>
<HasPyramids Sync="TRUE">TRUE</HasPyramids>
<SourceType Sync="TRUE">continuous</SourceType>
<PixelType Sync="TRUE">unsigned integer</PixelType>
<NoDataValue Sync="TRUE"/>
</General>
<Properties>
<MaxImageHeight Sync="TRUE">4100</MaxImageHeight>
<MaxImageWidth Sync="TRUE">15000</MaxImageWidth>
<MaxRecordCount Sync="TRUE">1000</MaxRecordCount>
<MaxDownloadImageCount Sync="TRUE">20</MaxDownloadImageCount>
<MaxDownloadSizeLimit Sync="TRUE">2048</MaxDownloadSizeLimit>
<MaxMosaicImageCount Sync="TRUE">100</MaxMosaicImageCount>
<DefaultCompressionQuality Sync="TRUE">75</DefaultCompressionQuality>
<DefaultCompressionTolerance Sync="TRUE">0.01</DefaultCompressionTolerance>
<BlendWidth Sync="TRUE">10</BlendWidth>
<ViewpointSpacingX Sync="TRUE">600</ViewpointSpacingX>
<ViewpointSpacingY Sync="TRUE">300</ViewpointSpacingY>
<AllowedItemMetadata Sync="TRUE">Basic</AllowedItemMetadata>
<DefaultResamplingMethod Sync="TRUE">1</DefaultResamplingMethod>
<AllowedMosaicMethods Sync="TRUE">NorthWest,Center,LockRaster,ByAttribute,Nadir,Viewpoint,Seamline,None</AllowedMosaicMethods>
<AllowedCompressions Sync="TRUE">None,JPEG,LZ77,LERC</AllowedCompressions>
<AllowedMensurationCapabilities Sync="TRUE">Basic</AllowedMensurationCapabilities>
<AvailableMensurationCapabilities Sync="TRUE">None,Basic,Base-Top Height,Top-Top Shadow Height,Base-Top Shadow Height,3D</AvailableMensurationCapabilities>
<ClipToBoundary Sync="TRUE">-1</ClipToBoundary>
<FootprintMayContainNoData Sync="TRUE">-1</FootprintMayContainNoData>
<CellSizeTolerance Sync="TRUE">0.8</CellSizeTolerance>
<MinimumPixelContribution Sync="TRUE">1</MinimumPixelContribution>
<AvailableMosaicMethods Sync="TRUE">NorthWest,Center,LockRaster,ByAttribute,Nadir,Viewpoint,Seamline,None</AvailableMosaicMethods>
<AvailableCompressionMethods Sync="TRUE">None,JPEG,LZ77,LERC</AvailableCompressionMethods>
<AvailableItemMetadataLevels Sync="TRUE">None,Basic,Full</AvailableItemMetadataLevels>
<BandDefinitionKeyword Sync="TRUE">NONE</BandDefinitionKeyword>
<_docversion_ Sync="TRUE">10</_docversion_>
<AllowedFields Sync="TRUE">name,minps,maxps,lowps,highps,tag,groupname,productname,centerx,centery,zorder,st_area(shape),st_perimeter(shape),year,state</AllowedFields>
<ClipToFootprint Sync="TRUE">-1</ClipToFootprint>
<DataType Sync="TRUE">Generic</DataType>
<PixelCacheLocation Sync="TRUE">D:\Users\nancycarlson\AppData\Local\ESRI\rasterproxies\naip_2021.usfs.A_NAIP2021_CONUS</PixelCacheLocation>
<LowCellSize Sync="TRUE">0.3</LowCellSize>
<HighCellSize Sync="TRUE">307.2</HighCellSize>
<MaxCellSize Sync="TRUE">3072</MaxCellSize>
<ApplyColorCorrection Sync="TRUE">0</ApplyColorCorrection>
<SortAscending Sync="TRUE">-1</SortAscending>
<MosaicOperator Sync="TRUE">1</MosaicOperator>
<UseTime Sync="TRUE">0</UseTime>
<TimeStamp.RemoveItems Sync="TRUE">45247.9333438079</TimeStamp.RemoveItems>
<TimeStamp.UpdateExtent Sync="TRUE">45247.9333476968</TimeStamp.UpdateExtent>
</Properties>
<Functions Sync="TRUE">
<Function Description="Performs on-the-fly mosaic on a raster catalog." Name="Mosaic Function"/>
</Functions>
</RasterProperties>
<lineage>
<Process Date="20240118" Time="144507" ToolSource="c:\program files\arcgis\pro\Resources\ArcToolbox\toolboxes\Data Management Tools.tbx\AddRastersToMosaicDataset">AddRastersToMosaicDataset D:\DBConnectionFiles\naip_2021.sde\naip_2021.usfs.A_NAIP2021_CONUS "Table / Raster Catalog" D:\DBConnectionFiles\naip_2021.sde\naip_2021.usfs.MS_mrf_2021;D:\DBConnectionFiles\naip_2021.sde\naip_2021.usfs.GA_mrf_2021;D:\DBConnectionFiles\naip_2021.sde\naip_2021.usfs.FL_mrf_2021;D:\DBConnectionFiles\naip_2021.sde\naip_2021.usfs.DE_mrf_2021;D:\DBConnectionFiles\naip_2021.sde\naip_2021.usfs.CT_mrf_2021;D:\DBConnectionFiles\naip_2021.sde\naip_2021.usfs.CO_mrf_2021;D:\DBConnectionFiles\naip_2021.sde\naip_2021.usfs.AZ_mrf_2021;D:\DBConnectionFiles\naip_2021.sde\naip_2021.usfs.AR_mrf_2021;D:\DBConnectionFiles\naip_2021.sde\naip_2021.usfs.AL_mrf_2021 NO_CELL_SIZES UPDATE_BOUNDARY NO_OVERVIEWS # 0 2 # # SUBFOLDERS "Allow duplicates" NO_PYRAMIDS NO_STATISTICS NO_THUMBNAILS # NO_FORCE_SPATIAL_REFERENCE NO_STATISTICS # NO_PIXEL_CACHE D:\Users\nancycarlson\AppData\Local\ESRI\rasterproxies\naip_2021.usfs.A_NAIP2021_CONUS</Process>
<Process Date="20240118" Time="145924" ToolSource="c:\program files\arcgis\pro\Resources\ArcToolbox\toolboxes\Data Management Tools.tbx\AddRastersToMosaicDataset">AddRastersToMosaicDataset D:\DBConnectionFiles\naip_2021.sde\naip_2021.usfs.A_NAIP2021_CONUS "Table / Raster Catalog" D:\DBConnectionFiles\naip_2021.sde\naip_2021.usfs.ND_mrf_2021;D:\DBConnectionFiles\naip_2021.sde\naip_2021.usfs.KS_mrf_2021;D:\DBConnectionFiles\naip_2021.sde\naip_2021.usfs.UT_mrf_2021 NO_CELL_SIZES UPDATE_BOUNDARY NO_OVERVIEWS # 0 2 # # SUBFOLDERS "Exclude duplicates" NO_PYRAMIDS NO_STATISTICS NO_THUMBNAILS # NO_FORCE_SPATIAL_REFERENCE NO_STATISTICS # NO_PIXEL_CACHE D:\Users\nancycarlson\AppData\Local\ESRI\rasterproxies\naip_2021.usfs.A_NAIP2021_CONUS</Process>
<Process Date="20240121" Time="125446" ToolSource="c:\program files\arcgis\pro\Resources\ArcToolbox\toolboxes\Data Management Tools.tbx\AddRastersToMosaicDataset">AddRastersToMosaicDataset D:\DBConnectionFiles\naip_2021.sde\naip_2021.usfs.A_NAIP2021_CONUS "Table / Raster Catalog" D:\DBConnectionFiles\naip_2021.sde\naip_2021.usfs.NY_mrf_2021;D:\DBConnectionFiles\naip_2021.sde\naip_2021.usfs.WA_mrf_2021 NO_CELL_SIZES UPDATE_BOUNDARY NO_OVERVIEWS # 0 2 # # SUBFOLDERS "Allow duplicates" NO_PYRAMIDS NO_STATISTICS NO_THUMBNAILS # NO_FORCE_SPATIAL_REFERENCE NO_STATISTICS # NO_PIXEL_CACHE D:\Users\nancycarlson\AppData\Local\ESRI\rasterproxies\naip_2021.usfs.A_NAIP2021_CONUS</Process>
<Process Date="20240826" Time="103657" ToolSource="c:\program files\arcgis\pro\Resources\ArcToolbox\toolboxes\Data Management Tools.tbx\AddField">AddField D:\DBConnectionFiles\naip_2021.sde\naip_2021.usfs.A_NAIP2021_CONUS Metadata Text # # 255 # NULLABLE NON_REQUIRED #</Process>
<Process Date="20240826" Time="103713" ToolSource="c:\program files\arcgis\pro\Resources\ArcToolbox\toolboxes\Data Management Tools.tbx\AddField">AddField D:\DBConnectionFiles\naip_2021.sde\naip_2021.usfs.A_NAIP2021_CONUS Resolution "Double (64-bit floating point)" 20 9 # # NULLABLE NON_REQUIRED #</Process>
<Process Date="20240826" Time="104254" ToolSource="c:\program files\arcgis\pro\Resources\ArcToolbox\toolboxes\Data Management Tools.tbx\CalculateField">CalculateField D:\DBConnectionFiles\naip_2021.sde\naip_2021.usfs.A_NAIP2021_CONUS resolution !lowps! Python # Text NO_ENFORCE_DOMAINS</Process>
</lineage>
</DataProperties>
<ArcGISProfile>ISO19115_3</ArcGISProfile>
<scaleRange>
<minScale>20000000</minScale>
<maxScale>5000</maxScale>
</scaleRange>
<SyncDate>20231129</SyncDate>
<SyncTime>09370000</SyncTime>
<ModDate>20231129</ModDate>
<ModTime>10000500</ModTime>
</Esri>
<mdLang>
<languageCode Sync="TRUE" value="eng"/>
<countryCode Sync="TRUE" value="USA"/>
</mdLang>
<mdChar>
<CharSetCd value="004"/>
</mdChar>
<mdHrLv>
<ScopeCd value="005"/>
</mdHrLv>
<mdContact>
<rpIndName>USFS IIPP Support</rpIndName>
<rpOrgName>USFS</rpOrgName>
<rpPosName>Support</rpPosName>
<role>
<RoleCd value="007"/>
</role>
<rpCntInfo>
<cntAddress addressType="">
<eMailAdd>sm.fs.IIPP_Support@usda.gov</eMailAdd>
</cntAddress>
</rpCntInfo>
<displayName>USFS IIPP Support</displayName>
</mdContact>
<mdDateSt Sync="TRUE">20231129</mdDateSt>
<mdTimeSt>000000</mdTimeSt>
<dataIdInfo>
<idAbs>&lt;DIV STYLE="text-align:Left;"&gt;&lt;DIV&gt;&lt;DIV&gt;&lt;P&gt;&lt;SPAN&gt;These are digital orthophotos covering all, or selected portions of AR, AZ, CO, CT, DE, FL, GA, IA, ID, IL, KS, LA, MA, MD, ME, MN, MS, MT, ND, NH, OH, OK, RI, SC, SD, TN, UT, VA, and VT, acquired in 2021 ranging from 0.3 to 0.6 meter resolution, as provided by the USDA's Farm Production and Conservation office (FPAC). The data contains four bands, representing red, green, blue, and near infrared wavelengths, making the data suitable for analysis using either a true-color band combination or a false-color band combination.&lt;/SPAN&gt;&lt;/P&gt;&lt;P&gt;&lt;SPAN&gt;This data set contains imagery from the National Agriculture Imagery Program (NAIP). NAIP acquires digital ortho imagery during the agricultural growing seasons in the continental U.S. A primary goal of the NAIP program is to enable availability of ortho imagery within one year of acquisition. Approximately half of the US is collected each year and each state is typically collected every other year. NAIP provides two main products: 1 meter/60 centimeter ground sample distance (GSD) ortho imagery rectified to a horizontal accuracy of within +/- 5 meters of reference digital ortho quarter quads (DOQQ's) from the National Digital Ortho Program (NDOP); and 1 meter/60 centimeter GSD ortho imagery rectified to within +/- 6 meters to true ground. The tiling format of NAIP imagery is based on a 3.75' x 3.75' quarter quadrangle with a 300 meter buffer on all four sides. NAIP quarter quads are formatted to the UTM coordinate system using NAD83. The NAIP services are published in Web Mercator. NAIP imagery may contain as much as 10% cloud cover per tile.&lt;/SPAN&gt;&lt;/P&gt;&lt;P&gt;&lt;SPAN&gt;A digital orthophoto is a georeferenced image prepared from aerial imagery, or other remotely-sensed data in which the displacement within the image due to sensor orientation and terrain relief has been removed. Orthophotos combine the characteristics of an image with the geometric qualities of a map. Orthoimages show ground features such as roads, buildings, and streams in their proper positions, without the distortion characteristic of unrectified aerial imagery. Digital orthoimages produced and used within the Forest Service are developed from imagery acquired through various national and regional image acquisition programs. The resulting orthoimages, also known as orthomaps, can be directly applied in remote sensing, GIS and mapping applications. They serve a variety of purposes, from interim maps to references for earth science investigations and analysis. Because of the orthographic property, an orthoimage can be used like a map for measurement of distances, angles, and areas with scale being constant everywhere. Also, they can be used as map layers in GIS or other computer-based manipulation, overlaying, and analysis. An orthoimage differs from a map in a manner of depiction of detail; on a map only selected detail is shown by conventional symbols, whereas on an orthoimage all details appear just as in original aerial or satellite imagery.&lt;/SPAN&gt;&lt;/P&gt;&lt;/DIV&gt;&lt;/DIV&gt;&lt;/DIV&gt;</idAbs>
<idPurp>These are digital orthophotos covering selected states acquired in 2021 ranging from 0.3 to 0.6 meter resolution. This data is served to support Forest Service strategic goals, including: sustain our National Forests and Grasslands, deliver benefits to the public, apply knowledge globally, and excel as a high-performing agency, as well as the U.S. Dept. of Agriculture's goals to combat climate change and ensure America's agricultural system is equitable, resilient, and prosperous.</idPurp>
<idCredit>These datasets were provided by the USDA's Farm Production and Conservation office (FPAC) and are served by the U.S. Forest Service Geospatial Technology &amp; Applications Center (GTAC), in cooperation with the U.S. Department of the Interior's Geospatial Platform (GeoPlatform), as part of the Interdepartmental Imagery Publication Platform (IIPP).</idCredit>
<resMaint>
<maintFreq>
<MaintFreqCd value="009"/>
</maintFreq>
<maintCont>
<rpIndName>USFS IIPP Support</rpIndName>
<rpOrgName>USFS</rpOrgName>
<rpPosName>Support</rpPosName>
<role>
<RoleCd value="007"/>
</role>
<rpCntInfo>
<cntAddress>
<eMailAdd>sm.fs.IIPP_Support@usda.gov</eMailAdd>
</cntAddress>
</rpCntInfo>
<displayName>USFS IIPP Support</displayName>
</maintCont>
</resMaint>
<searchKeys>
<keyword>RGBI</keyword>
<keyword>VNIR</keyword>
<keyword>USFS</keyword>
<keyword>U.S. Forest Service</keyword>
<keyword>aerial imagery</keyword>
<keyword>orthoimagery</keyword>
<keyword>orthophoto</keyword>
<keyword>aerial photography</keyword>
<keyword>Geospatial Technology &amp; Applications Center</keyword>
<keyword>GTAC</keyword>
<keyword>IIPP</keyword>
<keyword>Interdepartmental Imagery Publication Platform</keyword>
<keyword>NAIP</keyword>
<keyword>National Agriculture Imagery Program</keyword>
<keyword>FPAC</keyword>
<keyword>Farm Production and Conservation</keyword>
<keyword>CONUS</keyword>
<keyword>conterminous United States</keyword>
<keyword>AR</keyword>
<keyword>AZ</keyword>
<keyword>CO</keyword>
<keyword>CT</keyword>
<keyword>DE</keyword>
<keyword>FL</keyword>
<keyword>GA</keyword>
<keyword>IA</keyword>
<keyword>ID</keyword>
<keyword>IL</keyword>
<keyword>KS</keyword>
<keyword>LA</keyword>
<keyword>MA</keyword>
<keyword>MD</keyword>
<keyword>ME</keyword>
<keyword>MN</keyword>
<keyword>MS</keyword>
<keyword>MT</keyword>
<keyword>ND</keyword>
<keyword>NH</keyword>
<keyword>OH</keyword>
<keyword>OK</keyword>
<keyword>RI</keyword>
<keyword>SC</keyword>
<keyword>SD</keyword>
<keyword>TN</keyword>
<keyword>UT</keyword>
<keyword>VA</keyword>
<keyword>VT</keyword>
<keyword>2021</keyword>
</searchKeys>
<resConst>
<Consts>
<useLimit>&lt;DIV STYLE="text-align:Left;"&gt;&lt;DIV&gt;&lt;DIV&gt;&lt;P&gt;&lt;SPAN&gt;The USDA Forest Service makes no warranty, expressed or implied, including the warranties of merchantability and fitness for a particular purpose, and assumes no legal liability or responsibility for the accuracy, reliability, completeness, or utility of these geospatial data, or for the improper or incorrect use of these geospatial data. These geospatial data and related maps or graphics are not legal documents and are not intended to be used as such. The data and maps may not be used to determine title, ownership, legal descriptions or boundaries, legal jurisdiction, or restrictions that may be in place on either public or private land. Natural hazards may or may not be depicted on the data and maps, and land users should exercise due caution. The data are dynamic and may change over time. The user is responsible to verify the limitations of the geospatial data and to use the data accordingly.&lt;/SPAN&gt;&lt;/P&gt;&lt;/DIV&gt;&lt;/DIV&gt;&lt;/DIV&gt;</useLimit>
</Consts>
</resConst>
<themeKeys>
<keyword>RGBI; VNIR; USFS; U.S. Forest Service; aerial imagery; orthoimagery; orthophoto; aerial photography; Geospatial Technology &amp; Applications Center; GTAC; IIPP; Interdepartmental Imagery Publication Platform; NAIP; National Agriculture Imagery Program; FPAC; Farm Production and Conservation;</keyword>
</themeKeys>
<placeKeys>
<keyword>CONUS; conterminous United States; AR; AZ; CO; CT; DE; FL; GA; IA; ID; IL; KS; LA; MA; MD; ME; MN; MS; MT; ND; NH; OH; OK; RI; SC; SD; TN; UT; VA; VT;</keyword>
</placeKeys>
<tempKeys>
<keyword>2021;</keyword>
</tempKeys>
<dataChar>
<CharSetCd value="004"/>
</dataChar>
<dataExt>
<exDesc>2021;</exDesc>
</dataExt>
<idCitation>
<resTitle>NAIP2021_CONUS</resTitle>
<date>
<pubDate>2023-11-29T00:00:00</pubDate>
</date>
<citRespParty>
<rpIndName>USFS IIPP Support</rpIndName>
<rpOrgName>USFS</rpOrgName>
<rpPosName>Support</rpPosName>
<role>
<RoleCd value="007"/>
</role>
<rpCntInfo>
<cntAddress>
<eMailAdd>sm.fs.IIPP_Support@usda.gov</eMailAdd>
</cntAddress>
</rpCntInfo>
</citRespParty>
<presForm>
<PresFormCd Sync="TRUE" value="005"/>
</presForm>
</idCitation>
<dataExt>
<geoEle>
<GeoBndBox esriExtentType="search">
<westBL>-122.988654</westBL>
<eastBL>-70.105198</eastBL>
<northBL>43.055059</northBL>
<southBL>30.157769</southBL>
<exTypeCode>1</exTypeCode>
</GeoBndBox>
</geoEle>
</dataExt>
<idStatus>
<ProgCd value="004"/>
</idStatus>
<idPoC>
<rpIndName>USFS IIPP Support</rpIndName>
<rpOrgName>USFS</rpOrgName>
<rpPosName>Support</rpPosName>
<role>
<RoleCd value="007"/>
</role>
<rpCntInfo>
<cntAddress addressType="">
<eMailAdd>sm.fs.IIPP_Support@usda.gov</eMailAdd>
</cntAddress>
</rpCntInfo>
<displayName>USFS IIPP Support</displayName>
</idPoC>
<envirDesc Sync="TRUE">Microsoft Windows Server 2016 Technical Preview Version 10.0 (Build 17763) ; Esri ArcGIS 13.2.0.49743</envirDesc>
<dataLang>
<languageCode Sync="TRUE" value="eng"/>
<countryCode Sync="TRUE" value="USA"/>
</dataLang>
<spatRpType>
<SpatRepTypCd Sync="TRUE" value="002"/>
</spatRpType>
<tpCat>
<TopicCatCd value="010"/>
</tpCat>
<tpCat>
<TopicCatCd value="007"/>
</tpCat>
<tpCat>
<TopicCatCd value="008"/>
</tpCat>
<tpCat>
<TopicCatCd value="001"/>
</tpCat>
</dataIdInfo>
<mdMaint>
<maintFreq>
<MaintFreqCd value="009"/>
</maintFreq>
<maintCont>
<rpIndName>USFS IIPP Support</rpIndName>
<rpOrgName>USFS</rpOrgName>
<rpPosName>Support</rpPosName>
<role>
<RoleCd value="007"/>
</role>
<rpCntInfo>
<cntAddress>
<eMailAdd>sm.fs.IIPP_Support@usda.gov</eMailAdd>
</cntAddress>
</rpCntInfo>
<displayName>USFS IIPP Support</displayName>
</maintCont>
</mdMaint>
<dqInfo>
<dqScope>
<scpLvl>
<ScopeCd value="014"/>
</scpLvl>
<scpLvlDesc>
<attribSet>brightness value</attribSet>
<attribIntSet>pixel</attribIntSet>
</scpLvlDesc>
<scpLvlDesc>
<attribSet>horizontal accuracy</attribSet>
<attribIntSet>pixel</attribIntSet>
</scpLvlDesc>
</dqScope>
<dataLineage>
<statement>The lineage for the individual datasets within this image service prior to GTAC's receipt is beyond the scope of this project. GTAC processes the data in a manner to preserve original pixel values, including using lossless compression while converting the data to cloud-optimized formats. Individual steps in producing the image services may include, but are not limited to producing image mosaics, calculating data statistics, creating overview images, and setting and adjusting mosaic parameters for optimal performance and data rendering.</statement>
</dataLineage>
<report dimension="" type="DQNonQuanAttAcc">
<evalMethDesc>The radiometric accuracy of these datasets are determined during image collection by atmospheric conditions and the hardware, sensor, and software used by the vendor who produced the data and are either not currently available or beyond the scope of this project. It is the end-user's responsibility to verify whether this dataset suits their needs with regards to quality, precision, and accuracy.</evalMethDesc>
<evalMethType>
<EvalMethTypeCd value="003"/>
</evalMethType>
<measResult>
<QuanResult>
<quanValType>brightness value</quanValType>
<errStat>unknown</errStat>
<quanVal>0 - 255</quanVal>
<quanValUnit>
<UOM gmlID="" type="">
<unitSymbol>Lmb</unitSymbol>
</UOM>
</quanValUnit>
</QuanResult>
</measResult>
</report>
<report dimension="horizontal" type="DQQuanAttAcc">
<measResult>
<QuanResult>
<quanValType>horizontal accuracy</quanValType>
<quanValUnit>
<UOM gmlID="" type="">
<unitSymbol>m</unitSymbol>
</UOM>
</quanValUnit>
<errStat>+/- 5 or 6 meters</errStat>
<quanVal>distance</quanVal>
</QuanResult>
</measResult>
<measDesc>NAIP provides two main products: 1 meter/60 centimeter ground sample distance (GSD) ortho imagery rectified to a horizontal accuracy of within +/- 5 meters of reference digital ortho quarter quads (DOQQ's) from the National Digital Ortho Program (NDOP); and 1 meter/60 centimeter GSD ortho imagery rectified to within +/- 6 meters to true ground. </measDesc>
</report>
</dqInfo>
<spatRepInfo>
<Georect>
<cellGeo>
<CellGeoCd Sync="TRUE" value="002"/>
</cellGeo>
<numDims Sync="TRUE">2</numDims>
<tranParaAv Sync="FALSE">0</tranParaAv>
<chkPtAv Sync="TRUE">0</chkPtAv>
<cornerPts>
<pos Sync="TRUE">-13539701.193500 2814062.309500</pos>
</cornerPts>
<cornerPts>
<pos Sync="TRUE">-13539701.193500 6350184.509500</pos>
</cornerPts>
<cornerPts>
<pos Sync="TRUE">-7450704.393500 6350184.509500</pos>
</cornerPts>
<cornerPts>
<pos Sync="TRUE">-7450704.393500 2814062.309500</pos>
</cornerPts>
<centerPt>
<pos Sync="TRUE">-10495202.793500 4582123.409500</pos>
</centerPt>
<axisDimension type="002">
<dimSize Sync="TRUE">20296656</dimSize>
<dimResol>
<value Sync="TRUE" uom="m">0.300000</value>
</dimResol>
</axisDimension>
<axisDimension type="001">
<dimSize Sync="TRUE">11787074</dimSize>
<dimResol>
<value Sync="TRUE" uom="m">0.300000</value>
</dimResol>
</axisDimension>
<ptInPixel>
<PixOrientCd Sync="TRUE" value="001"/>
</ptInPixel>
</Georect>
</spatRepInfo>
<refSysInfo>
<RefSystem dimension="">
<refSysID>
<identCode Sync="TRUE" code="3857"/>
<idCodeSpace Sync="TRUE">EPSG</idCodeSpace>
<idVersion Sync="TRUE">6.18.3(9.3.1.2)</idVersion>
</refSysID>
</RefSystem>
</refSysInfo>
<contInfo>
<ImgDesc>
<covDim>
<Band>
<valUnit>
<UOM gmlID="" type="length"/>
</valUnit>
<seqID>
<aName>Red</aName>
<attributeType>
<aName>Integer</aName>
</attributeType>
</seqID>
<dimDescrp Sync="TRUE">Band_1</dimDescrp>
<bitsPerVal Sync="TRUE">8</bitsPerVal>
<maxVal>255</maxVal>
<minVal>0</minVal>
</Band>
<Band>
<valUnit>
<UOM gmlID="" type="length"/>
</valUnit>
<seqID>
<aName>Green</aName>
<attributeType>
<aName>Integer</aName>
</attributeType>
</seqID>
<dimDescrp Sync="TRUE">Band_2</dimDescrp>
<bitsPerVal Sync="TRUE">8</bitsPerVal>
<maxVal>255</maxVal>
<minVal>0</minVal>
</Band>
<Band>
<valUnit>
