<?xml version="1.0" encoding="UTF-8" standalone="no"?>
<metadata xml:lang="en">
<Esri>
<CreaDate>20230911</CreaDate>
<CreaTime>20345600</CreaTime>
<ArcGISFormat>1.0</ArcGISFormat>
<SyncOnce>FALSE</SyncOnce>
<DataProperties>
<itemProps>
<imsContentType export="False">007</imsContentType>
<itemName Sync="TRUE">naip_2004.usfs.A_NAIP2004_CONUS</itemName>
<itemLocation>
<linkage Sync="TRUE">Server=iipp-arcgis-d-3.cmwoth4tqfhc.us-east-1.rds.amazonaws.com; Service=sde:postgresql:iipp-arcgis-d-3.cmwoth4tqfhc.us-east-1.rds.amazonaws.com; Database=naip_2004; User=usfs; Version=sde.DEFAULT</linkage>
<protocol Sync="TRUE">ArcSDE Connection</protocol>
</itemLocation>
<nativeExtBox>
<westBL Sync="TRUE">-13845904.933900</westBL>
<eastBL Sync="TRUE">-8682160.933900</eastBL>
<southBL Sync="TRUE">-7781.735800</southBL>
<northBL Sync="TRUE">6275434.264200</northBL>
<exTypeCode Sync="TRUE">1</exTypeCode>
</nativeExtBox>
</itemProps>
<coordRef>
<type Sync="TRUE">Projected</type>
<geogcsn Sync="TRUE">GCS_WGS_1984</geogcsn>
<csUnits Sync="TRUE">Linear Unit: Meter (1.000000)</csUnits>
<projcsn Sync="TRUE">WGS_1984_Web_Mercator_Auxiliary_Sphere</projcsn>
<peXml Sync="TRUE">&lt;ProjectedCoordinateSystem xsi:type='typens:ProjectedCoordinateSystem' xmlns:xsi='http://www.w3.org/2001/XMLSchema-instance' xmlns:xs='http://www.w3.org/2001/XMLSchema' xmlns:typens='http://www.esri.com/schemas/ArcGIS/3.2.0'&gt;&lt;WKT&gt;PROJCS[&amp;quot;WGS_1984_Web_Mercator_Auxiliary_Sphere&amp;quot;,GEOGCS[&amp;quot;GCS_WGS_1984&amp;quot;,DATUM[&amp;quot;D_WGS_1984&amp;quot;,SPHEROID[&amp;quot;WGS_1984&amp;quot;,6378137.0,298.257223563]],PRIMEM[&amp;quot;Greenwich&amp;quot;,0.0],UNIT[&amp;quot;Degree&amp;quot;,0.0174532925199433]],PROJECTION[&amp;quot;Mercator_Auxiliary_Sphere&amp;quot;],PARAMETER[&amp;quot;False_Easting&amp;quot;,0.0],PARAMETER[&amp;quot;False_Northing&amp;quot;,0.0],PARAMETER[&amp;quot;Central_Meridian&amp;quot;,0.0],PARAMETER[&amp;quot;Standard_Parallel_1&amp;quot;,0.0],PARAMETER[&amp;quot;Auxiliary_Sphere_Type&amp;quot;,0.0],UNIT[&amp;quot;Meter&amp;quot;,1.0],AUTHORITY[&amp;quot;EPSG&amp;quot;,3857]]&lt;/WKT&gt;&lt;XOrigin&gt;-20037700&lt;/XOrigin&gt;&lt;YOrigin&gt;-30241100&lt;/YOrigin&gt;&lt;XYScale&gt;148923141.92838538&lt;/XYScale&gt;&lt;ZOrigin&gt;-100000&lt;/ZOrigin&gt;&lt;ZScale&gt;10000&lt;/ZScale&gt;&lt;MOrigin&gt;-100000&lt;/MOrigin&gt;&lt;MScale&gt;10000&lt;/MScale&gt;&lt;XYTolerance&gt;0.001&lt;/XYTolerance&gt;&lt;ZTolerance&gt;0.001&lt;/ZTolerance&gt;&lt;MTolerance&gt;0.001&lt;/MTolerance&gt;&lt;HighPrecision&gt;true&lt;/HighPrecision&gt;&lt;WKID&gt;102100&lt;/WKID&gt;&lt;LatestWKID&gt;3857&lt;/LatestWKID&gt;&lt;/ProjectedCoordinateSystem&gt;</peXml>
</coordRef>
<RasterProperties>
<General>
<PixelDepth Sync="TRUE">8</PixelDepth>
<HasColormap Sync="TRUE">FALSE</HasColormap>
<CompressionType Sync="TRUE">None</CompressionType>
<NumBands Sync="TRUE">3</NumBands>
<Format Sync="TRUE">AMD</Format>
<HasPyramids Sync="TRUE">TRUE</HasPyramids>
<SourceType Sync="TRUE">continuous</SourceType>
<PixelType Sync="TRUE">unsigned integer</PixelType>
<NoDataValue Sync="TRUE"/>
</General>
<Properties>
<MaxImageHeight Sync="TRUE">4100</MaxImageHeight>
<MaxImageWidth Sync="TRUE">15000</MaxImageWidth>
<MaxRecordCount Sync="TRUE">1000</MaxRecordCount>
<MaxDownloadImageCount Sync="TRUE">20</MaxDownloadImageCount>
<MaxDownloadSizeLimit Sync="TRUE">2048</MaxDownloadSizeLimit>
<MaxMosaicImageCount Sync="TRUE">100</MaxMosaicImageCount>
<DefaultCompressionQuality Sync="TRUE">75</DefaultCompressionQuality>
<DefaultCompressionTolerance Sync="TRUE">0.01</DefaultCompressionTolerance>
<BlendWidth Sync="TRUE">10</BlendWidth>
<ViewpointSpacingX Sync="TRUE">600</ViewpointSpacingX>
<ViewpointSpacingY Sync="TRUE">300</ViewpointSpacingY>
<AllowedItemMetadata Sync="TRUE">Basic</AllowedItemMetadata>
<DefaultResamplingMethod Sync="TRUE">1</DefaultResamplingMethod>
<AllowedMosaicMethods Sync="TRUE">NorthWest,Center,LockRaster,ByAttribute,Nadir,Viewpoint,Seamline,None</AllowedMosaicMethods>
<AllowedCompressions Sync="TRUE">None,JPEG,LZ77,LERC</AllowedCompressions>
<AllowedMensurationCapabilities Sync="TRUE">Basic</AllowedMensurationCapabilities>
<AvailableMensurationCapabilities Sync="TRUE">None,Basic,Base-Top Height,Top-Top Shadow Height,Base-Top Shadow Height,3D</AvailableMensurationCapabilities>
<ClipToBoundary Sync="TRUE">0</ClipToBoundary>
<FootprintMayContainNoData Sync="TRUE">-1</FootprintMayContainNoData>
<CellSizeTolerance Sync="TRUE">0.8</CellSizeTolerance>
<MinimumPixelContribution Sync="TRUE">1</MinimumPixelContribution>
<AvailableMosaicMethods Sync="TRUE">NorthWest,Center,LockRaster,ByAttribute,Nadir,Viewpoint,Seamline,None</AvailableMosaicMethods>
<AvailableCompressionMethods Sync="TRUE">None,JPEG,LZ77,LERC</AvailableCompressionMethods>
<AvailableItemMetadataLevels Sync="TRUE">None,Basic,Full</AvailableItemMetadataLevels>
<BandDefinitionKeyword Sync="TRUE">NONE</BandDefinitionKeyword>
<_docversion_ Sync="TRUE">10</_docversion_>
<AllowedFields Sync="TRUE">name,minps,maxps,lowps,highps,tag,groupname,productname,centerx,centery,zorder,st_area(shape),st_perimeter(shape),year,state</AllowedFields>
<LowCellSize Sync="TRUE">0</LowCellSize>
<HighCellSize Sync="TRUE">0</HighCellSize>
<MaxCellSize Sync="TRUE">0</MaxCellSize>
<AvailableFields Sync="TRUE">name,minps,maxps,lowps,highps,tag,groupname,productname,centerx,centery,zorder,st_area(shape),st_perimeter(shape)</AvailableFields>
<SortableFields Sync="TRUE">minps,maxps,lowps,highps,centerx,centery,zorder,st_area(shape),st_perimeter(shape)</SortableFields>
<SortAscending Sync="TRUE">-1</SortAscending>
<MosaicOperator Sync="TRUE">1</MosaicOperator>
<BlendWidthUnits Sync="TRUE">1</BlendWidthUnits>
<ClipToFootprint Sync="TRUE">-1</ClipToFootprint>
<ClipOverviewsToFootprint Sync="TRUE">0</ClipOverviewsToFootprint>
<HasDodgingTable Sync="TRUE">0</HasDodgingTable>
<ApplyColorCorrection Sync="TRUE">0</ApplyColorCorrection>
<UseTime Sync="TRUE">0</UseTime>
<StartTimeFieldName Sync="TRUE"/>
<EndTimeFieldName Sync="TRUE"/>
<TimeValueFormat Sync="TRUE"/>
<UseRange Sync="TRUE">0</UseRange>
<TimeInterval Sync="TRUE"/>
<TimeIntervalUnits Sync="TRUE"/>
<DataType Sync="TRUE">Generic</DataType>
<PixelCacheLocation Sync="TRUE">D:\Users\nancycarlson\AppData\Local\ESRI\rasterproxies\naip_2004.usfs.A_NAIP2004_CONUS</PixelCacheLocation>
</Properties>
<Functions Sync="TRUE">
<Function Description="Performs on-the-fly mosaic on a raster catalog." Name="Mosaic Function"/>
</Functions>
</RasterProperties>
</DataProperties>
<ArcGISProfile>ISO19115_3</ArcGISProfile>
<scaleRange>
<minScale>20000000</minScale>
<maxScale>5000</maxScale>
</scaleRange>
<SyncDate>20231127</SyncDate>
<SyncTime>08430400</SyncTime>
<ModDate>20231129</ModDate>
<ModTime>8000100</ModTime>
</Esri>
<mdLang>
<languageCode Sync="TRUE" value="eng"/>
<countryCode Sync="TRUE" value="USA"/>
</mdLang>
<mdChar>
<CharSetCd value="004"/>
</mdChar>
<mdHrLv>
<ScopeCd value="005"/>
</mdHrLv>
<mdContact>
<rpIndName>USFS IIPP Support</rpIndName>
<rpOrgName>USFS</rpOrgName>
<rpPosName>Support</rpPosName>
<role>
<RoleCd value="007"/>
</role>
<rpCntInfo>
<cntAddress>
<eMailAdd>sm.fs.IIPP_Support@usda.gov</eMailAdd>
</cntAddress>
</rpCntInfo>
<displayName>USFS IIPP Support</displayName>
</mdContact>
<mdDateSt Sync="TRUE">20231129</mdDateSt>
<mdTimeSt>000000</mdTimeSt>
<dataIdInfo>
<idAbs>&lt;DIV STYLE="text-align:Left;"&gt;&lt;DIV&gt;&lt;DIV&gt;&lt;P&gt;&lt;SPAN&gt;These are digital orthophotos covering all, or selected portions of CA, OR, ID, AZ, TX, OH, UT, CO, SD, OK, LA, MS, KY, and PA, acquired in 2004 at 1 meter resolution, as provided by the USDA's Farm Production and Conservation office (FPAC). The data contains three bands, representing red, green, and blue, wavelengths, making the data suitable for analysis using a true-color band combination.&lt;/SPAN&gt;&lt;/P&gt;&lt;P&gt;&lt;SPAN&gt;This data set contains imagery from the National Agriculture Imagery Program (NAIP). NAIP acquires digital ortho imagery during the agricultural growing seasons in the continental U.S. A primary goal of the NAIP program is to enable availability of ortho imagery within one year of acquisition. Approximately half of the US is collected each year and each state is typically collected every other year. NAIP provides two main products: 1 meter/60 centimeter ground sample distance (GSD) ortho imagery rectified to a horizontal accuracy of within +/- 5 meters of reference digital ortho quarter quads (DOQQ's) from the National Digital Ortho Program (NDOP); and 1 meter/60 centimeter GSD ortho imagery rectified to within +/- 6 meters to true ground. The tiling format of NAIP imagery is based on a 3.75' x 3.75' quarter quadrangle with a 300 meter buffer on all four sides. NAIP quarter quads are formatted to the UTM coordinate system using NAD83. The NAIP services are published in Web Mercator. NAIP imagery may contain as much as 10% cloud cover per tile.&lt;/SPAN&gt;&lt;/P&gt;&lt;P&gt;&lt;SPAN&gt;A digital orthophoto is a georeferenced image prepared from aerial imagery, or other remotely-sensed data in which the displacement within the image due to sensor orientation and terrain relief has been removed. Orthophotos combine the characteristics of an image with the geometric qualities of a map. Orthoimages show ground features such as roads, buildings, and streams in their proper positions, without the distortion characteristic of unrectified aerial imagery. Digital orthoimages produced and used within the Forest Service are developed from imagery acquired through various national and regional image acquisition programs. The resulting orthoimages, also known as orthomaps, can be directly applied in remote sensing, GIS and mapping applications. They serve a variety of purposes, from interim maps to references for earth science investigations and analysis. Because of the orthographic property, an orthoimage can be used like a map for measurement of distances, angles, and areas with scale being constant everywhere. Also, they can be used as map layers in GIS or other computer-based manipulation, overlaying, and analysis. An orthoimage differs from a map in a manner of depiction of detail; on a map only selected detail is shown by conventional symbols, whereas on an orthoimage all details appear just as in original aerial or satellite imagery.&lt;/SPAN&gt;&lt;/P&gt;&lt;/DIV&gt;&lt;/DIV&gt;&lt;/DIV&gt;</idAbs>
<idPurp>These are digital orthophotos covering selected states acquired in 2004 at 1 meter resolution. This data is served to support Forest Service strategic goals, including: sustain our National Forests and Grasslands, deliver benefits to the public, apply knowledge globally, and excel as a high-performing agency, as well as the U.S. Dept. of Agriculture's goals to combat climate change and ensure America's agricultural system is equitable, resilient, and prosperous.</idPurp>
<idCredit>These datasets were provided by the USDA's Farm Production and Conservation office (FPAC) and are served by the U.S. Forest Service Geospatial Technology &amp; Applications Center (GTAC), in cooperation with the U.S. Department of the Interior's Geospatial Platform (GeoPlatform), as part of the Interdepartmental Imagery Publication Platform (IIPP).</idCredit>
<resMaint>
<maintFreq>
<MaintFreqCd value="009"/>
</maintFreq>
<maintCont>
<rpIndName>USFS IIPP Support</rpIndName>
<rpOrgName>USFS</rpOrgName>
<rpPosName>Support</rpPosName>
<role>
<RoleCd value="007"/>
</role>
<rpCntInfo>
<cntAddress>
<eMailAdd>sm.fs.IIPP_Support@usda.gov</eMailAdd>
</cntAddress>
</rpCntInfo>
<displayName>USFS IIPP Support</displayName>
</maintCont>
</resMaint>
<searchKeys>
<keyword>RGB</keyword>
<keyword>USFS</keyword>
<keyword>U.S. Forest Service</keyword>
<keyword>aerial imagery</keyword>
<keyword>orthoimagery</keyword>
<keyword>orthophoto</keyword>
<keyword>aerial photography</keyword>
<keyword>Geospatial Technology &amp; Applications Center</keyword>
<keyword>GTAC</keyword>
<keyword>IIPP</keyword>
<keyword>Interdepartmental Imagery Publication Platform</keyword>
<keyword>NAIP</keyword>
<keyword>National Agriculture Imagery Program</keyword>
<keyword>FPAC</keyword>
<keyword>Farm Production and Conservation</keyword>
<keyword>CONUS</keyword>
<keyword>conterminous United States</keyword>
<keyword>CA</keyword>
<keyword>OR</keyword>
<keyword>ID</keyword>
<keyword>AZ</keyword>
<keyword>TX</keyword>
<keyword>OH</keyword>
<keyword>UT</keyword>
<keyword>CO</keyword>
<keyword>SD</keyword>
<keyword>OK</keyword>
<keyword>LA</keyword>
<keyword>MS</keyword>
<keyword>KY</keyword>
<keyword>PA</keyword>
<keyword>2004</keyword>
</searchKeys>
<resConst>
<Consts>
<useLimit>&lt;DIV STYLE="text-align:Left;"&gt;&lt;DIV&gt;&lt;DIV&gt;&lt;P&gt;&lt;SPAN&gt;The USDA Forest Service makes no warranty, expressed or implied, including the warranties of merchantability and fitness for a particular purpose, and assumes no legal liability or responsibility for the accuracy, reliability, completeness, or utility of these geospatial data, or for the improper or incorrect use of these geospatial data. These geospatial data and related maps or graphics are not legal documents and are not intended to be used as such. The data and maps may not be used to determine title, ownership, legal descriptions or boundaries, legal jurisdiction, or restrictions that may be in place on either public or private land. Natural hazards may or may not be depicted on the data and maps, and land users should exercise due caution. The data are dynamic and may change over time. The user is responsible to verify the limitations of the geospatial data and to use the data accordingly.&lt;/SPAN&gt;&lt;/P&gt;&lt;/DIV&gt;&lt;/DIV&gt;&lt;/DIV&gt;</useLimit>
</Consts>
</resConst>
<themeKeys>
<keyword>RGB; USFS; U.S. Forest Service; aerial imagery; orthoimagery; orthophoto; aerial photography; Geospatial Technology &amp; Applications Center; GTAC; IIPP; Interdepartmental Imagery Publication Platform; NAIP; National Agriculture Imagery Program; FPAC; Farm Production and Conservation;</keyword>
</themeKeys>
<placeKeys>
<keyword>CONUS; conterminous United States; CA; OR; ID; AZ; TX; OH; UT; CO; SD; OK; LA; MS; KY; PA;</keyword>
</placeKeys>
<tempKeys>
<keyword>2004;</keyword>
</tempKeys>
<dataChar>
<CharSetCd value="004"/>
</dataChar>
<dataExt>
<exDesc>2004;</exDesc>
</dataExt>
<idCitation>
<resTitle>NAIP2004_CONUS</resTitle>
<date>
<pubDate>2023-11-27T00:00:00</pubDate>
</date>
<citRespParty>
<rpIndName>USFS IIPP Support</rpIndName>
<rpOrgName>USFS</rpOrgName>
<rpPosName>Support</rpPosName>
<role>
<RoleCd value="007"/>
</role>
<rpCntInfo>
<cntAddress>
<eMailAdd>sm.fs.IIPP_Support@usda.gov</eMailAdd>
</cntAddress>
</rpCntInfo>
</citRespParty>
<presForm>
<PresFormCd Sync="TRUE" value="005"/>
</presForm>
</idCitation>
<dataExt>
<geoEle>
<GeoBndBox esriExtentType="search">
<westBL>-122.988654</westBL>
<eastBL>-70.105198</eastBL>
<northBL>43.055059</northBL>
<southBL>30.157769</southBL>
<exTypeCode>1</exTypeCode>
</GeoBndBox>
</geoEle>
</dataExt>
<idStatus>
<ProgCd value="004"/>
</idStatus>
<idPoC>
<rpIndName>USFS IIPP Support</rpIndName>
<rpOrgName>USFS</rpOrgName>
<rpPosName>Support</rpPosName>
<role>
<RoleCd value="007"/>
</role>
<rpCntInfo>
<cntAddress addressType="">
<eMailAdd>sm.fs.IIPP_Support@usda.gov</eMailAdd>
</cntAddress>
</rpCntInfo>
<displayName>USFS IIPP Support</displayName>
</idPoC>
<envirDesc Sync="TRUE">Microsoft Windows Server 2016 Technical Preview Version 10.0 (Build 17763) ; Esri ArcGIS 13.2.0.49743</envirDesc>
<dataLang>
<languageCode Sync="TRUE" value="eng"/>
<countryCode Sync="TRUE" value="USA"/>
</dataLang>
<spatRpType>
<SpatRepTypCd Sync="TRUE" value="002"/>
</spatRpType>
<tpCat>
<TopicCatCd value="010"/>
</tpCat>
<tpCat>
<TopicCatCd value="007"/>
</tpCat>
<tpCat>
<TopicCatCd value="008"/>
</tpCat>
<tpCat>
<TopicCatCd value="001"/>
</tpCat>
</dataIdInfo>
<mdMaint>
<maintFreq>
<MaintFreqCd value="009"/>
</maintFreq>
<maintCont>
<rpIndName>USFS IIPP Support</rpIndName>
<rpOrgName>USFS</rpOrgName>
<rpPosName>Support</rpPosName>
<role>
<RoleCd value="007"/>
</role>
<rpCntInfo>
<cntAddress>
<eMailAdd>sm.fs.IIPP_Support@usda.gov</eMailAdd>
</cntAddress>
</rpCntInfo>
<displayName>USFS IIPP Support</displayName>
</maintCont>
</mdMaint>
<dqInfo>
<dqScope>
<scpLvl>
<ScopeCd value="014"/>
</scpLvl>
<scpLvlDesc>
<attribSet>brightness value</attribSet>
<attribIntSet>pixel</attribIntSet>
</scpLvlDesc>
<scpLvlDesc>
<attribSet>horizontal accuracy</attribSet>
<attribIntSet>pixel</attribIntSet>
</scpLvlDesc>
</dqScope>
<dataLineage>
<statement>The lineage for the individual datasets within this image service prior to GTAC's receipt is unknown. GTAC processes the data in a manner to preserve original pixel values, including using lossless compression while converting the data to cloud-optimized formats. Individual steps in producing the image services may include, but are not limited to producing image mosaics, calculating data statistics, creating overview images, and setting and adjusting mosaic parameters for optimal performance and data rendering.</statement>
</dataLineage>
<report dimension="" type="DQNonQuanAttAcc">
<evalMethDesc>The radiometric accuracy of these datasets are determined during image collection by atmospheric conditions and the hardware, sensor, and software used by the vendor who produced the data and are either not currently available or beyond the scope of this project. It is the end-user's responsibility to verify whether this dataset suits their needs with regards to quality, precision, and accuracy.</evalMethDesc>
<evalMethType>
<EvalMethTypeCd value="003"/>
</evalMethType>
<measResult>
<QuanResult>
<quanValType>brightness value</quanValType>
<errStat>unknown</errStat>
<quanVal>0 - 255</quanVal>
<quanValUnit>
<UOM gmlID="" type="">
<unitSymbol>Lmb</unitSymbol>
</UOM>
</quanValUnit>
</QuanResult>
</measResult>
</report>
<report dimension="horizontal" type="DQNonQuanAttAcc">
<measResult>
<QuanResult>
<quanValType>horizontal accuracy</quanValType>
<quanValUnit>
<UOM gmlID="" type="">
<unitSymbol>m</unitSymbol>
</UOM>
</quanValUnit>
<errStat>+/- 5 or 6 meters</errStat>
<quanVal>distance</quanVal>
</QuanResult>
</measResult>
<measDesc>NAIP provides two main products: 1 meter/60 centimeter ground sample distance (GSD) ortho imagery rectified to a horizontal accuracy of within +/- 5 meters of reference digital ortho quarter quads (DOQQ's) from the National Digital Ortho Program (NDOP); and 1 meter/60 centimeter GSD ortho imagery rectified to within +/- 6 meters to true ground. </measDesc>
</report>
</dqInfo>
<spatRepInfo>
<Georect>
<cellGeo>
<CellGeoCd Sync="TRUE" value="002"/>
</cellGeo>
<numDims Sync="TRUE">2</numDims>
<tranParaAv Sync="FALSE">0</tranParaAv>
<chkPtAv Sync="TRUE">0</chkPtAv>
<cornerPts>
<pos Sync="TRUE">-13845904.933900 -7781.735800</pos>
</cornerPts>
<cornerPts>
<pos Sync="TRUE">-13845904.933900 6275434.264200</pos>
</cornerPts>
<cornerPts>
<pos Sync="TRUE">-8682160.933900 6275434.264200</pos>
</cornerPts>
<cornerPts>
<pos Sync="TRUE">-8682160.933900 -7781.735800</pos>
</cornerPts>
<centerPt>
<pos Sync="TRUE">-11264032.933900 3133826.264200</pos>
</centerPt>
<axisDimension type="002">
<dimSize Sync="TRUE">5163744</dimSize>
<dimResol>
<value Sync="TRUE" uom="m">1.000000</value>
</dimResol>
</axisDimension>
<axisDimension type="001">
<dimSize Sync="TRUE">6283216</dimSize>
<dimResol>
<value Sync="TRUE" uom="m">1.000000</value>
</dimResol>
</axisDimension>
<ptInPixel>
<PixOrientCd Sync="TRUE" value="001"/>
</ptInPixel>
</Georect>
</spatRepInfo>
<refSysInfo>
<RefSystem dimension="">
<refSysID>
<identCode Sync="TRUE" code="3857"/>
<idCodeSpace Sync="TRUE">EPSG</idCodeSpace>
<idVersion Sync="TRUE">6.18.3(9.3.1.2)</idVersion>
</refSysID>
</RefSystem>
</refSysInfo>
<contInfo>
<ImgDesc>
<covDim>
<Band>
<valUnit>
<UOM gmlID="" type="length"/>
</valUnit>
<seqID>
<aName>Red</aName>
<attributeType>
<aName>Integer</aName>
</attributeType>
</seqID>
<dimDescrp Sync="TRUE">Band_1</dimDescrp>
<bitsPerVal Sync="TRUE">8</bitsPerVal>
<maxVal>255</maxVal>
<minVal>0</minVal>
</Band>
<Band>
<valUnit>
<UOM gmlID="" type="length"/>
</valUnit>
<seqID>
<aName>Green</aName>
<attributeType>
<aName>Integer</aName>
</attributeType>
</seqID>
<dimDescrp Sync="TRUE">Band_2</dimDescrp>
<bitsPerVal Sync="TRUE">8</bitsPerVal>
<maxVal>255</maxVal>
<minVal>0</minVal>
</Band>
<Band>
<valUnit>
<UOM gmlID="" type="length"/>
</valUnit>
<seqID>
<aName>Blue</aName>
<attributeType>
<aName>Integer</aName>
</attributeType>
</seqID>
<dimDescrp Sync="TRUE">Band_3</dimDescrp>
<bitsPerVal Sync="TRUE">8</bitsPerVal>
<maxVal>255</maxVal>
<minVal>0</minVal>
</Band>
</covDim>
<attDesc>Brightness value</attDesc>
<trianInd>False</trianInd>
<radCalDatAv>False</radCalDatAv>
<camCalInAv>False</camCalInAv>
<filmDistInAv>False</filmDistInAv>
<lensDistInAv>False</lensDistInAv>
<contentTyp>
<ContentTypCd Sync="TRUE" value="001"/>
</contentTyp>
</ImgDesc>
</contInfo>
</metadata>
