{ "extent": { "ymin": 2562973.8165000007, "xmin": -14303401.0395, "ymax": 6787223.8165000007, "xmax": -7206651.0395, "spatialReference": { "latestWkid": 3857, "wkid": 102100 } }, "blockWidth": 2048, "mosaicOperator": "First", "serviceSourceType": "esriImageServiceSourceTypeMosaicDataset", "hasMultidimensions": false, "maxImageWidth": 100000, "maxRecordCount": 1000, "meanValues": [3.196058315152857], "hasColormap": false, "compressionType": "None", "defaultCompressionQuality": 75, "maxValues": [6], "hasHistograms": true, "datasetFormat": "AMD", "maxImageHeight": 100000, "sortField": "", "bandNames": ["Band_1"], "spatialReference": { "latestWkid": 3857, "wkid": 102100 }, "fullExtent": { "ymin": 2562973.8165000007, "xmin": -14303401.0395, "ymax": 6787223.8165000007, "xmax": -7206651.0395, "spatialReference": { "latestWkid": 3857, "wkid": 102100 } }, "bandCount": 1, "rasterFunctionInfos": [ { "help": "", "name": "PublicPrivateOwnership", "description": "6 Classes of Public Private Forest Ownership " }, { "help": "", "name": "None", "description": "Make a Raster or Raster Dataset into a Function Raster Dataset." } ], "supportsStatistics": true, "sortableFields": "minps,maxps,lowps,highps,centerx,centery,zorder,st_area(shape),st_perimeter(shape)", "minValues": [1], "allowRasterFunction": true, "allowComputeTiePoints": false, "serviceDataType": "esriImageServiceDataTypeGeneric", "supportsAdvancedQueries": true, "maxDownloadSizeLimit": 2048, "currentVersion": 12, "sortValue": null, "objectIdField": "objectid", "blockHeight": 256, "initialExtent": { "ymin": 2562973.8165000007, "xmin": -14303401.0395, "ymax": 6787223.8165000007, "xmax": -7206651.0395, "spatialReference": { "latestWkid": 3857, "wkid": 102100 } }, "pixelSizeX": 250, "pixelSizeY": 250, "defaultMosaicMethod": "Northwest", "name": "Lands_Realty/USFS_EDW_PublicPrivateForestOwnership_CONUS", "allowedMosaicMethods": "NorthWest,Center,LockRaster,ByAttribute,Nadir,Viewpoint,Seamline,None", "maxDownloadImageCount": 20, "fields": [ { "domain": null, "name": "objectid", "alias": "objectid", "type": "esriFieldTypeOID" }, { "domain": null, "name": "name", "length": 200, "alias": "name", "type": "esriFieldTypeString" }, { "domain": null, "name": "minps", "alias": "minps", "type": "esriFieldTypeDouble" }, { "domain": null, "name": "maxps", "alias": "maxps", "type": "esriFieldTypeDouble" }, { "domain": null, "name": "lowps", "alias": "lowps", "type": "esriFieldTypeDouble" }, { "domain": null, "name": "highps", "alias": "highps", "type": "esriFieldTypeDouble" }, { "domain": { "splitPolicy": "esriSPTDefaultValue", "name": "MosaicCatalogItemCategoryDomain", "description": "Catalog item categories.", "type": "codedValue", "codedValues": [ { "code": 0, "name": "Unknown" }, { "code": 1, "name": "Primary" }, { "code": 2, "name": "Overview" }, { "code": 3, "name": "Unprocessed Overview" }, { "code": 4, "name": "Partial Overview" }, { "code": 5, "name": "Inactive" }, { "code": 253, "name": "Uploaded" }, { "code": 254, "name": "Incomplete" }, { "code": 255, "name": "Custom" } ], "mergePolicy": "esriMPTDefaultValue" }, "name": "category", "alias": "category", "type": "esriFieldTypeInteger" }, { "domain": null, "name": "tag", "length": 100, "alias": "tag", "type": "esriFieldTypeString" }, { "domain": null, "name": "groupname", "length": 100, "alias": "groupname", "type": "esriFieldTypeString" }, { "domain": null, "name": "productname", "length": 100, "alias": "productname", "type": "esriFieldTypeString" }, { "domain": null, "name": "centerx", "alias": "centerx", "type": "esriFieldTypeDouble" }, { "domain": null, "name": "centery", "alias": "centery", "type": "esriFieldTypeDouble" }, { "domain": null, "name": "zorder", "alias": "zorder", "type": "esriFieldTypeInteger" }, { "domain": null, "name": "shape", "alias": "shape", "type": "esriFieldTypeGeometry" } ], "allowAnalysis": true, "hasRasterAttributeTable": false, "useStandardizedQueries": true, "description": "", "pixelType": "U4", "meanPixelSize": 250, "exportTilesAllowed": false, "editFieldsInfo": null, "rasterTypeInfos": [{ "help": "", "name": "Raster Dataset", "description": "Supports all ArcGIS Raster Datasets" }], "defaultResamplingMethod": "Nearest", "itemAccess": false, "minScale": 0, "serviceProperties": "NorthWest<\/MosaicMethod>First<\/MosaicOperator>true<\/SortAscending><\/LockImageID>name<\/TileOrderField>0<\/TileOrderBase>600.000000<\/AvgImageSpacingX>300.000000<\/AvgImageSpacingY>0.0<\/ViewPointX>0.0<\/ViewPointY>0.0<\/ViewPointDefShiftX>0.0<\/ViewPointDefShiftY>None<\/CompressionMethod>75<\/CompressionQuality>0.010000<\/CompressionTolerance>Nearest<\/SamplingMethod><\/ImageServiceProperties><\/ImageServer>", "advancedQueryCapabilities": { "supportsStatistics": true, "supportsSqlExpression": true, "supportsOrderBy": true, "useStandardizedQueries": true, "supportsPagination": true, "supportsDistinct": true }, "serviceItemId": "254cf17402674ff5837ff4cb2487bbca", "capabilities": "Image,Metadata,Catalog,Mensuration", "maxScale": 0, "stdvValues": [1.6252946782230804], "allowedFields": "name,minps,maxps,lowps,highps,tag,groupname,productname,centerx,centery,zorder", "minPixelSize": 0, "sortAscending": true, "maxMosaicImageCount": 100, "inspectionCapabilities": "", "maxPixelSize": 0, "uncompressedSize": 239827570, "serviceDescription": "

This data product contains raster data depicting the spatial distribution of forest ownership types in the conterminous United States circa 2009. The data are a modeled representation of forest land by ownership type, and include three types of public ownership: federal, state, and local, as well as three types of private ownership: family (includes individuals and families), corporate, and other private (includes conservation and natural resource organizations, unincorporated partnerships and associations, and Native American tribal lands).<\/SPAN><\/P>
Data are from \"Public and private forest ownership in the conterminous United States circa 2009: distribution of six ownership types - geospatial dataset\" (<\/SPAN>RDS-2014-002<\/SPAN><\/A>)<\/SPAN><\/P>
The data are designed for strategic analyses at a national or regional scale which require spatially explicit information regarding the extent, distribution, and prevalence of the ownership types represented. The data are not recommended for tactical analyses on a sub-regional scale, or for informing local management decisions. Furthermore, map accuracies vary considerably and thus the utility of these data can vary geographically under different ownership patterns.<\/SPAN><\/P>
<\/P><\/DIV><\/DIV><\/DIV>", "allowCopy": true, "copyrightText": "Funding for this project provided by USDA Forest Service, Northern Research Station (NRS), Forest Inventory & Analysis as well as USDA Forest Service, State and Private Forestry Cooperative Forestry.", "mensurationCapabilities": "Basic", "ownershipBasedAccessControlForRasters": null }