{ "extent": { "ymin": 2508528.1895999983, "xmin": -14987713.4518, "ymax": 6859028.1895999983, "xmax": -7263963.4517999999, "spatialReference": { "latestWkid": 3857, "wkid": 102100 } }, "blockWidth": 2048, "mosaicOperator": "First", "serviceSourceType": "esriImageServiceSourceTypeMosaicDataset", "hasMultidimensions": false, "maxImageWidth": 100000, "maxRecordCount": 1000, "meanValues": [1599.2506134738558], "hasColormap": false, "compressionType": "None", "defaultCompressionQuality": 75, "maxValues": [5679], "hasHistograms": true, "datasetFormat": "AMD", "maxImageHeight": 100000, "sortField": "", "bandNames": ["Band_1"], "spatialReference": { "latestWkid": 3857, "wkid": 102100 }, "fullExtent": { "ymin": 2508528.1895999983, "xmin": -14987713.4518, "ymax": 6859028.1895999983, "xmax": -7263963.4517999999, "spatialReference": { "latestWkid": 3857, "wkid": 102100 } }, "bandCount": 1, "rasterFunctionInfos": [ { "help": "", "name": "RangeProd_Attribute_Table_by3s", "description": "A raster function template." }, { "help": "", "name": "None", "description": "Make a Raster or Raster Dataset into a Function Raster Dataset." } ], "supportsStatistics": true, "sortableFields": "minps,maxps,lowps,highps,centerx,centery,zorder,st_area(shape),st_perimeter(shape),beginyear,endyear,resolution", "minValues": [15], "allowRasterFunction": true, "allowComputeTiePoints": false, "serviceDataType": "esriImageServiceDataTypeGeneric", "supportsAdvancedQueries": true, "maxDownloadSizeLimit": 2048, "currentVersion": 12, "sortValue": null, "timeInfo": { "startTimeField": "beginyear", "endTimeField": "endyear", "timeExtent": [ 441763200000, 1672531200000 ], "timeReference": null }, "objectIdField": "objectid", "blockHeight": 256, "initialExtent": { "ymin": 2508528.1895999983, "xmin": -14987713.4518, "ymax": 6859028.1895999983, "xmax": -7263963.4517999999, "spatialReference": { "latestWkid": 3857, "wkid": 102100 } }, "pixelSizeX": 250, "pixelSizeY": 250, "defaultMosaicMethod": "Northwest", "name": "Forest_Management/USFS_EDW_RangelandProductivity_Annual_Data", "allowedMosaicMethods": "NorthWest,Center,LockRaster,ByAttribute,Nadir,Viewpoint,Seamline,None", "maxDownloadImageCount": 20, "fields": [ { "domain": null, "name": "objectid", "alias": "objectid", "type": "esriFieldTypeOID" }, { "domain": null, "name": "name", "length": 200, "alias": "name", "type": "esriFieldTypeString" }, { "domain": null, "name": "minps", "alias": "minps", "type": "esriFieldTypeDouble" }, { "domain": null, "name": "maxps", "alias": "maxps", "type": "esriFieldTypeDouble" }, { "domain": null, "name": "lowps", "alias": "lowps", "type": "esriFieldTypeDouble" }, { "domain": null, "name": "highps", "alias": "highps", "type": "esriFieldTypeDouble" }, { "domain": { "splitPolicy": "esriSPTDefaultValue", "name": "MosaicCatalogItemCategoryDomain", "description": "Catalog item categories.", "type": "codedValue", "codedValues": [ { "code": 0, "name": "Unknown" }, { "code": 1, "name": "Primary" }, { "code": 2, "name": "Overview" }, { "code": 3, "name": "Unprocessed Overview" }, { "code": 4, "name": "Partial Overview" }, { "code": 5, "name": "Inactive" }, { "code": 253, "name": "Uploaded" }, { "code": 254, "name": "Incomplete" }, { "code": 255, "name": "Custom" } ], "mergePolicy": "esriMPTDefaultValue" }, "name": "category", "alias": "category", "type": "esriFieldTypeInteger" }, { "domain": null, "name": "tag", "length": 100, "alias": "tag", "type": "esriFieldTypeString" }, { "domain": null, "name": "groupname", "length": 100, "alias": "groupname", "type": "esriFieldTypeString" }, { "domain": null, "name": "productname", "length": 100, "alias": "productname", "type": "esriFieldTypeString" }, { "domain": null, "name": "centerx", "alias": "centerx", "type": "esriFieldTypeDouble" }, { "domain": null, "name": "centery", "alias": "centery", "type": "esriFieldTypeDouble" }, { "domain": null, "name": "zorder", "alias": "zorder", "type": "esriFieldTypeInteger" }, { "domain": null, "name": "shape", "alias": "shape", "type": "esriFieldTypeGeometry" }, { "domain": null, "name": "beginyear", "alias": "beginyear", "type": "esriFieldTypeSmallInteger" }, { "domain": null, "name": "endyear", "alias": "endyear", "type": "esriFieldTypeSmallInteger" }, { "domain": null, "name": "dataset_name", "length": 100, "alias": "dataset_name", "type": "esriFieldTypeString" }, { "domain": null, "name": "public", "length": 3, "alias": "public", "type": "esriFieldTypeString" }, { "domain": null, "name": "resolution", "alias": "resolution", "type": "esriFieldTypeDouble" }, { "domain": null, "name": "metadata", "length": 255, "alias": "metadata", "type": "esriFieldTypeString" } ], "allowAnalysis": true, "hasRasterAttributeTable": false, "useStandardizedQueries": true, "description": "", "pixelType": "U16", "meanPixelSize": 250, "exportTilesAllowed": false, "editFieldsInfo": null, "rasterTypeInfos": [{ "help": "", "name": "Raster Dataset", "description": "Supports all ArcGIS Raster Datasets" }], "defaultResamplingMethod": "Nearest", "itemAccess": false, "minScale": 0, "serviceProperties": "NorthWest<\/MosaicMethod>First<\/MosaicOperator>true<\/SortAscending><\/LockImageID>name<\/TileOrderField>0<\/TileOrderBase>600.000000<\/AvgImageSpacingX>300.000000<\/AvgImageSpacingY>0.0<\/ViewPointX>0.0<\/ViewPointY>0.0<\/ViewPointDefShiftX>0.0<\/ViewPointDefShiftY>None<\/CompressionMethod>75<\/CompressionQuality>0.010000<\/CompressionTolerance>Nearest<\/SamplingMethod><\/ImageServiceProperties><\/ImageServer>", "advancedQueryCapabilities": { "supportsStatistics": true, "supportsSqlExpression": true, "supportsOrderBy": true, "useStandardizedQueries": true, "supportsPagination": true, "supportsDistinct": true }, "serviceItemId": "0a2bdce5c8bc41029ded28b8101d5d01", "capabilities": "Image,Metadata,Catalog,Mensuration", "maxScale": 0, "stdvValues": [1353.21940141347], "allowedFields": "name,minps,maxps,lowps,highps,tag,groupname,productname,centerx,centery,zorder,beginyear,endyear,dataset_name,public,resolution,metadata", "minPixelSize": 0, "sortAscending": true, "maxMosaicImageCount": 100, "inspectionCapabilities": "", "maxPixelSize": 0, "uncompressedSize": 1075269580, "serviceDescription": "

Production data were generated using the Normalized Difference Vegetation Index (NDVI) from the Thematic Mapper Suite from 1984 to 2023 at 250 m resolution. The NDVI is converted to production estimates using two regression formulas depending on the level of the NDVI; there is one equation for lower values (and thus lower production values) and one for higher values. This raster dataset yields estimates of annual production of rangeland vegetation and should be useful for understanding trends and variability in forage resources.<\/span><\/p>
This raw lbs/acre data that the Z-scores were derived from as well as the Z-scores dataset can be downloaded from: https://data.fs.usda.gov/geodata/rastergateway/rangelands/index.php.<\/span><\/p><\/div><\/div><\/div>", "allowCopy": true, "copyrightText": "Renewable Resources Planning Act (1974) (RPA), USFS OSC (Office of Sustainability and Climate)", "mensurationCapabilities": "Basic", "ownershipBasedAccessControlForRasters": null }