{ "extent": { "ymin": 2595133.8496909672, "xmin": -14249649.286860717, "ymax": 6742213.8496909672, "xmax": -7258809.2868607175, "spatialReference": { "latestWkid": 3857, "wkid": 102100 } }, "blockWidth": 2048, "mosaicOperator": "First", "serviceSourceType": "esriImageServiceSourceTypeMosaicDataset", "hasMultidimensions": false, "maxImageWidth": 100000, "maxRecordCount": 1000, "meanValues": [3.5551700336044569], "hasColormap": false, "compressionType": "None", "defaultCompressionQuality": 75, "maxValues": [8], "hasHistograms": true, "datasetFormat": "AMD", "maxImageHeight": 100000, "sortField": "", "bandNames": ["Band_1"], "spatialReference": { "latestWkid": 3857, "wkid": 102100 }, "fullExtent": { "ymin": 2595133.8496909672, "xmin": -14249649.286860717, "ymax": 6742213.8496909672, "xmax": -7258809.2868607175, "spatialReference": { "latestWkid": 3857, "wkid": 102100 } }, "bandCount": 1, "rasterFunctionInfos": [ { "help": "", "name": "Extent_Of_US_Rangelands", "description": "Extent of US Rangelands" }, { "help": "", "name": "None", "description": "Make a Raster or Raster Dataset into a Function Raster Dataset." } ], "supportsStatistics": true, "sortableFields": "minps,maxps,lowps,highps,centerx,centery,zorder,st_area(shape),st_perimeter(shape),beginyear,endyear,resolution", "minValues": [1], "allowRasterFunction": true, "allowComputeTiePoints": false, "serviceDataType": "esriImageServiceDataTypeGeneric", "supportsAdvancedQueries": true, "maxDownloadSizeLimit": 2048, "currentVersion": 12, "sortValue": null, "objectIdField": "objectid", "blockHeight": 256, "initialExtent": { "ymin": 2595133.8496909672, "xmin": -14249649.286860717, "ymax": 6742213.8496909672, "xmax": -7258809.2868607175, "spatialReference": { "latestWkid": 3857, "wkid": 102100 } }, "pixelSizeX": 30, "pixelSizeY": 30, "defaultMosaicMethod": "Northwest", "name": "Forest_Management/USFS_EDW_Extent_Of_US_Rangelands", "allowedMosaicMethods": "NorthWest,Center,LockRaster,ByAttribute,Nadir,Viewpoint,Seamline,None", "maxDownloadImageCount": 20, "fields": [ { "domain": null, "name": "objectid", "alias": "objectid", "type": "esriFieldTypeOID" }, { "domain": null, "name": "name", "length": 200, "alias": "name", "type": "esriFieldTypeString" }, { "domain": null, "name": "minps", "alias": "minps", "type": "esriFieldTypeDouble" }, { "domain": null, "name": "maxps", "alias": "maxps", "type": "esriFieldTypeDouble" }, { "domain": null, "name": "lowps", "alias": "lowps", "type": "esriFieldTypeDouble" }, { "domain": null, "name": "highps", "alias": "highps", "type": "esriFieldTypeDouble" }, { "domain": { "splitPolicy": "esriSPTDefaultValue", "name": "MosaicCatalogItemCategoryDomain", "description": "Catalog item categories.", "type": "codedValue", "codedValues": [ { "code": 0, "name": "Unknown" }, { "code": 1, "name": "Primary" }, { "code": 2, "name": "Overview" }, { "code": 3, "name": "Unprocessed Overview" }, { "code": 4, "name": "Partial Overview" }, { "code": 5, "name": "Inactive" }, { "code": 253, "name": "Uploaded" }, { "code": 254, "name": "Incomplete" }, { "code": 255, "name": "Custom" } ], "mergePolicy": "esriMPTDefaultValue" }, "name": "category", "alias": "category", "type": "esriFieldTypeInteger" }, { "domain": null, "name": "tag", "length": 100, "alias": "tag", "type": "esriFieldTypeString" }, { "domain": null, "name": "groupname", "length": 100, "alias": "groupname", "type": "esriFieldTypeString" }, { "domain": null, "name": "productname", "length": 100, "alias": "productname", "type": "esriFieldTypeString" }, { "domain": null, "name": "centerx", "alias": "centerx", "type": "esriFieldTypeDouble" }, { "domain": null, "name": "centery", "alias": "centery", "type": "esriFieldTypeDouble" }, { "domain": null, "name": "zorder", "alias": "zorder", "type": "esriFieldTypeInteger" }, { "domain": null, "name": "beginyear", "alias": "beginyear", "type": "esriFieldTypeSmallInteger" }, { "domain": null, "name": "endyear", "alias": "endyear", "type": "esriFieldTypeSmallInteger" }, { "domain": null, "name": "dataset_name", "length": 100, "alias": "dataset_name", "type": "esriFieldTypeString" }, { "domain": null, "name": "public", "length": 3, "alias": "public", "type": "esriFieldTypeString" }, { "domain": null, "name": "resolution", "alias": "resolution", "type": "esriFieldTypeDouble" }, { "domain": null, "name": "metadata", "length": 255, "alias": "metadata", "type": "esriFieldTypeString" }, { "domain": null, "name": "shape", "alias": "shape", "type": "esriFieldTypeGeometry" } ], "allowAnalysis": true, "hasRasterAttributeTable": false, "useStandardizedQueries": true, "description": "
This raster dataset depicts rangelands in the coterminous U.S., including transitional rangelands and small patch-size rangelands. Each 30 meter pixel is assigned a land cover category, including Rangeland, Afforested Rangeland (experiencing encroachment by trees [> 25% tree cover]) and Transitional Rangeland (currently dominated by herbs or shrubs that will likely become forested without management intervention). The dataset can be downloaded from the following website: https://data.fs.usda.gov/geodata/rastergateway/rangelands/index.php<\/span><\/p> Note: To download this raster dataset, go to ArcGIS Open Data Set and click the download button, and under additional resources select raster download option. An image service that depicts rangelands in the coterminous U.S., including transitional rangelands and small patch-size rangelands.<\/span><\/p><\/div><\/div><\/div>",
"pixelType": "U4",
"meanPixelSize": 30,
"exportTilesAllowed": false,
"editFieldsInfo": null,
"rasterTypeInfos": [{
"help": "",
"name": "Raster Dataset",
"description": "Supports all ArcGIS Raster Datasets"
}],
"defaultResamplingMethod": "Nearest",
"itemAccess": false,
"minScale": 0,
"serviceProperties": " This raster dataset depicts rangelands in the coterminous U.S., including transitional rangelands and small patch-size rangelands. Each 30 meter pixel is assigned a land cover category, including Rangeland, Afforested Rangeland (experiencing encroachment by trees [> 25% tree cover]) and Transitional Rangeland (currently dominated by herbs or shrubs that will likely become forested without management intervention). The dataset can be downloaded from the following website: https://data.fs.usda.gov/geodata/rastergateway/rangelands/index.php<\/SPAN><\/P><\/DIV><\/DIV><\/DIV>",
"allowCopy": true,
"copyrightText": "Funding for this project was provided by the U.S. Forest Service (USFS). RedCastle Resources produced the dataset under contract to the USFS Field Services and Innovation Center Geospatial Office (FSIC-GO).",
"mensurationCapabilities": "Basic",
"ownershipBasedAccessControlForRasters": null
}