{ "extent": { "ymin": -6379787.5546000004, "xmin": -16730723.9277, "ymax": 11379212.4454, "xmax": 1808526.0723000001, "spatialReference": { "latestWkid": 3857, "wkid": 102100 } }, "blockWidth": 2048, "mosaicOperator": "First", "serviceSourceType": "esriImageServiceSourceTypeMosaicDataset", "hasMultidimensions": false, "maxImageWidth": 100000, "maxRecordCount": 1000, "meanValues": [5.31377734561329], "hasColormap": false, "compressionType": "None", "defaultCompressionQuality": 75, "maxValues": [17], "hasHistograms": true, "datasetFormat": "AMD", "maxImageHeight": 100000, "sortField": "", "bandNames": ["Band_1"], "spatialReference": { "latestWkid": 3857, "wkid": 102100 }, "fullExtent": { "ymin": -6379787.5546000004, "xmin": -16730723.9277, "ymax": 11379212.4454, "xmax": 1808526.0723000001, "spatialReference": { "latestWkid": 3857, "wkid": 102100 } }, "bandCount": 1, "rasterFunctionInfos": [ { "help": "", "name": "WIT_EcosystemResilience", "description": "Activities_WIT_ActivityAccomplishmentsandCostsRSW_2001_2023_EcosystemResilience_250m RFT" }, { "help": "", "name": "None", "description": "Make a Raster or Raster Dataset into a Function Raster Dataset." } ], "supportsStatistics": true, "sortableFields": "minps,maxps,lowps,highps,centerx,centery,zorder", "minValues": [1], "allowRasterFunction": true, "allowComputeTiePoints": false, "serviceDataType": "esriImageServiceDataTypeGeneric", "supportsAdvancedQueries": true, "maxDownloadSizeLimit": 2048, "currentVersion": 12, "sortValue": null, "objectIdField": "objectid", "blockHeight": 256, "initialExtent": { "ymin": -6379787.5546000004, "xmin": -16730723.9277, "ymax": 11379212.4454, "xmax": 1808526.0723000001, "spatialReference": { "latestWkid": 3857, "wkid": 102100 } }, "pixelSizeX": 250, "pixelSizeY": 250, "defaultMosaicMethod": "Northwest", "name": "Forest_Management/USFS_CRV_ManagementIntent_WITEcosystemResilienceActivities", "allowedMosaicMethods": "NorthWest,Center,LockRaster,ByAttribute,Nadir,Viewpoint,Seamline,None", "maxDownloadImageCount": 20, "fields": [ { "domain": null, "name": "objectid", "alias": "objectid", "type": "esriFieldTypeOID" }, { "domain": null, "name": "name", "length": 200, "alias": "name", "type": "esriFieldTypeString" }, { "domain": null, "name": "minps", "alias": "minps", "type": "esriFieldTypeDouble" }, { "domain": null, "name": "maxps", "alias": "maxps", "type": "esriFieldTypeDouble" }, { "domain": null, "name": "lowps", "alias": "lowps", "type": "esriFieldTypeDouble" }, { "domain": null, "name": "highps", "alias": "highps", "type": "esriFieldTypeDouble" }, { "domain": { "splitPolicy": "esriSPTDefaultValue", "name": "MosaicCatalogItemCategoryDomain", "description": "Catalog item categories.", "type": "codedValue", "codedValues": [ { "code": 0, "name": "Unknown" }, { "code": 1, "name": "Primary" }, { "code": 2, "name": "Overview" }, { "code": 3, "name": "Unprocessed Overview" }, { "code": 4, "name": "Partial Overview" }, { "code": 5, "name": "Inactive" }, { "code": 253, "name": "Uploaded" }, { "code": 254, "name": "Incomplete" }, { "code": 255, "name": "Custom" } ], "mergePolicy": "esriMPTDefaultValue" }, "name": "category", "alias": "category", "type": "esriFieldTypeInteger" }, { "domain": null, "name": "tag", "length": 100, "alias": "tag", "type": "esriFieldTypeString" }, { "domain": null, "name": "groupname", "length": 100, "alias": "groupname", "type": "esriFieldTypeString" }, { "domain": null, "name": "productname", "length": 100, "alias": "productname", "type": "esriFieldTypeString" }, { "domain": null, "name": "centerx", "alias": "centerx", "type": "esriFieldTypeDouble" }, { "domain": null, "name": "centery", "alias": "centery", "type": "esriFieldTypeDouble" }, { "domain": null, "name": "zorder", "alias": "zorder", "type": "esriFieldTypeInteger" }, { "domain": null, "name": "shape", "alias": "shape", "type": "esriFieldTypeGeometry" } ], "allowAnalysis": true, "hasRasterAttributeTable": false, "useStandardizedQueries": true, "description": "", "pixelType": "S8", "meanPixelSize": 250, "exportTilesAllowed": false, "editFieldsInfo": null, "rasterTypeInfos": [{ "help": "", "name": "Raster Dataset", "description": "Supports all ArcGIS Raster Datasets" }], "defaultResamplingMethod": "Nearest", "itemAccess": false, "minScale": 0, "serviceProperties": "NorthWest<\/MosaicMethod>First<\/MosaicOperator>true<\/SortAscending><\/LockImageID>name<\/TileOrderField>0<\/TileOrderBase>600.000000<\/AvgImageSpacingX>300.000000<\/AvgImageSpacingY>0.0<\/ViewPointX>0.0<\/ViewPointY>0.0<\/ViewPointDefShiftX>0.0<\/ViewPointDefShiftY>None<\/CompressionMethod>75<\/CompressionQuality>0.010000<\/CompressionTolerance>Nearest<\/SamplingMethod><\/ImageServiceProperties><\/ImageServer>", "advancedQueryCapabilities": { "supportsStatistics": true, "supportsSqlExpression": true, "supportsOrderBy": true, "useStandardizedQueries": true, "supportsPagination": true, "supportsDistinct": true }, "serviceItemId": "cc7c1502c2994caabc0a2e7268ea8ce4", "capabilities": "Image,Metadata,Catalog,Mensuration", "maxScale": 0, "stdvValues": [3.4780520890002116], "allowedFields": "name,minps,maxps,lowps,highps,tag,groupname,productname,centerx,centery,zorder", "minPixelSize": 0, "sortAscending": true, "maxMosaicImageCount": 20, "inspectionCapabilities": "", "maxPixelSize": 0, "uncompressedSize": 5267816652, "serviceDescription": "

This data layer provides information on 11 types of ecosystem resilience activities tracked in the Watershed Improvement Tracking (WIT) database. WIT is an activity tracking system that records, tracks, and monitors activities associated with watershed and aquatic ecosystem health and function (WIT). The database was queried to produce a data layer depicting completed actions promoting ecosystem resilience excluding harvest and silviculture activities (2001-2021). Ecosystem resilience actions are defined as activities that support the ability of an ecosystem to return to a previous condition following a disturbance from climate change and/or other stressors. These could include restoring native biodiversity, allowing for larger flows, stream restoration, removing barriers to migration, creating refugia, and restoring natural disturbance regimes (e.g., through prescribed fire).<\/SPAN><\/P>
<\/P>
Non-timber ecosystem resilience activities were identified in consultation with subject matter experts on each category of WIT codes. The following activities were included in this category: 'AOP Barrier Construction','AOP Barrier Removed-Non-Road','AOP Barrier Removed-Road','AOP Eliminate Fish Entrainment','AOP Improvement-Road','Basking Log Creation','Bear Resistant Container','Beaver Dam Analog','Brush Pile Installation','Cavity Creation','Cavity Maintenance','Channel Reconstruction','Connect to Feeder Channel','Crossing Facilitation Device','Crossing Improvement-Fish','Crossing Improvement-NonFish','Crossing Removal','Decommission-Treatment Scale 1','Decommission-Treatment Scale 2','Decommission-Treatment Scale 3','Decommission-Treatment Scale 4','Decommission-Treatment Scale 5','Disease Control','Dispersed Rec Site Improvement','Diversion Improvement','Dump Cleanup','Eliminate Stream Diversion','Erosion Control','Erosion Control-Riparian','Fence-Exclosure','Fence-Removal','Fencing-Riparian','Fireline Decommission','Fish Passage Structure','Fish Passage-Stream Chnl Mod','Fish Population Suppression','Flooding Artificially','Forage Enhancement','Fuel Treatment-Chip-Crush','Fuel Treatment-Pile-Yard','Garbage Removal','Glade Restoration','Grazing Structural Improvement','Gully Rehabilitation','Guzzler Development','Guzzler Maintenance','Hillslope Protection','Hydrophobicity Treatment','Increase Large Wood','Ingress-Egress Ramps','Install Water Control Device','Instream Flow Secured','Introduce-Beaver','Introduce-Wildlife Native','InvasiveSpeciesMgmt-AqNonPlant','InvasiveSpeciesMgmt-AqPlant','InvasiveSpeciesMgmt-Riparian','InvasiveSpeciesMgmt-Feral Hogs','InvasiveSpeciesMgmt-Wildlife','Lake Deepening','Lake Habitat Improvement','Lake Reconstruction','Lakeshore Habitat Improvement','Lakeshore Stabilization','Maintain Openings','Mammal Dens','Meadow Restoration','Mine Reclamation-Abandoned','Mine-Cave Protection','Native Pest Control-AquaPlant','Native Pest Control-TerrAnimal','Native Pest Control-TerrPlant','Nest Platform','Nest-Roosting Structure','Oil and Gas Activity','Open side-channel Habitat','Other Fuel Treatment','Pipe Capping-Removal','Playa Restoration','Pollinator Habitat Improvement','Pollution Control','Prescribed Fire','Rare Plant Protection','Reduce Allotment Size','Reduce Compaction','Reduce Facility Impacts','Remove-Feral Hogs','Restore Hydrologic Function','Riparian Erosion Control','Riparian Fall/Leave','Riparian Fencing','Riparian Native Planting','Riparian Prescribed Fire','Riparian Seeding','Riparian Soil Improvement','Riparian Thinning','Riparian Thin-Pre-commercial','Road Stormproofing','Seeding','Snag-Down Log Creation','Soil Improvement','Species Population Conservatio','Species Population Restoration','Spring Protection or Restoration','Storage-Level 1','Storage-Level 2','Storage-Level 3','Streambank Stabilization','Structure Addition','Structure Addition-Habitat','Structure Addition-Spawning','Structure Maintenance-Botany','Structure Maintenance-Wildlife','Structure Removal','Thin-Commercial-Riparian','Thinning-Non-commercial','Thin-Non-commercial-Riparian','Trail Decommission','Trail Stormproofing','Vernal Pool Development -- not for the purposes of stock watering','Water Quality Improvement','Well Plugging','Wetland Enhancement','Wetland Protection','Wetland Restoration','Wetland-Pit Construction','Wildlife Hab Improved','Windrow Respreading'<\/SPAN><\/P>
<\/P><\/DIV><\/DIV><\/DIV>", "allowCopy": true, "copyrightText": "USDA Forest Service: Enterprise Data Warehouse (EDW)", "mensurationCapabilities": "Basic", "ownershipBasedAccessControlForRasters": null }