{ "extent": { "ymin": 957189.46599999815, "xmin": -16824422.600200001, "ymax": 11392439.465999998, "xmax": -2103922.6002000012, "spatialReference": { "latestWkid": 3857, "wkid": 102100 } }, "blockWidth": 2048, "mosaicOperator": "First", "serviceSourceType": "esriImageServiceSourceTypeMosaicDataset", "hasMultidimensions": false, "maxImageWidth": 100000, "maxRecordCount": 1000, "meanValues": [2.1826714269940002], "hasColormap": false, "compressionType": "None", "defaultCompressionQuality": 75, "maxValues": [6], "hasHistograms": true, "datasetFormat": "AMD", "maxImageHeight": 100000, "sortField": "", "bandNames": ["Band_1"], "spatialReference": { "latestWkid": 3857, "wkid": 102100 }, "fullExtent": { "ymin": 957189.46599999815, "xmin": -16824422.600200001, "ymax": 11392439.465999998, "xmax": -2103922.6002000012, "spatialReference": { "latestWkid": 3857, "wkid": 102100 } }, "bandCount": 1, "rasterFunctionInfos": [ { "help": "", "name": "FACTSTimberCodes", "description": "Activities_FACTS_CommonAttribute_PL_2001_2023_TimberCodes RFT" }, { "help": "", "name": "None", "description": "Make a Raster or Raster Dataset into a Function Raster Dataset." } ], "supportsStatistics": true, "sortableFields": "minps,maxps,lowps,highps,centerx,centery,zorder", "minValues": [1], "allowRasterFunction": true, "allowComputeTiePoints": false, "serviceDataType": "esriImageServiceDataTypeGeneric", "supportsAdvancedQueries": true, "maxDownloadSizeLimit": 2048, "currentVersion": 12, "sortValue": null, "objectIdField": "objectid", "blockHeight": 256, "initialExtent": { "ymin": 957189.46599999815, "xmin": -16824422.600200001, "ymax": 11392439.465999998, "xmax": -2103922.6002000012, "spatialReference": { "latestWkid": 3857, "wkid": 102100 } }, "pixelSizeX": 250, "pixelSizeY": 250, "defaultMosaicMethod": "Northwest", "name": "Forest_Management/USFS_CRV_ManagementIntent_FACTSHarvestAndSilvicultureActivities", "allowedMosaicMethods": "NorthWest,Center,LockRaster,ByAttribute,Nadir,Viewpoint,Seamline,None", "maxDownloadImageCount": 20, "fields": [ { "domain": null, "name": "objectid", "alias": "objectid", "type": "esriFieldTypeOID" }, { "domain": null, "name": "name", "length": 200, "alias": "name", "type": "esriFieldTypeString" }, { "domain": null, "name": "minps", "alias": "minps", "type": "esriFieldTypeDouble" }, { "domain": null, "name": "maxps", "alias": "maxps", "type": "esriFieldTypeDouble" }, { "domain": null, "name": "lowps", "alias": "lowps", "type": "esriFieldTypeDouble" }, { "domain": null, "name": "highps", "alias": "highps", "type": "esriFieldTypeDouble" }, { "domain": { "splitPolicy": "esriSPTDefaultValue", "name": "MosaicCatalogItemCategoryDomain", "description": "Catalog item categories.", "type": "codedValue", "codedValues": [ { "code": 0, "name": "Unknown" }, { "code": 1, "name": "Primary" }, { "code": 2, "name": "Overview" }, { "code": 3, "name": "Unprocessed Overview" }, { "code": 4, "name": "Partial Overview" }, { "code": 5, "name": "Inactive" }, { "code": 253, "name": "Uploaded" }, { "code": 254, "name": "Incomplete" }, { "code": 255, "name": "Custom" } ], "mergePolicy": "esriMPTDefaultValue" }, "name": "category", "alias": "category", "type": "esriFieldTypeInteger" }, { "domain": null, "name": "tag", "length": 100, "alias": "tag", "type": "esriFieldTypeString" }, { "domain": null, "name": "groupname", "length": 100, "alias": "groupname", "type": "esriFieldTypeString" }, { "domain": null, "name": "productname", "length": 100, "alias": "productname", "type": "esriFieldTypeString" }, { "domain": null, "name": "centerx", "alias": "centerx", "type": "esriFieldTypeDouble" }, { "domain": null, "name": "centery", "alias": "centery", "type": "esriFieldTypeDouble" }, { "domain": null, "name": "zorder", "alias": "zorder", "type": "esriFieldTypeInteger" }, { "domain": null, "name": "shape", "alias": "shape", "type": "esriFieldTypeGeometry" } ], "allowAnalysis": true, "hasRasterAttributeTable": false, "useStandardizedQueries": true, "description": "", "pixelType": "U4", "meanPixelSize": 250, "exportTilesAllowed": false, "editFieldsInfo": null, "rasterTypeInfos": [{ "help": "", "name": "Raster Dataset", "description": "Supports all ArcGIS Raster Datasets" }], "defaultResamplingMethod": "Nearest", "itemAccess": false, "minScale": 0, "serviceProperties": "NorthWest<\/MosaicMethod>First<\/MosaicOperator>true<\/SortAscending><\/LockImageID>name<\/TileOrderField>0<\/TileOrderBase>600.000000<\/AvgImageSpacingX>300.000000<\/AvgImageSpacingY>0.0<\/ViewPointX>0.0<\/ViewPointY>0.0<\/ViewPointDefShiftX>0.0<\/ViewPointDefShiftY>None<\/CompressionMethod>75<\/CompressionQuality>0.010000<\/CompressionTolerance>Nearest<\/SamplingMethod><\/ImageServiceProperties><\/ImageServer>", "advancedQueryCapabilities": { "supportsStatistics": true, "supportsSqlExpression": true, "supportsOrderBy": true, "useStandardizedQueries": true, "supportsPagination": true, "supportsDistinct": true }, "serviceItemId": "8df9a31ec87d4c4f828d3b06ad336704", "capabilities": "Image,Metadata,Catalog,Mensuration", "maxScale": 0, "stdvValues": [0.87482479643967515], "allowedFields": "name,minps,maxps,lowps,highps,tag,groupname,productname,centerx,centery,zorder", "minPixelSize": 0, "sortAscending": true, "maxMosaicImageCount": 20, "inspectionCapabilities": "", "maxPixelSize": 0, "uncompressedSize": 1228896781, "serviceDescription": "

This data layer provides information on harvest and silvicultural activities in the US Forest Service. It is part of the Forest Service Activity Tracking System (FACTS) database, an activity tracking system that records, tracks, and monitors activities associated with timber sales, NEPA decisions, trust fund plans, hazardous fuels reduction treatments, invasive species mitigation, and some range activities. The database was queried to produce this data layer on harvest and silviculture activities (2001-2021). This data layer presents five types of harvest and silviculture activities: harvests, silvicultural exams and certifications, establishment and reforestation, stand improvement, nurseries and seed procurement, and miscellaneous.<\/SPAN><\/P>
<\/P>
Harvest and silviculture activities were identified in consultation with subject matter experts on each category of FACTS codes. The following activities were included in this category: 'Treatment Monitoring Plot' (4039), 'Research Areas' (4041), 'Coppice Cut (EA/RH/FH)' (4101), 'Coppice Cut (w/leave trees) (EA/RH/FH)' (4102), 'Patch Clearcut (EA/RH/FH)' (4111), 'Stand Clearcut (EA/RH/FH)' (4113), 'Patch Clearcut (w/ leave trees) (EA/RH/FH)' (4115), 'Stand Clearcut (w/ leave trees) (EA/RH/FH)' (4117), 'Shelterwood Preparatory Cut (EA/NRH/NFH)' (4121), 'Seed-tree Preparatory Cut (EA/NRH/NFH)' (4122), 'Shelterwood Establishment Cut (with or without leave trees) (EA/RH/NFH)' (4131), 'Seed-tree Seed Cut (with and without leave trees) (EA/RH/NFH)' (4132), 'Shelterwood Removal Cut (EA/NRH/FH)' (4141), 'Seed-tree Final Cut (EA/NRH/FH)' (4142), 'Overstory Removal Cut (from advanced regeneration) (EA/RH/FH)' (4143), 'Shelterwood Removal Cut (w/ leave trees) (EA/NRH/FH)' (4145), 'Seed-tree Removal Cut (w/ leave trees) (EA/NRH/FH)' (4146), 'Shelterwood Staged Removal Cut (EA/NRH/NFH)' (4148), 'Single-tree Selection Cut (UA/RH/FH)' (4151), 'Group Selection Cut (UA/RH/FH)' (4152), 'Two-aged Coppice Cut (w/res) (2A/RH/FH)' (4162), 'Two-aged Patch Clearcut (w/res) (2A/RH/FH)' (4175), 'Two-aged Stand Clearcut (w/res) (2A/RH/FH)' (4177), 'Two-aged Seed-tree Seed and Removal Cut (w/res) (2A/RH/FH)' (4183), 'Two-aged Preparatory Cut (w/res) (2A/NRH/NFH)' (4192), 'Two-aged Shelterwood Establishment and Removal Cut (w/ res) (2A/RH/FH)' (4193), 'Two-aged Shelterwood Establishment Cut (w/res) (2A/RH/NFH)' (4194), 'Two-aged Shelterwood Final Removal Cut (w/res) (2A/NRH/FH)' (4196), 'Improvement Cut' (4210), 'Liberation Cut' (4211), 'Commercial Thin' (4220), 'Salvage Cut (intermediate treatment, not regeneration)' (4231), 'Sanitation Cut' (4232), 'Special Products Removal' (4241), 'Harvest Without Restocking' (4242), 'Natural Changes (excludes fire)' (4250), 'Permanent Land Clearing' (4270), 'Administrative Changes' (4290), 'No Treatment Matrix' (4291), 'Remote Sensing Vegetation Mapping' (4302), 'Silvicultural Stand Examination' (4310), 'Pretreatment Exam for Reforestation' (4314), 'Pretreatment Exam for Release or Precommercial Thinning' (4315), 'Ecosystem and Midscale Inventory - Data collection' (4318), 'Low Intensity Stand Examination' (4319), 'Stand Diagnosis Prepared' (4320), 'Stand Silviculture Prescription' (4331), 'Stocking Survey' (4341), 'Plantation Survival Survey' (4342), 'Animal Damage Survey' (4343), 'Vegetative Competition Survey' (4344), 'Post Treatment Vegetation Monitoring' (4346), 'Certification of Natural Regeneration with Site Prep' (4381), 'Certification of Natural Regeneration without Site Prep' (4382), 'Certification-Planted' (4383), 'Certification-Seeded' (4384), 'TSI Certification - Release/weeding' (4391), 'TSI Certification - Thinning' (4392), 'TSI Certification - Fertilization' (4393), 'TSI Certification - Cleaning' (4394), 'TSI Certification - Pruning' (4395), 'Seed (Trees)' (4411), 'Fill-in Seed or Reseed Trees' (4412), 'Plant Trees' (4431), 'Fill-in or Replant Trees' (4432), 'Seedling procurement in advance of planting activity (trees)' (4445), 'Planting stock material procurement in advance of reveg. activity (non-tree)' (4447), 'Plant or Seed Shrubs, Forbs, Grasses' (4448), 'Reforestation Enhancement' (4450), 'Reforestation Enhancement Maintenance' (4451), 'Initiate Natural Regeneration' (4452), 'Natural Recovery' (4453), 'Slashing - Pre-Site Preparation' (4455), 'Animal Damage Control for Reforestation' (4460), 'Maintenance of Animal Damage Control for Reforestation' (4461), 'Leave Tree Protection' (4466), 'Site Preparation for Planting - Burning' (4471), 'Site Preparation for Planting - Chemical' (4472), 'Site Preparation for Planting - Other' (4473), 'Site Preparation for Planting - Mechanical' (4474), 'Site Preparation for Planting - Manual' (4475), 'Site Preparation for Seeding - Burning' (4481), 'Site Preparation for Seeding - Mechanical' (4484), 'Site Preparation for Seeding - Manual' (4485), 'Site Preparation for Natural Regeneration - Burning' (4491), 'Site Preparation for Natural Regeneration - Chemical' (4492), 'Site Preparation for Natural Regeneration - Other' (4493), 'Site Preparation for Natural Regeneration - Mechanical' (4494), 'Site Preparation for Natural Regeneration - Manual' (4495), 'Tree Release and Weed' (4511), 'Precommercial Thin' (4521), 'Prune' (4530), 'Control of Understory Vegetation' (4540), 'Control of Understory Vegetation- Burning' (4541), 'Fertilization' (4550), 'Animal Control for TSI' (4560), 'Other Stand Tending' (4570), 'Layout and Design' (4631), 'Marking/Designation' (4632), 'Cruising' (4633), 'Nursery Facility Maintenance' (4800), 'Nursery Pesticide Use' (4801), 'Cone Collection' (4810), 'Selection and Care of Superior Trees' (4910), 'Seed Collection from Superior Trees' (4920), 'Scion Collection from Superior Trees' (4921), 'Scion Grafts from Superior Trees' (4922), 'Cones, Seed, Fruit or Cutting Collection for Gene Conservation' (4923), 'Pollen Collection from Superior Trees' (4924), 'Seed Production Area Establishment' (4931), 'Seed Production Area Maintenance' (4932), 'Seed Production Area Cone Collection' (4933), 'Seed Production Area Abandoned' (4934), 'Seed Orchard Establishment / Improvements' (4940), 'Seed Orchard Operations' (4941), 'Seed Orchard Collection' (4944), 'Genetic Evaluation Plantation Establishment' (4950), 'Genetic Evaluation Plantation Operations' (4951), 'Evaluation Plantation Examination/ Measurement' (4953), 'Genetic Test Maintenance' (4956), 'Construction/Purchasing of Tree Seedlings Cooler' (4971), 'Seedlings Cooler Maintenance' (4972).<\/SPAN><\/P><\/DIV><\/DIV><\/DIV>", "allowCopy": true, "copyrightText": "USDA Forest Service: Enterprise Data Warehouse (EDW)", "mensurationCapabilities": "Basic", "ownershipBasedAccessControlForRasters": null }