<?xml version="1.0" encoding="UTF-8" standalone="no"?>
<metadata xml:lang="en">
<Esri>
<CreaDate>20251104</CreaDate>
<CreaTime>15592100</CreaTime>
<ArcGISFormat>1.0</ArcGISFormat>
<SyncOnce>FALSE</SyncOnce>
<DataProperties>
<itemProps>
<itemName Sync="FALSE">USFS_CRV_ManagementIntent_FACTSHarvestAndSilvicultureAc</itemName>
<nativeExtBox>
<westBL Sync="TRUE">-16824422.600200</westBL>
<eastBL Sync="TRUE">-2103922.600200</eastBL>
<southBL Sync="TRUE">957189.466000</southBL>
<northBL Sync="TRUE">11392439.466000</northBL>
<exTypeCode Sync="TRUE">1</exTypeCode>
</nativeExtBox>
<imsContentType export="False">
</imsContentType>
</itemProps>
<coordRef>
<type Sync="TRUE">Projected</type>
<geogcsn Sync="TRUE">GCS_WGS_1984</geogcsn>
<csUnits Sync="TRUE">Linear Unit: Meter (1.000000)</csUnits>
<projcsn Sync="TRUE">WGS_1984_Web_Mercator_Auxiliary_Sphere</projcsn>
<peXml Sync="TRUE">&lt;ProjectedCoordinateSystem xsi:type='typens:ProjectedCoordinateSystem' xmlns:xsi='http://www.w3.org/2001/XMLSchema-instance' xmlns:xs='http://www.w3.org/2001/XMLSchema' xmlns:typens='http://www.esri.com/schemas/ArcGIS/3.5.0'&gt;&lt;WKT&gt;PROJCS[&amp;quot;WGS_1984_Web_Mercator_Auxiliary_Sphere&amp;quot;,GEOGCS[&amp;quot;GCS_WGS_1984&amp;quot;,DATUM[&amp;quot;D_WGS_1984&amp;quot;,SPHEROID[&amp;quot;WGS_1984&amp;quot;,6378137.0,298.257223563]],PRIMEM[&amp;quot;Greenwich&amp;quot;,0.0],UNIT[&amp;quot;Degree&amp;quot;,0.0174532925199433]],PROJECTION[&amp;quot;Mercator_Auxiliary_Sphere&amp;quot;],PARAMETER[&amp;quot;False_Easting&amp;quot;,0.0],PARAMETER[&amp;quot;False_Northing&amp;quot;,0.0],PARAMETER[&amp;quot;Central_Meridian&amp;quot;,0.0],PARAMETER[&amp;quot;Standard_Parallel_1&amp;quot;,0.0],PARAMETER[&amp;quot;Auxiliary_Sphere_Type&amp;quot;,0.0],UNIT[&amp;quot;Meter&amp;quot;,1.0],AUTHORITY[&amp;quot;EPSG&amp;quot;,3857]]&lt;/WKT&gt;&lt;XOrigin&gt;-20037700&lt;/XOrigin&gt;&lt;YOrigin&gt;-30241100&lt;/YOrigin&gt;&lt;XYScale&gt;148923141.92838538&lt;/XYScale&gt;&lt;ZOrigin&gt;-100000&lt;/ZOrigin&gt;&lt;ZScale&gt;10000&lt;/ZScale&gt;&lt;MOrigin&gt;-100000&lt;/MOrigin&gt;&lt;MScale&gt;10000&lt;/MScale&gt;&lt;XYTolerance&gt;0.001&lt;/XYTolerance&gt;&lt;ZTolerance&gt;0.001&lt;/ZTolerance&gt;&lt;MTolerance&gt;0.001&lt;/MTolerance&gt;&lt;HighPrecision&gt;true&lt;/HighPrecision&gt;&lt;WKID&gt;102100&lt;/WKID&gt;&lt;LatestWKID&gt;3857&lt;/LatestWKID&gt;&lt;/ProjectedCoordinateSystem&gt;</peXml>
</coordRef>
<RasterProperties>
<General>
<PixelDepth Sync="TRUE">4</PixelDepth>
<HasColormap Sync="TRUE">FALSE</HasColormap>
<CompressionType Sync="TRUE">None</CompressionType>
<NumBands Sync="TRUE">1</NumBands>
<Format Sync="TRUE">AMD</Format>
<HasPyramids Sync="TRUE">TRUE</HasPyramids>
<SourceType Sync="TRUE">continuous</SourceType>
<PixelType Sync="TRUE">unsigned integer</PixelType>
<NoDataValue Sync="TRUE">
</NoDataValue>
</General>
<Properties>
<MaxImageHeight Sync="TRUE">100000</MaxImageHeight>
<MaxImageWidth Sync="TRUE">100000</MaxImageWidth>
<MaxRecordCount Sync="TRUE">1000</MaxRecordCount>
<MaxDownloadImageCount Sync="TRUE">20</MaxDownloadImageCount>
<MaxDownloadSizeLimit Sync="TRUE">2048</MaxDownloadSizeLimit>
<MaxMosaicImageCount Sync="TRUE">20</MaxMosaicImageCount>
<DefaultCompressionQuality Sync="TRUE">75</DefaultCompressionQuality>
<DefaultCompressionTolerance Sync="TRUE">0.01</DefaultCompressionTolerance>
<BlendWidth Sync="TRUE">10</BlendWidth>
<ViewpointSpacingX Sync="TRUE">600</ViewpointSpacingX>
<ViewpointSpacingY Sync="TRUE">300</ViewpointSpacingY>
<AllowedItemMetadata Sync="TRUE">Basic</AllowedItemMetadata>
<DefaultResamplingMethod Sync="TRUE">0</DefaultResamplingMethod>
<AllowedMosaicMethods Sync="TRUE">NorthWest,Center,LockRaster,ByAttribute,Nadir,Viewpoint,Seamline,None</AllowedMosaicMethods>
<AllowedCompressions Sync="TRUE">None,JPEG,LZ77,LERC</AllowedCompressions>
<AllowedMensurationCapabilities Sync="TRUE">Basic</AllowedMensurationCapabilities>
<AvailableMensurationCapabilities Sync="TRUE">None,Basic,Base-Top Height,Top-Top Shadow Height,Base-Top Shadow Height,3D</AvailableMensurationCapabilities>
<ClipToBoundary Sync="TRUE">-1</ClipToBoundary>
<FootprintMayContainNoData Sync="TRUE">-1</FootprintMayContainNoData>
<CellSizeTolerance Sync="TRUE">0.8</CellSizeTolerance>
<MinimumPixelContribution Sync="TRUE">1</MinimumPixelContribution>
<AvailableMosaicMethods Sync="TRUE">NorthWest,Center,LockRaster,ByAttribute,Nadir,Viewpoint,Seamline,None</AvailableMosaicMethods>
<AvailableCompressionMethods Sync="TRUE">None,JPEG,LZ77,LERC</AvailableCompressionMethods>
<AvailableItemMetadataLevels Sync="TRUE">None,Basic,Full</AvailableItemMetadataLevels>
<BandDefinitionKeyword Sync="TRUE">NONE</BandDefinitionKeyword>
<_docversion_ Sync="TRUE">10</_docversion_>
<AllowedFields Sync="TRUE">name,minps,maxps,lowps,highps,tag,groupname,productname,centerx,centery,zorder</AllowedFields>
<MaxCellSize Sync="TRUE">2560000</MaxCellSize>
<LowCellSize Sync="TRUE">250</LowCellSize>
<HighCellSize Sync="TRUE">256000</HighCellSize>
<AvailableFields Sync="TRUE">name,minps,maxps,lowps,highps,tag,groupname,productname,centerx,centery,zorder,st_area(shape),st_perimeter(shape)</AvailableFields>
<SortableFields Sync="TRUE">minps,maxps,lowps,highps,centerx,centery,zorder,st_area(shape),st_perimeter(shape)</SortableFields>
<SortAscending Sync="TRUE">-1</SortAscending>
<MosaicOperator Sync="TRUE">1</MosaicOperator>
<BlendWidthUnits Sync="TRUE">1</BlendWidthUnits>
<ClipToFootprint Sync="TRUE">0</ClipToFootprint>
<ClipOverviewsToFootprint Sync="TRUE">0</ClipOverviewsToFootprint>
<HasDodgingTable Sync="TRUE">0</HasDodgingTable>
<ApplyColorCorrection Sync="TRUE">0</ApplyColorCorrection>
<UseTime Sync="TRUE">0</UseTime>
<StartTimeFieldName Sync="TRUE">
</StartTimeFieldName>
<EndTimeFieldName Sync="TRUE">
</EndTimeFieldName>
<TimeValueFormat Sync="TRUE">
</TimeValueFormat>
<UseRange Sync="TRUE">0</UseRange>
<TimeInterval Sync="TRUE">
</TimeInterval>
<TimeIntervalUnits Sync="TRUE">
</TimeIntervalUnits>
</Properties>
<Functions Sync="TRUE">
<Function Description="Performs on-the-fly mosaic on a raster catalog." Name="Mosaic Function">
</Function>
</Functions>
</RasterProperties>
</DataProperties>
<SyncDate>20251105</SyncDate>
<SyncTime>11410500</SyncTime>
<ModDate>20251217</ModDate>
<ModTime>16041100</ModTime>
<scaleRange>
<minScale>150000000</minScale>
<maxScale>5000</maxScale>
</scaleRange>
<ArcGISProfile>ISO19139</ArcGISProfile>
</Esri>
<dataIdInfo>
<idCitation>
<resTitle>USFS_CRV_ManagementIntent_FACTSHarvestAndSilvicultureActivities</resTitle>
<presForm>
<PresFormCd Sync="TRUE" value="005">
</PresFormCd>
</presForm>
</idCitation>
<envirDesc Sync="FALSE">Esri ArcGIS 13.5.3.57366</envirDesc>
<dataLang>
<languageCode Sync="TRUE" value="eng">
</languageCode>
<countryCode Sync="TRUE" value="USA">
</countryCode>
</dataLang>
<spatRpType>
<SpatRepTypCd Sync="TRUE" value="002">
</SpatRepTypCd>
</spatRpType>
<dataExt>
<geoEle>
<GeoBndBox esriExtentType="search">
<exTypeCode Sync="TRUE">1</exTypeCode>
<westBL Sync="TRUE">-151.136360</westBL>
<eastBL Sync="TRUE">-18.899858</eastBL>
<northBL Sync="TRUE">70.971222</northBL>
<southBL Sync="TRUE">8.566484</southBL>
</GeoBndBox>
</geoEle>
</dataExt>
<idPurp>This data layer provides information on harvest and silvicultural activities in the US Forest Service. Activities in the Forest Service Activity Tracking System (FACTS) database that have been completed and that have been identified as harvest or silvicultural actions.</idPurp>
<idAbs>&lt;div style='text-align:Left;'&gt;&lt;div&gt;&lt;div&gt;&lt;p&gt;&lt;span&gt;This data layer provides information on harvest and silvicultural activities in the US Forest Service. It is part of the Forest Service Activity Tracking System (FACTS) database, an activity tracking system that records, tracks, and monitors activities associated with timber sales, NEPA decisions, trust fund plans, hazardous fuels reduction treatments, invasive species mitigation, and some range activities. The database was queried to produce this data layer on harvest and silviculture activities (2001-2021). This data layer presents five types of harvest and silviculture activities: harvests, silvicultural exams and certifications, establishment and reforestation, stand improvement, nurseries and seed procurement, and miscellaneous.&lt;/span&gt;&lt;/p&gt;&lt;p&gt;&lt;span /&gt;&lt;/p&gt;&lt;p&gt;&lt;span&gt;Harvest and silviculture activities were identified in consultation with subject matter experts on each category of FACTS codes. The following activities were included in this category: 'Treatment Monitoring Plot' (4039), 'Research Areas' (4041), 'Coppice Cut (EA/RH/FH)' (4101), 'Coppice Cut (w/leave trees) (EA/RH/FH)' (4102), 'Patch Clearcut (EA/RH/FH)' (4111), 'Stand Clearcut (EA/RH/FH)' (4113), 'Patch Clearcut (w/ leave trees) (EA/RH/FH)' (4115), 'Stand Clearcut (w/ leave trees) (EA/RH/FH)' (4117), 'Shelterwood Preparatory Cut (EA/NRH/NFH)' (4121), 'Seed-tree Preparatory Cut (EA/NRH/NFH)' (4122), 'Shelterwood Establishment Cut (with or without leave trees) (EA/RH/NFH)' (4131), 'Seed-tree Seed Cut (with and without leave trees) (EA/RH/NFH)' (4132), 'Shelterwood Removal Cut (EA/NRH/FH)' (4141), 'Seed-tree Final Cut (EA/NRH/FH)' (4142), 'Overstory Removal Cut (from advanced regeneration) (EA/RH/FH)' (4143), 'Shelterwood Removal Cut (w/ leave trees) (EA/NRH/FH)' (4145), 'Seed-tree Removal Cut (w/ leave trees) (EA/NRH/FH)' (4146), 'Shelterwood Staged Removal Cut (EA/NRH/NFH)' (4148), 'Single-tree Selection Cut (UA/RH/FH)' (4151), 'Group Selection Cut (UA/RH/FH)' (4152), 'Two-aged Coppice Cut (w/res) (2A/RH/FH)' (4162), 'Two-aged Patch Clearcut (w/res) (2A/RH/FH)' (4175), 'Two-aged Stand Clearcut (w/res) (2A/RH/FH)' (4177), 'Two-aged Seed-tree Seed and Removal Cut (w/res) (2A/RH/FH)' (4183), 'Two-aged Preparatory Cut (w/res) (2A/NRH/NFH)' (4192), 'Two-aged Shelterwood Establishment and Removal Cut (w/ res) (2A/RH/FH)' (4193), 'Two-aged Shelterwood Establishment Cut (w/res) (2A/RH/NFH)' (4194), 'Two-aged Shelterwood Final Removal Cut (w/res) (2A/NRH/FH)' (4196), 'Improvement Cut' (4210), 'Liberation Cut' (4211), 'Commercial Thin' (4220), 'Salvage Cut (intermediate treatment, not regeneration)' (4231), 'Sanitation Cut' (4232), 'Special Products Removal' (4241), 'Harvest Without Restocking' (4242), 'Natural Changes (excludes fire)' (4250), 'Permanent Land Clearing' (4270), 'Administrative Changes' (4290), 'No Treatment Matrix' (4291), 'Remote Sensing Vegetation Mapping' (4302), 'Silvicultural Stand Examination' (4310), 'Pretreatment Exam for Reforestation' (4314), 'Pretreatment Exam for Release or Precommercial Thinning' (4315), 'Ecosystem and Midscale Inventory - Data collection' (4318), 'Low Intensity Stand Examination' (4319), 'Stand Diagnosis Prepared' (4320), 'Stand Silviculture Prescription' (4331), 'Stocking Survey' (4341), 'Plantation Survival Survey' (4342), 'Animal Damage Survey' (4343), 'Vegetative Competition Survey' (4344), 'Post Treatment Vegetation Monitoring' (4346), 'Certification of Natural Regeneration with Site Prep' (4381), 'Certification of Natural Regeneration without Site Prep' (4382), 'Certification-Planted' (4383), 'Certification-Seeded' (4384), 'TSI Certification - Release/weeding' (4391), 'TSI Certification - Thinning' (4392), 'TSI Certification - Fertilization' (4393), 'TSI Certification - Cleaning' (4394), 'TSI Certification - Pruning' (4395), 'Seed (Trees)' (4411), 'Fill-in Seed or Reseed Trees' (4412), 'Plant Trees' (4431), 'Fill-in or Replant Trees' (4432), 'Seedling procurement in advance of planting activity (trees)' (4445), 'Planting stock material procurement in advance of reveg. activity (non-tree)' (4447), 'Plant or Seed Shrubs, Forbs, Grasses' (4448), 'Reforestation Enhancement' (4450), 'Reforestation Enhancement Maintenance' (4451), 'Initiate Natural Regeneration' (4452), 'Natural Recovery' (4453), 'Slashing - Pre-Site Preparation' (4455), 'Animal Damage Control for Reforestation' (4460), 'Maintenance of Animal Damage Control for Reforestation' (4461), 'Leave Tree Protection' (4466), 'Site Preparation for Planting - Burning' (4471), 'Site Preparation for Planting - Chemical' (4472), 'Site Preparation for Planting - Other' (4473), 'Site Preparation for Planting - Mechanical' (4474), 'Site Preparation for Planting - Manual' (4475), 'Site Preparation for Seeding - Burning' (4481), 'Site Preparation for Seeding - Mechanical' (4484), 'Site Preparation for Seeding - Manual' (4485), 'Site Preparation for Natural Regeneration - Burning' (4491), 'Site Preparation for Natural Regeneration - Chemical' (4492), 'Site Preparation for Natural Regeneration - Other' (4493), 'Site Preparation for Natural Regeneration - Mechanical' (4494), 'Site Preparation for Natural Regeneration - Manual' (4495), 'Tree Release and Weed' (4511), 'Precommercial Thin' (4521), 'Prune' (4530), 'Control of Understory Vegetation' (4540), 'Control of Understory Vegetation- Burning' (4541), 'Fertilization' (4550), 'Animal Control for TSI' (4560), 'Other Stand Tending' (4570), 'Layout and Design' (4631), 'Marking/Designation' (4632), 'Cruising' (4633), 'Nursery Facility Maintenance' (4800), 'Nursery Pesticide Use' (4801), 'Cone Collection' (4810), 'Selection and Care of Superior Trees' (4910), 'Seed Collection from Superior Trees' (4920), 'Scion Collection from Superior Trees' (4921), 'Scion Grafts from Superior Trees' (4922), 'Cones, Seed, Fruit or Cutting Collection for Gene Conservation' (4923), 'Pollen Collection from Superior Trees' (4924), 'Seed Production Area Establishment' (4931), 'Seed Production Area Maintenance' (4932), 'Seed Production Area Cone Collection' (4933), 'Seed Production Area Abandoned' (4934), 'Seed Orchard Establishment / Improvements' (4940), 'Seed Orchard Operations' (4941), 'Seed Orchard Collection' (4944), 'Genetic Evaluation Plantation Establishment' (4950), 'Genetic Evaluation Plantation Operations' (4951), 'Evaluation Plantation Examination/ Measurement' (4953), 'Genetic Test Maintenance' (4956), 'Construction/Purchasing of Tree Seedlings Cooler' (4971), 'Seedlings Cooler Maintenance' (4972).&lt;/span&gt;&lt;/p&gt;&lt;/div&gt;&lt;/div&gt;&lt;/div&gt;</idAbs>
<searchKeys>
<keyword>USFS</keyword>
<keyword>FACTS</keyword>
<keyword>Harvest</keyword>
<keyword>Silviculture</keyword>
<keyword>CRV</keyword>
<keyword>Climate</keyword>
<keyword>Risk</keyword>
<keyword>Viewer</keyword>
<keyword>Management Intent</keyword>
</searchKeys>
<resConst>
<Consts>
<useLimit>&lt;div style='text-align:Left;'&gt;&lt;div&gt;&lt;div&gt;&lt;p&gt;&lt;span&gt;The USDA Forest Service makes no warranty, expressed or implied, including the warranties of merchantability and fitness for a particular purpose, nor assumes any legal liability or responsibility for the accuracy, reliability, completeness or utility of these geospatial data, or for the improper or incorrect use of these geospatial data. These geospatial data and related maps or graphics are not legal documents and are not intended to be used as such. The data and maps may not be used to determine title, ownership, legal descriptions or boundaries, legal jurisdiction, or restrictions that may be in place on either public or private land. Natural hazards may or may not be depicted on the data and maps, and land users should exercise due caution. The data are dynamic and may change over time. The user is responsible to verify the limitations of the geospatial data and to use the data accordingly. &lt;/span&gt;&lt;/p&gt;&lt;p&gt;&lt;span /&gt;&lt;/p&gt;&lt;p&gt;&lt;span&gt;Additionally, the U.S. Forest Service waives copyright and related rights in the work worldwide through the CC0 (which can be found at https://creativecommons.org/public-domain/cc0/). &lt;/span&gt;&lt;/p&gt;&lt;p&gt;&lt;span /&gt;&lt;/p&gt;&lt;p&gt;&lt;span&gt;Non-Discrimination Statement &lt;/span&gt;&lt;/p&gt;&lt;p&gt;&lt;span /&gt;&lt;/p&gt;&lt;p&gt;&lt;span&gt;In accordance with Federal civil rights law and U.S. Department of Agriculture (USDA) civil rights regulations and policies, the USDA, its Agencies, offices, and employees, and institutions participating in or administering USDA programs are prohibited from discriminating based on race, color, national origin, religion, sex, disability, age, marital status, family/parental status, income derived from a public assistance program, political beliefs, or reprisal or retaliation for prior civil rights activity, in any program or activity conducted or funded by USDA (not all bases apply to all programs). Remedies and complaint filing deadlines vary by program or incident. &lt;/span&gt;&lt;/p&gt;&lt;p&gt;&lt;span /&gt;&lt;/p&gt;&lt;p&gt;&lt;span&gt;Persons with disabilities who require alternative means of communication for program information (e.g., Braille, large print, audiotape, American Sign Language, etc.) should contact the State or local Agency that administers the program or contact USDA through the Telecommunications Relay Service at 711 (voice and TTY). Additionally, program information may be made available in languages other than English. &lt;/span&gt;&lt;/p&gt;&lt;p&gt;&lt;span /&gt;&lt;/p&gt;&lt;p&gt;&lt;span&gt;To file a program discrimination complaint, complete the USDA Program Discrimination Complaint Form, AD-3027, found online at How to File a Program Discrimination Complaint and at any USDA office or write a letter addressed to USDA and provide in the letter all of the information requested in the form. To request a copy of the complaint form, call (866) 632-9992. Submit your completed form or letter to USDA by: (1) mail: U.S. Department of Agriculture, Office of the Assistant Secretary for Civil Rights, 1400 Independence Avenue, SW, Mail Stop 9410, Washington, D.C. 20250-9410; (2) fax: (202) 690-7442; or (3) email: program.intake@usda.gov. &lt;/span&gt;&lt;/p&gt;&lt;p&gt;&lt;span /&gt;&lt;/p&gt;&lt;p&gt;&lt;span&gt;USDA is an equal opportunity provider, employer, and lender. &lt;/span&gt;&lt;/p&gt;&lt;p&gt;&lt;span /&gt;&lt;/p&gt;&lt;p&gt;&lt;span&gt; &lt;/span&gt;&lt;/p&gt;&lt;/div&gt;&lt;/div&gt;&lt;/div&gt;</useLimit>
</Consts>
</resConst>
<placeKeys>
<keyword>CONUS</keyword>
</placeKeys>
<idCredit>USDA Forest Service: Enterprise Data Warehouse (EDW)</idCredit>
<tpCat>
<TopicCatCd value="010">
</TopicCatCd>
</tpCat>
</dataIdInfo>
<mdLang>
<languageCode Sync="TRUE" value="eng">
</languageCode>
<countryCode Sync="TRUE" value="USA">
</countryCode>
</mdLang>
<refSysInfo>
<RefSystem>
<refSysID>
<identCode Sync="TRUE" code="3857">
</identCode>
<idCodeSpace Sync="TRUE">EPSG</idCodeSpace>
<idVersion Sync="TRUE">6.18.3(9.3.1.2)</idVersion>
</refSysID>
</RefSystem>
</refSysInfo>
<spatRepInfo>
<Georect>
<cellGeo>
<CellGeoCd Sync="TRUE" value="002">
</CellGeoCd>
</cellGeo>
<numDims Sync="TRUE">2</numDims>
<tranParaAv Sync="TRUE">1</tranParaAv>
<chkPtAv Sync="TRUE">0</chkPtAv>
<cornerPts>
<pos Sync="TRUE">-16824422.600200 957189.466000</pos>
</cornerPts>
<cornerPts>
<pos Sync="TRUE">-16824422.600200 11392439.466000</pos>
</cornerPts>
<cornerPts>
<pos Sync="TRUE">-2103922.600200 11392439.466000</pos>
</cornerPts>
<cornerPts>
<pos Sync="TRUE">-2103922.600200 957189.466000</pos>
</cornerPts>
<centerPt>
<pos Sync="TRUE">-9464172.600200 6174814.466000</pos>
</centerPt>
<axisDimension type="002">
<dimSize Sync="TRUE">58882</dimSize>
<dimResol>
<value Sync="TRUE" uom="m">250.000000</value>
</dimResol>
</axisDimension>
<axisDimension type="001">
<dimSize Sync="TRUE">41741</dimSize>
<dimResol>
<value Sync="TRUE" uom="m">250.000000</value>
</dimResol>
</axisDimension>
<ptInPixel>
<PixOrientCd Sync="TRUE" value="001">
</PixOrientCd>
</ptInPixel>
</Georect>
</spatRepInfo>
<contInfo>
<ImgDesc>
<contentTyp>
<ContentTypCd Sync="TRUE" value="001">
</ContentTypCd>
</contentTyp>
<covDim>
<Band>
<dimDescrp Sync="TRUE">Band_1</dimDescrp>
<maxVal Sync="TRUE">6.000000</maxVal>
<minVal Sync="TRUE">1.000000</minVal>
<bitsPerVal Sync="TRUE">4</bitsPerVal>
<valUnit>
<UOM type="length">
</UOM>
</valUnit>
</Band>
</covDim>
</ImgDesc>
</contInfo>
<mdDateSt Sync="TRUE">20251217</mdDateSt>
<mdHrLv>
<ScopeCd value="005">
</ScopeCd>
</mdHrLv>
</metadata>
