<?xml version="1.0" encoding="UTF-8" standalone="no"?>
<metadata xml:lang="en">
<Esri>
<CreaDate>20251104</CreaDate>
<CreaTime>15584500</CreaTime>
<ArcGISFormat>1.0</ArcGISFormat>
<SyncOnce>FALSE</SyncOnce>
<DataProperties>
<itemProps>
<itemName Sync="FALSE">USFS_CRV_ManagementIntent_FACTSEcosystemResilienceActiv</itemName>
<nativeExtBox>
<westBL Sync="TRUE">-17148095.247400</westBL>
<eastBL Sync="TRUE">-4215595.247400</eastBL>
<southBL Sync="TRUE">-166596.207900</southBL>
<northBL Sync="TRUE">12433153.792100</northBL>
<exTypeCode Sync="TRUE">1</exTypeCode>
</nativeExtBox>
<imsContentType export="False">
</imsContentType>
</itemProps>
<coordRef>
<type Sync="TRUE">Projected</type>
<geogcsn Sync="TRUE">GCS_WGS_1984</geogcsn>
<csUnits Sync="TRUE">Linear Unit: Meter (1.000000)</csUnits>
<projcsn Sync="TRUE">WGS_1984_Web_Mercator_Auxiliary_Sphere</projcsn>
<peXml Sync="TRUE">&lt;ProjectedCoordinateSystem xsi:type='typens:ProjectedCoordinateSystem' xmlns:xsi='http://www.w3.org/2001/XMLSchema-instance' xmlns:xs='http://www.w3.org/2001/XMLSchema' xmlns:typens='http://www.esri.com/schemas/ArcGIS/3.5.0'&gt;&lt;WKT&gt;PROJCS[&amp;quot;WGS_1984_Web_Mercator_Auxiliary_Sphere&amp;quot;,GEOGCS[&amp;quot;GCS_WGS_1984&amp;quot;,DATUM[&amp;quot;D_WGS_1984&amp;quot;,SPHEROID[&amp;quot;WGS_1984&amp;quot;,6378137.0,298.257223563]],PRIMEM[&amp;quot;Greenwich&amp;quot;,0.0],UNIT[&amp;quot;Degree&amp;quot;,0.0174532925199433]],PROJECTION[&amp;quot;Mercator_Auxiliary_Sphere&amp;quot;],PARAMETER[&amp;quot;False_Easting&amp;quot;,0.0],PARAMETER[&amp;quot;False_Northing&amp;quot;,0.0],PARAMETER[&amp;quot;Central_Meridian&amp;quot;,0.0],PARAMETER[&amp;quot;Standard_Parallel_1&amp;quot;,0.0],PARAMETER[&amp;quot;Auxiliary_Sphere_Type&amp;quot;,0.0],UNIT[&amp;quot;Meter&amp;quot;,1.0],AUTHORITY[&amp;quot;EPSG&amp;quot;,3857]]&lt;/WKT&gt;&lt;XOrigin&gt;-20037700&lt;/XOrigin&gt;&lt;YOrigin&gt;-30241100&lt;/YOrigin&gt;&lt;XYScale&gt;148923141.92838538&lt;/XYScale&gt;&lt;ZOrigin&gt;-100000&lt;/ZOrigin&gt;&lt;ZScale&gt;10000&lt;/ZScale&gt;&lt;MOrigin&gt;-100000&lt;/MOrigin&gt;&lt;MScale&gt;10000&lt;/MScale&gt;&lt;XYTolerance&gt;0.001&lt;/XYTolerance&gt;&lt;ZTolerance&gt;0.001&lt;/ZTolerance&gt;&lt;MTolerance&gt;0.001&lt;/MTolerance&gt;&lt;HighPrecision&gt;true&lt;/HighPrecision&gt;&lt;WKID&gt;102100&lt;/WKID&gt;&lt;LatestWKID&gt;3857&lt;/LatestWKID&gt;&lt;/ProjectedCoordinateSystem&gt;</peXml>
</coordRef>
<RasterProperties>
<General>
<PixelDepth Sync="TRUE">4</PixelDepth>
<HasColormap Sync="TRUE">FALSE</HasColormap>
<CompressionType Sync="TRUE">None</CompressionType>
<NumBands Sync="TRUE">1</NumBands>
<Format Sync="TRUE">AMD</Format>
<HasPyramids Sync="TRUE">TRUE</HasPyramids>
<SourceType Sync="TRUE">continuous</SourceType>
<PixelType Sync="TRUE">unsigned integer</PixelType>
<NoDataValue Sync="TRUE">
</NoDataValue>
</General>
<Properties>
<MaxImageHeight Sync="TRUE">100000</MaxImageHeight>
<MaxImageWidth Sync="TRUE">100000</MaxImageWidth>
<MaxRecordCount Sync="TRUE">1000</MaxRecordCount>
<MaxDownloadImageCount Sync="TRUE">20</MaxDownloadImageCount>
<MaxDownloadSizeLimit Sync="TRUE">2048</MaxDownloadSizeLimit>
<MaxMosaicImageCount Sync="TRUE">20</MaxMosaicImageCount>
<DefaultCompressionQuality Sync="TRUE">75</DefaultCompressionQuality>
<DefaultCompressionTolerance Sync="TRUE">0.01</DefaultCompressionTolerance>
<BlendWidth Sync="TRUE">10</BlendWidth>
<ViewpointSpacingX Sync="TRUE">600</ViewpointSpacingX>
<ViewpointSpacingY Sync="TRUE">300</ViewpointSpacingY>
<AllowedItemMetadata Sync="TRUE">Basic</AllowedItemMetadata>
<DefaultResamplingMethod Sync="TRUE">0</DefaultResamplingMethod>
<AllowedMosaicMethods Sync="TRUE">NorthWest,Center,LockRaster,ByAttribute,Nadir,Viewpoint,Seamline,None</AllowedMosaicMethods>
<AllowedCompressions Sync="TRUE">None,JPEG,LZ77,LERC</AllowedCompressions>
<AllowedMensurationCapabilities Sync="TRUE">Basic</AllowedMensurationCapabilities>
<AvailableMensurationCapabilities Sync="TRUE">None,Basic,Base-Top Height,Top-Top Shadow Height,Base-Top Shadow Height,3D</AvailableMensurationCapabilities>
<ClipToBoundary Sync="TRUE">-1</ClipToBoundary>
<FootprintMayContainNoData Sync="TRUE">-1</FootprintMayContainNoData>
<CellSizeTolerance Sync="TRUE">0.8</CellSizeTolerance>
<MinimumPixelContribution Sync="TRUE">1</MinimumPixelContribution>
<AvailableMosaicMethods Sync="TRUE">NorthWest,Center,LockRaster,ByAttribute,Nadir,Viewpoint,Seamline,None</AvailableMosaicMethods>
<AvailableCompressionMethods Sync="TRUE">None,JPEG,LZ77,LERC</AvailableCompressionMethods>
<AvailableItemMetadataLevels Sync="TRUE">None,Basic,Full</AvailableItemMetadataLevels>
<BandDefinitionKeyword Sync="TRUE">NONE</BandDefinitionKeyword>
<_docversion_ Sync="TRUE">10</_docversion_>
<AllowedFields Sync="TRUE">name,minps,maxps,lowps,highps,tag,groupname,productname,centerx,centery,zorder</AllowedFields>
<MaxCellSize Sync="TRUE">2560000</MaxCellSize>
<LowCellSize Sync="TRUE">250</LowCellSize>
<HighCellSize Sync="TRUE">256000</HighCellSize>
<AvailableFields Sync="TRUE">name,minps,maxps,lowps,highps,tag,groupname,productname,centerx,centery,zorder,st_area(shape),st_perimeter(shape)</AvailableFields>
<SortableFields Sync="TRUE">minps,maxps,lowps,highps,centerx,centery,zorder,st_area(shape),st_perimeter(shape)</SortableFields>
<SortAscending Sync="TRUE">-1</SortAscending>
<MosaicOperator Sync="TRUE">1</MosaicOperator>
<BlendWidthUnits Sync="TRUE">1</BlendWidthUnits>
<ClipToFootprint Sync="TRUE">0</ClipToFootprint>
<ClipOverviewsToFootprint Sync="TRUE">0</ClipOverviewsToFootprint>
<HasDodgingTable Sync="TRUE">0</HasDodgingTable>
<ApplyColorCorrection Sync="TRUE">0</ApplyColorCorrection>
<UseTime Sync="TRUE">0</UseTime>
<StartTimeFieldName Sync="TRUE">
</StartTimeFieldName>
<EndTimeFieldName Sync="TRUE">
</EndTimeFieldName>
<TimeValueFormat Sync="TRUE">
</TimeValueFormat>
<UseRange Sync="TRUE">0</UseRange>
<TimeInterval Sync="TRUE">
</TimeInterval>
<TimeIntervalUnits Sync="TRUE">
</TimeIntervalUnits>
</Properties>
<Functions Sync="TRUE">
<Function Description="Performs on-the-fly mosaic on a raster catalog." Name="Mosaic Function">
</Function>
</Functions>
</RasterProperties>
</DataProperties>
<SyncDate>20251105</SyncDate>
<SyncTime>10570600</SyncTime>
<ModDate>20251217</ModDate>
<ModTime>14494400</ModTime>
<scaleRange>
<minScale>150000000</minScale>
<maxScale>5000</maxScale>
</scaleRange>
<ArcGISProfile>ISO19139</ArcGISProfile>
</Esri>
<dataIdInfo>
<idCitation>
<resTitle>USFS_CRV_ManagementIntent_FACTSEcosystemResilienceActivities</resTitle>
<presForm>
<PresFormCd Sync="TRUE" value="005">
</PresFormCd>
</presForm>
</idCitation>
<envirDesc Sync="FALSE">Esri ArcGIS 13.5.3.57366</envirDesc>
<dataLang>
<languageCode Sync="TRUE" value="eng">
</languageCode>
<countryCode Sync="TRUE" value="USA">
</countryCode>
</dataLang>
<spatRpType>
<SpatRepTypCd Sync="TRUE" value="002">
</SpatRepTypCd>
</spatRpType>
<dataExt>
<geoEle>
<GeoBndBox esriExtentType="search">
<exTypeCode Sync="TRUE">1</exTypeCode>
<westBL Sync="TRUE">-154.043961</westBL>
<eastBL Sync="TRUE">-37.869336</eastBL>
<northBL Sync="TRUE">73.794720</northBL>
<southBL Sync="TRUE">-1.496389</southBL>
</GeoBndBox>
</geoEle>
</dataExt>
<searchKeys>
<keyword>FACTS</keyword>
<keyword>Ecosystem</keyword>
<keyword>Resilience</keyword>
<keyword>Activities</keyword>
<keyword>Management Intent</keyword>
<keyword>CRV</keyword>
<keyword>Climate</keyword>
<keyword>Risk</keyword>
<keyword>Viewer</keyword>
<keyword>USFS</keyword>
</searchKeys>
<idPurp>This data layer provides information on ecosystem resilience activities in the US Forest Service. Activities in the Forest Service Activity Tracking System (FACTS) database that have been completed and that have been identified as building ecosystem resilience.</idPurp>
<idAbs>&lt;div style='text-align:Left;'&gt;&lt;div&gt;&lt;div&gt;&lt;p&gt;&lt;span&gt;This data layer provides information on ecosystem resilience activities in the US Forest Service. It is part of the Forest Service Activity Tracking System (FACTS) database, an activity tracking system that records, tracks, and monitors activities associated with timber sales, NEPA decisions, trust fund plans, hazardous fuels reduction treatments, invasive species mitigation, and some range activities. The database was queried to produce this data layer on completed actions promoting ecosystem resilience excluding harvest and silviculture activities (2001-2021). Ecosystem resilience actions are defined as activities that support the ability of an ecosystem to return to a previous condition following a disturbance from climate change and/or other stressors. These could include restoring native biodiversity, allowing for larger flows, stream restoration, removing barriers to migration, creating refugia, and restoring natural disturbance regimes (e.g., through prescribed fire). This data layer presents nine types of ecosystem resilience activities.&lt;/span&gt;&lt;/p&gt;&lt;p&gt;&lt;span /&gt;&lt;/p&gt;&lt;p&gt;&lt;span&gt;Non-timber ecosystem resilience activities were identified in consultation with subject matter experts on each category of FACTS codes. The following activities were included in this category: 'Landing Treated - Area Mitigated' (1102), 'Broadcast Burning - Covers a majority of the unit' (1111), 'Jackpot Burning - Scattered concentrations' (1112), 'Underburn - Low Intensity (Majority of Unit)' (1113), 'Wildfire - Natural Ignition' (1117), 'Planned Treatment Burned in Wildfire' (1119), 'Yarding - Removal of Fuels by Carrying or Dragging' (1120), 'Burning of Piled Material' (1130), 'Pruning to Raise Canopy Height and Discourage Crown Fire' (1136), 'Grazing and Range Mgt. for Hazardous Fuels Reduction' (1139), 'Rearrangement of Fuels' (1150), 'Compacting/Crushing of Fuels' (1152), 'Piling of Fuels, Hand or Machine' (1153), 'Chipping of Fuels' (1154), 'Thinning for Hazardous Fuels Reduction' (1160), 'Fuel Break' (1180), 'Range Grazing Systems' (2000), 'Range Grazing Structural Improvements - Structure' (2010), 'Range Grazing Structural Improvements - Length' (2011), 'Acres Improved Through Construction/Re-construction of Range Grazing Structural Improvements' (2012), 'Range Grazing Non-Structural Improvements' (2020), 'Nonrange Fences - Length' (2100), 'Nonrange Fences - Area' (2101), 'Range Fences - Length' (2110), 'Range Fences - Area' (2111), 'Range Fence Obliteration - Length' (2120), 'Range Fence Obliteration - Area' (2121), 'Acres Improved Through Removal of Range Structural Improvements' (2132), 'Range Water Source Developments (Structures)' (2200), 'Range Structural Maintenance - Structure' (2220), 'Range Structural Maintenance - Length' (2221), 'Range Non-Structural Maintenance' (2230), 'Other Range Improvements - Structure' (2240), 'Other Range Improvements - Area' (2242), 'Range Fertilization' (2310), 'Range Seeding and Planting' (2320), 'Range Forage Improvement' (2321), 'Range Site Treatment for Water Conservation' (2330), 'Range Cover Type Conversion' (2340), 'Range Cover Manipulation' (2341), 'Range Control Vegetation' (2360), 'Range Piling Slash' (2370), 'Range Non-Structural Improvement Maintenance' (2390), 'Tree Encroachment Control' (2400), 'Invasive - Pesticide Application' (2510), 'Invasive - Mechanical/Physical' (2530), 'Invasive - Cultural/Fire' (2540), 'Invasive - Biocontrol, Classic' (2550), 'Invasive - Biocontrol, Livestock' (2560), 'Wild Horse and Burro Activities' (2600), 'Recreation Removal of hazard trees and snags - Area' (3132), 'Recreation Activity Enhancement' (3170), 'Visual Resources Protection &amp;amp; Improvement' (3315), 'Visual Enhancement' (3316), 'Visual Rehabilitation' (3317), 'Visual Resources Seeding/replanting' (3320), 'Visual Resource Slash treatment' (3380), 'Recreation Obliterate roads or trails' (3510), 'Soil Productivity Improvement' (5217), 'Watershed Resources Structural Improvement' (5400), 'Watershed Resource Structural Improvements Erosion Control' (5410), 'Watershed Resource Structural Improvements Riparian' (5420), 'Watershed Resource Structural Improvements Stream Channel' (5430), 'Watershed Resource Non-Structural Improvements Erosion Cont' (5510), 'Watershed Resource Non-Structural Improvements Riparian' (5520), 'Watershed Resource Non-Structural Improvements Stream Chann' (5530), 'Watershed Resource Non-Structural Improvements Maintenance' (5540), 'Watershed Resource Non-Structural Improvements Soil Productivity' (5550), 'Watershed Resource Road Obliteration - Area' (5621), 'Scarify and Seed Landings' (5633), 'Wildlife Habitat Activities' (6000), 'Wildlife Habitat Improvement' (6050), 'Wildlife Habitat Large woody debris placement' (6070), 'Wildlife Habitat Seeding and planting' (6080), 'Wildlife Habitat Grasses and forbs' (6090), 'Wildlife Habitat Non-Structural Improvement' (6100), 'Wildlife Habitat Prescribed fire' (6101), 'Wildlife Habitat Release and weeding' (6102), 'Wildlife Habitat Precommercial thinning' (6103), 'Wildlife Habitat Regeneration cut' (6104), 'Wildlife Habitat Intermediate cut' (6105), 'Wildlife Habitat Chemical treatment' (6106), 'Wildlife Habitat Mechanical treatment' (6107), 'Leave Trees (Wildlife Reasons) - Area' (6111), 'Leave Trees (Wildlife Reasons) - Each' (6112), 'Wildlife Habitat Access management (Closure Area)' (6120), 'Wildlife Habitat Create openings' (6130), 'Wildlife Habitat Rehabilitate openings' (6131), 'Wildlife Habitat Create corridors' (6132), 'Wildlife Habitat Slash treatment' (6133), 'Wildlife habitat structural maintenance' (6150), 'Wildlife habitat non-structural maintenance' (6160), 'Wildlife Habitat Structural Improvement' (6200), 'Wildlife Habitat Nest structures, dens development' (6210), 'Wildlife Habitat Snags created' (6213), 'Wildlife Habitat Protecting Snags' (6216), 'Wildlife Habitat Water development' (6220), 'Wildlife Habitat access management development' (6240), 'Wildlife Habitat Access Management - Road Obliteration' (6243), 'Wildlife Habitat Marsh development' (6250), 'T&amp;amp;ES Protection' (6413), 'Sensitive Species Protection' (6423), 'T&amp;amp;ES structural habitat improvement' (6440), 'T&amp;amp;ES structural maintenance' (6441), 'T&amp;amp;ES non-structural improvement' (6450), 'T&amp;amp;ES non-structural maintenance' (6451), 'Anadromous Fish Structural Improvements' (6530), 'Anadromous Fish Log structures' (6531), 'Anadromous Fish Stream barrier removal' (6556), 'Anadromous Fish Control undesirable species - Area' (6559), 'Anadromous Fish Tree planting for fisheries habitat improve' (6567), 'Anadromous Fish Thinning for Fish Habitat Improvement' (6584), 'Inland Fisheries Habitat Improvement Activities' (6600), 'Inland Fish Structural Improvements' (6630), 'Inland Fish Log structures' (6631), 'Inland Fish Brush cover structures' (6633), 'Inland Fish Fishway construction' (6639), 'Inland Fish Structural removal' (6646), 'Inland Fish Aquatic plant control - Area' (6672), 'Inland Fish Tree planting for fisheries habitat improvement' (6676), 'Re-vegetation monitoring for germination / survival of seeds and/or plants' (7005), 'Site preparation for re-vegetation - prescribed fire' (7015), 'Seeding grasses, forbs and/or shrubs' (7030), 'Planting propagules and cuttings' (7031), 'Reseeding grasses, forbs and/or shrubs' (7033), 'Replanting propagules and cuttings' (7034), 'Natural regeneration - prescribed fire' (7050), 'Natural regeneration - soil preparation' (7051), 'Re-vegetation treatments - vegetation removal' (7065), 'Re-vegetation treatments - herbicides' (7067), 'Wildland seed collecting' (7075), 'Pollinator habitat improved, restored or maintained' (7100), 'Pollinator Gardens' (7109), 'Disease Control' (8100), 'Disease Prevention' (8120), 'Insect Control' (8200), 'Insect Prevention' (8220), 'Animal Control' (8300), 'Animal Prevention' (8320), 'Road Maintenance - Vegetation Reduction' (9008), 'Native Species Established' (9220), 'Right of Way Maintenance' (9400). More information on FACTS codes here: https://www.fs.usda.gov/Internet/FSE_DOCUMENTS/fseprd539041.pdf&lt;/span&gt;&lt;/p&gt;&lt;/div&gt;&lt;/div&gt;&lt;/div&gt;</idAbs>
<placeKeys>
<keyword>CONUS</keyword>
</placeKeys>
<resConst>
<Consts>
<useLimit>&lt;div style='text-align:Left;'&gt;&lt;div&gt;&lt;div&gt;&lt;p&gt;&lt;span&gt;The USDA Forest Service makes no warranty, expressed or implied, including the warranties of merchantability and fitness for a particular purpose, nor assumes any legal liability or responsibility for the accuracy, reliability, completeness or utility of these geospatial data, or for the improper or incorrect use of these geospatial data. These geospatial data and related maps or graphics are not legal documents and are not intended to be used as such. The data and maps may not be used to determine title, ownership, legal descriptions or boundaries, legal jurisdiction, or restrictions that may be in place on either public or private land. Natural hazards may or may not be depicted on the data and maps, and land users should exercise due caution. The data are dynamic and may change over time. The user is responsible to verify the limitations of the geospatial data and to use the data accordingly. &lt;/span&gt;&lt;/p&gt;&lt;p&gt;&lt;span /&gt;&lt;/p&gt;&lt;p&gt;&lt;span&gt;Additionally, the U.S. Forest Service waives copyright and related rights in the work worldwide through the CC0 (which can be found at https://creativecommons.org/public-domain/cc0/). &lt;/span&gt;&lt;/p&gt;&lt;p&gt;&lt;span /&gt;&lt;/p&gt;&lt;p&gt;&lt;span&gt;Non-Discrimination Statement &lt;/span&gt;&lt;/p&gt;&lt;p&gt;&lt;span /&gt;&lt;/p&gt;&lt;p&gt;&lt;span&gt;In accordance with Federal civil rights law and U.S. Department of Agriculture (USDA) civil rights regulations and policies, the USDA, its Agencies, offices, and employees, and institutions participating in or administering USDA programs are prohibited from discriminating based on race, color, national origin, religion, sex, disability, age, marital status, family/parental status, income derived from a public assistance program, political beliefs, or reprisal or retaliation for prior civil rights activity, in any program or activity conducted or funded by USDA (not all bases apply to all programs). Remedies and complaint filing deadlines vary by program or incident. &lt;/span&gt;&lt;/p&gt;&lt;p&gt;&lt;span /&gt;&lt;/p&gt;&lt;p&gt;&lt;span&gt;Persons with disabilities who require alternative means of communication for program information (e.g., Braille, large print, audiotape, American Sign Language, etc.) should contact the State or local Agency that administers the program or contact USDA through the Telecommunications Relay Service at 711 (voice and TTY). Additionally, program information may be made available in languages other than English. &lt;/span&gt;&lt;/p&gt;&lt;p&gt;&lt;span /&gt;&lt;/p&gt;&lt;p&gt;&lt;span&gt;To file a program discrimination complaint, complete the USDA Program Discrimination Complaint Form, AD-3027, found online at How to File a Program Discrimination Complaint and at any USDA office or write a letter addressed to USDA and provide in the letter all of the information requested in the form. To request a copy of the complaint form, call (866) 632-9992. Submit your completed form or letter to USDA by: (1) mail: U.S. Department of Agriculture, Office of the Assistant Secretary for Civil Rights, 1400 Independence Avenue, SW, Mail Stop 9410, Washington, D.C. 20250-9410; (2) fax: (202) 690-7442; or (3) email: program.intake@usda.gov. &lt;/span&gt;&lt;/p&gt;&lt;p&gt;&lt;span /&gt;&lt;/p&gt;&lt;p&gt;&lt;span&gt;USDA is an equal opportunity provider, employer, and lender. &lt;/span&gt;&lt;/p&gt;&lt;p&gt;&lt;span /&gt;&lt;/p&gt;&lt;p&gt;&lt;span&gt; &lt;/span&gt;&lt;/p&gt;&lt;/div&gt;&lt;/div&gt;&lt;/div&gt;</useLimit>
</Consts>
</resConst>
<idCredit>USDA Forest Service: Enterprise Data Warehouse (EDW)</idCredit>
<tpCat>
<TopicCatCd value="010">
</TopicCatCd>
</tpCat>
</dataIdInfo>
<mdLang>
<languageCode Sync="TRUE" value="eng">
</languageCode>
<countryCode Sync="TRUE" value="USA">
</countryCode>
</mdLang>
<refSysInfo>
<RefSystem>
<refSysID>
<identCode Sync="TRUE" code="3857">
</identCode>
<idCodeSpace Sync="TRUE">EPSG</idCodeSpace>
<idVersion Sync="TRUE">6.18.3(9.3.1.2)</idVersion>
</refSysID>
</RefSystem>
</refSysInfo>
<spatRepInfo>
<Georect>
<cellGeo>
<CellGeoCd Sync="TRUE" value="002">
</CellGeoCd>
</cellGeo>
<numDims Sync="TRUE">2</numDims>
<tranParaAv Sync="TRUE">1</tranParaAv>
<chkPtAv Sync="TRUE">0</chkPtAv>
<cornerPts>
<pos Sync="TRUE">-17148095.247400 -166596.207900</pos>
</cornerPts>
<cornerPts>
<pos Sync="TRUE">-17148095.247400 12433153.792100</pos>
</cornerPts>
<cornerPts>
<pos Sync="TRUE">-4215595.247400 12433153.792100</pos>
</cornerPts>
<cornerPts>
<pos Sync="TRUE">-4215595.247400 -166596.207900</pos>
</cornerPts>
<centerPt>
<pos Sync="TRUE">-10681845.247400 6133278.792100</pos>
</centerPt>
<axisDimension type="002">
<dimSize Sync="TRUE">51730</dimSize>
<dimResol>
<value Sync="TRUE" uom="m">250.000000</value>
</dimResol>
</axisDimension>
<axisDimension type="001">
<dimSize Sync="TRUE">50399</dimSize>
<dimResol>
<value Sync="TRUE" uom="m">250.000000</value>
</dimResol>
</axisDimension>
<ptInPixel>
<PixOrientCd Sync="TRUE" value="001">
</PixOrientCd>
</ptInPixel>
</Georect>
</spatRepInfo>
<contInfo>
<ImgDesc>
<contentTyp>
<ContentTypCd Sync="TRUE" value="001">
</ContentTypCd>
</contentTyp>
<covDim>
<Band>
<dimDescrp Sync="TRUE">Band_1</dimDescrp>
<maxVal Sync="TRUE">9.000000</maxVal>
<minVal Sync="TRUE">1.000000</minVal>
<bitsPerVal Sync="TRUE">4</bitsPerVal>
<valUnit>
<UOM type="length">
</UOM>
</valUnit>
</Band>
</covDim>
</ImgDesc>
</contInfo>
<mdDateSt Sync="TRUE">20251217</mdDateSt>
<mdHrLv>
<ScopeCd value="005">
</ScopeCd>
</mdHrLv>
</metadata>
