{ "extent": { "ymin": 5144960.1550000012, "xmin": -13942942.726300001, "ymax": 6282920.1550000012, "xmax": -12939412.726300001, "spatialReference": { "latestWkid": 3857, "wkid": 102100 } }, "blockWidth": 2048, "mosaicOperator": "Max", "serviceSourceType": "esriImageServiceSourceTypeMosaicDataset", "hasMultidimensions": false, "maxImageWidth": 100000, "maxRecordCount": 1000, "meanValues": [3.810092106566306], "hasColormap": false, "compressionType": "None", "defaultCompressionQuality": 75, "maxValues": [5], "hasHistograms": true, "datasetFormat": "AMD", "maxImageHeight": 100000, "sortField": "", "bandNames": ["Band_1"], "spatialReference": { "latestWkid": 3857, "wkid": 102100 }, "fullExtent": { "ymin": 5144960.1550000012, "xmin": -13942942.726300001, "ymax": 6282920.1550000012, "xmax": -12939412.726300001, "spatialReference": { "latestWkid": 3857, "wkid": 102100 } }, "bandCount": 1, "rasterFunctionInfos": [ { "help": "", "name": "QWRA_eNVC_REC", "description": "QWRA eNVC Recreation Infrastructure" }, { "help": "", "name": "None", "description": "Make a Raster or Raster Dataset into a Function Raster Dataset." } ], "supportsStatistics": true, "sortableFields": "minps,maxps,lowps,highps", "minValues": [1], "allowRasterFunction": true, "allowComputeTiePoints": false, "serviceDataType": "esriImageServiceDataTypeGeneric", "supportsAdvancedQueries": true, "maxDownloadSizeLimit": 2048, "currentVersion": 12, "sortValue": null, "objectIdField": "objectid", "blockHeight": 256, "initialExtent": { "ymin": 5144960.1550000012, "xmin": -13942942.726300001, "ymax": 6282920.1550000012, "xmax": -12939412.726300001, "spatialReference": { "latestWkid": 3857, "wkid": 102100 } }, "pixelSizeX": 30, "pixelSizeY": 30, "defaultMosaicMethod": "Northwest", "name": "Fire_Aviation/USFS_R6_QWRA_eNVC_REC_30m", "allowedMosaicMethods": "NorthWest,Center,LockRaster,ByAttribute,Nadir,Viewpoint,Seamline,None", "maxDownloadImageCount": 20, "fields": [ { "domain": null, "name": "objectid", "alias": "objectid", "type": "esriFieldTypeOID" }, { "domain": null, "name": "name", "length": 200, "alias": "name", "type": "esriFieldTypeString" }, { "domain": null, "name": "minps", "alias": "minps", "type": "esriFieldTypeDouble" }, { "domain": null, "name": "maxps", "alias": "maxps", "type": "esriFieldTypeDouble" }, { "domain": null, "name": "lowps", "alias": "lowps", "type": "esriFieldTypeDouble" }, { "domain": null, "name": "highps", "alias": "highps", "type": "esriFieldTypeDouble" }, { "domain": { "splitPolicy": "esriSPTDefaultValue", "name": "MosaicCatalogItemCategoryDomain", "description": "Catalog item categories.", "type": "codedValue", "codedValues": [ { "code": 0, "name": "Unknown" }, { "code": 1, "name": "Primary" }, { "code": 2, "name": "Overview" }, { "code": 3, "name": "Unprocessed Overview" }, { "code": 4, "name": "Partial Overview" }, { "code": 5, "name": "Inactive" }, { "code": 253, "name": "Uploaded" }, { "code": 254, "name": "Incomplete" }, { "code": 255, "name": "Custom" } ], "mergePolicy": "esriMPTDefaultValue" }, "name": "category", "alias": "category", "type": "esriFieldTypeInteger" }, { "domain": null, "name": "productname", "length": 100, "alias": "productname", "type": "esriFieldTypeString" }, { "domain": null, "name": "shape", "alias": "shape", "type": "esriFieldTypeGeometry" }, { "domain": null, "name": "metadata", "length": 255, "alias": "metadata", "type": "esriFieldTypeString" } ], "allowAnalysis": true, "hasRasterAttributeTable": false, "useStandardizedQueries": true, "description": "", "pixelType": "U8", "meanPixelSize": 30, "exportTilesAllowed": false, "editFieldsInfo": null, "rasterTypeInfos": [{ "help": "", "name": "Raster Dataset", "description": "Supports all ArcGIS Raster Datasets" }], "defaultResamplingMethod": "Nearest", "itemAccess": false, "minScale": 0, "serviceProperties": "NorthWest<\/MosaicMethod>Max<\/MosaicOperator>true<\/SortAscending><\/LockImageID>name<\/TileOrderField>0<\/TileOrderBase>600.000000<\/AvgImageSpacingX>300.000000<\/AvgImageSpacingY>0.0<\/ViewPointX>0.0<\/ViewPointY>0.0<\/ViewPointDefShiftX>0.0<\/ViewPointDefShiftY>None<\/CompressionMethod>75<\/CompressionQuality>0.010000<\/CompressionTolerance>Nearest<\/SamplingMethod><\/ImageServiceProperties><\/ImageServer>", "advancedQueryCapabilities": { "supportsStatistics": true, "supportsSqlExpression": true, "supportsOrderBy": true, "useStandardizedQueries": true, "supportsPagination": true, "supportsDistinct": true }, "serviceItemId": "29a081e1c113467586627f40c8f6dd64", "capabilities": "Image,Metadata,Catalog,Mensuration", "maxScale": 0, "stdvValues": [1.2674943269509873], "allowedFields": "name,minps,maxps,lowps,highps,productname,metadata", "minPixelSize": 0, "sortAscending": true, "maxMosaicImageCount": 20, "inspectionCapabilities": "", "maxPixelSize": 0, "uncompressedSize": 1268863332, "serviceDescription": "

This dataset is a product of the PNW QWRA 2025. The purpose of the PNW QWRA 2025 is to provide foundational information about wildfire risk across the Pacific Northwest Region (which encompasses the states of Oregon and Washington). Analytics from the QWRA are used to guide vegetation management, fire response, and community planning at multiple scales.<\/SPAN><\/P>
<\/P>
A QWRA considers several different components, each resolved spatially across the region, including:<\/SPAN><\/P>
- likelihood of a fire burning, <\/SPAN><\/P>
- the intensity of a fire if one should occur,<\/SPAN><\/P>
- the exposure of assets and resources based on their locations, and <\/SPAN><\/P>
- the susceptibility of those assets and resources<\/SPAN><\/P>
<\/P>
Data users are encouraged to refer to the PNW QWRA 2023 Methods Report for full details: <\/SPAN>https://oe.oregonexplorer.info/externalcontent/wildfire/PNW_QWRA_2023Methods.pdf<\/SPAN><\/A><\/P>
<\/P>
The PNW QWRA 2025 evaluated risk to eight highly-valued resources and assets (HVRAs): People and Property, Infrastructure, Drinking Water, Timber, Ecological Integrity, Wildlife Habitat, Agriculture, and Recreation. This data layer, Recreation Infrastructure eNVC, represents risk integrated across all Recreation Infrastructure sub-HVRAs. The Recreation Infrastructure HVRA is intended to evaluate wildfire risk to outdoor recreation infrastructure. High development recreation represents substantial structures including developed campgrounds, ranger stations, park headquarters, etc. Low development infrastructure includes unimproved staging areas, trailheads, and vault/pit toilets. S<\/SPAN>ub-HVRAs included:<\/SPAN><\/SPAN><\/P>
1. High development<\/SPAN><\/SPAN><\/P>
2. Low development<\/SPAN><\/P>
<\/P>
Risk is estimated within the QWRA framework by integrating wildfire hazard with HVRA susceptibility (Scott et al., 2013). Risk is calculated for each pixel separately based on the fire hazard data for that pixel and based on which HVRAs are present. Fire impacts to each HVRA are characterized by the estimated change in value, a unitless approximation of whether the HVRA is beneficially or adversely affected by fire and to what magnitude. Accordingly, risk is expressed as net value change (NVC). Net value change is first calculated for all pixels across a sub-HVRA. The NVC for each HVRA is then calculated by summing the NVC of all its constituent sub-HVRAs. Positive values indicate that wildfire is likely to have beneficial impacts on the HVRA while negative values indicate that the net outcomes are likely to be adverse. Risk is calculated based on a very wide range of plausible weather conditions, much wider than the range under which we have typically experienced large fires in the past. The specific conditions under which a wildfire occurs will determine the outcomes. When interpreting QWRA risk results bear in mind that fire will not always be beneficial in areas with positive NVC values and likewise it may be possible to experience beneficial fire in areas with negative NVC values. <\/SPAN><\/P>
<\/P>
Primary Data Contact: Ian Rickert, Regional Fire Planner, Forest Service R6/R10, ian.rickert@usda.gov<\/SPAN><\/P>
<\/P>
Citations:<\/SPAN><\/P>
Scott, J.H., Thompson, M.P., Calkin, D.E., 2013. A wildfire risk assessment framework for land and resource management (No. RMRS-GTR-315). U.S. Department of Agriculture, Forest Service, Rocky Mountain Research Station, Ft. Collins, CO. <\/SPAN>https://doi.org/10.2737/RMRS-GTR-315<\/SPAN><\/A><\/P>
<\/P>
Finney, M.A., McHugh, C.W., Grenfell, I.C., Riley, K.L., Short, K.C., 2011. A simulation of probabilistic wildfire risk components for the continental United States. Stoch Environ Res Risk Assess 25, 973\u20131000. <\/SPAN>https://doi.org/10.1007/s00477-011-0462-z<\/SPAN><\/A><\/P><\/DIV><\/DIV><\/DIV><\/DIV>", "allowCopy": true, "copyrightText": "This assessment was completed by Oregon State University in collaboration with the Oregon Department of Forestry, Washington State Department of Natural Resources, the U.S. Bureau of Land Management and the U.S. Forest Service.", "mensurationCapabilities": "Basic", "ownershipBasedAccessControlForRasters": null }