{ "extent": { "ymin": 2563037.3960999995, "xmin": -14291966.7048, "ymax": 6886967.3960999995, "xmax": -7130456.7048000004, "spatialReference": { "latestWkid": 3857, "wkid": 102100 } }, "blockWidth": 2048, "mosaicOperator": "First", "serviceSourceType": "esriImageServiceSourceTypeMosaicDataset", "hasMultidimensions": false, "maxImageWidth": 100000, "maxRecordCount": 1000, "meanValues": [3.9123149633605561], "hasColormap": false, "compressionType": "None", "defaultCompressionQuality": 75, "maxValues": [6], "hasHistograms": true, "datasetFormat": "AMD", "maxImageHeight": 100000, "sortField": "", "bandNames": ["Band_1"], "spatialReference": { "latestWkid": 3857, "wkid": 102100 }, "fullExtent": { "ymin": 2563037.3960999995, "xmin": -14291966.7048, "ymax": 6886967.3960999995, "xmax": -7130456.7048000004, "spatialReference": { "latestWkid": 3857, "wkid": 102100 } }, "bandCount": 1, "rasterFunctionInfos": [ { "help": "", "name": "PEOPLE_INFRA_HIST_cNVC", "description": "PEOPLE_INFRA_HIST_cNVC 2024" }, { "help": "", "name": "None", "description": "Make a Raster or Raster Dataset into a Function Raster Dataset." } ], "supportsStatistics": true, "sortableFields": "minps,maxps,lowps,highps,centerx,centery,zorder,st_area(shape),st_perimeter(shape)", "minValues": [0], "allowRasterFunction": true, "allowComputeTiePoints": false, "serviceDataType": "esriImageServiceDataTypeGeneric", "supportsAdvancedQueries": true, "maxDownloadSizeLimit": 2048, "currentVersion": 12, "sortValue": null, "objectIdField": "objectid", "blockHeight": 256, "initialExtent": { "ymin": 2563037.3960999995, "xmin": -14291966.7048, "ymax": 6886967.3960999995, "xmax": -7130456.7048000004, "spatialReference": { "latestWkid": 3857, "wkid": 102100 } }, "pixelSizeX": 30, "pixelSizeY": 30, "defaultMosaicMethod": "Northwest", "name": "Fire_Aviation/USFS_QWRA_PeopleInfraHistcNVC_CONUS", "allowedMosaicMethods": "NorthWest,Center,LockRaster,ByAttribute,Nadir,Viewpoint,Seamline,None", "maxDownloadImageCount": 20, "fields": [ { "domain": null, "name": "objectid", "alias": "objectid", "type": "esriFieldTypeOID" }, { "domain": null, "name": "name", "length": 200, "alias": "name", "type": "esriFieldTypeString" }, { "domain": null, "name": "minps", "alias": "minps", "type": "esriFieldTypeDouble" }, { "domain": null, "name": "maxps", "alias": "maxps", "type": "esriFieldTypeDouble" }, { "domain": null, "name": "lowps", "alias": "lowps", "type": "esriFieldTypeDouble" }, { "domain": null, "name": "highps", "alias": "highps", "type": "esriFieldTypeDouble" }, { "domain": { "splitPolicy": "esriSPTDefaultValue", "name": "MosaicCatalogItemCategoryDomain", "description": "Catalog item categories.", "type": "codedValue", "codedValues": [ { "code": 0, "name": "Unknown" }, { "code": 1, "name": "Primary" }, { "code": 2, "name": "Overview" }, { "code": 3, "name": "Unprocessed Overview" }, { "code": 4, "name": "Partial Overview" }, { "code": 5, "name": "Inactive" }, { "code": 253, "name": "Uploaded" }, { "code": 254, "name": "Incomplete" }, { "code": 255, "name": "Custom" } ], "mergePolicy": "esriMPTDefaultValue" }, "name": "category", "alias": "category", "type": "esriFieldTypeInteger" }, { "domain": null, "name": "tag", "length": 100, "alias": "tag", "type": "esriFieldTypeString" }, { "domain": null, "name": "groupname", "length": 100, "alias": "groupname", "type": "esriFieldTypeString" }, { "domain": null, "name": "productname", "length": 100, "alias": "productname", "type": "esriFieldTypeString" }, { "domain": null, "name": "centerx", "alias": "centerx", "type": "esriFieldTypeDouble" }, { "domain": null, "name": "centery", "alias": "centery", "type": "esriFieldTypeDouble" }, { "domain": null, "name": "zorder", "alias": "zorder", "type": "esriFieldTypeInteger" }, { "domain": null, "name": "shape", "alias": "shape", "type": "esriFieldTypeGeometry" } ], "allowAnalysis": true, "hasRasterAttributeTable": false, "useStandardizedQueries": true, "description": "
The National All-Lands Wildfire Risk Assessment (NaWRA) is a quantitative analysis of how resources and assets may be impacted by wildfire based on: 1) the intensity of a wildfire if one should occur, 2) the exposure of resources and assets based on their locations, and 3) the susceptibility of those resources and assets to wildfire. Data users are encouraged to access the companion report (NaWRA 2025 Methods) for the full details of the assessment. Wildfire hazard was modeled using 2026 capable fuels data. Potential wildfire intensity was estimated at 30-m resolution in the form of conditional probabilities of burning in six different flame length bins (0-2, 2-4, 4-6, 6-8, 8-12, and 12+ ft) using the Pyrologix WildEST Model (Scott et al. 2024). WildEST is a deterministic wildfire modeling tool that integrates spatially continuous weather inputs weighted based on how likely they are to be realized on the landscape. Potential wildfire burn probability was estimated for the 11 Western States by running the USDA Forest Service FSim Model (Finney et al. 2011) at 120-m resolution with post-processing to upsample results to 30-m resolution and estimate burn probability in non-burnable areas adjacent to wildland fuels. Wildfire burn probability for the remainder of CONUS came from the Wildfire Risk to Communities Project (Scott et al. 2024) or the Southern Wildfire Risk Assessment (SouthWRA 2024) modeled with FSim using similar methods. The People and Property, Critical Infrastructure, and Historic Structures and Buildings layer represents the potential combined impact to human assets. The People and Property Highly Valued Resource and Asset (HVRA) Theme represents the spatial distribution and density of housing units. Wildfire has the potential to damage or destroy homes, apartments, other housing units, outbuildings, and their contents. In extreme cases, housing unit exposure to wildfire also results in human injuries or deaths. The People and Property HVRA was mapped using the housing unit density raster from the USDA Forest Service Wildfire Risk to Communities Project, which estimates housing unit density with 2020 census housing unit data and a comprehensive building footprint dataset (Jaffe et al. 2024). Fuel type was used as a covariate for the response functions to reflect the expectation for higher losses with increasing fire intensities, fire residence times, and resistance to control across the grass-shrub-tree fuel type gradient. The Critical Infrastructure Highly Valued Resource and Asset (HVRA) Theme represents important healthcare, emergency service, communication, and energy infrastructure. Wildfire has potential to temporarily disrupt the use of or permanently damage infrastructure. Critical Infrastructure was mapped using Homeland Infrastructure Foundation Level Data (HIFLD; ) accessed in early 2024 to represent Hospitals, Emergency Services, Communication Devices, Electric transmission lines, Power Plants, Substations, Natural Gas Pipelines, and Oil & Natural Gas Wells. The HIFLD program provides consistent spatial data for homeland security analysis and planning. The Historic Structures and Buildings Highly Valued Resource and Asset (HVRA) Theme represents features that society has deemed culturally significant and worthy of preservation. Historic Structures and Buildings were mapped using the National Register of Historic Places (NRHP; ) accessed in early 2024. The Historic Structures and Historic Building point layers were extracted from the NRHP database and merged into a single layer. Each point feature was buffered by 60-m to represent the approximate zone in which wildfire could impact the feature. Fuel type was used as a covariate for the response functions to reflect the expectation for higher losses with increasing fire intensities, fire residence times, and resistance to control across the grass-shrub-tree fuel type gradient.",
"pixelType": "U8",
"meanPixelSize": 30,
"exportTilesAllowed": false,
"editFieldsInfo": null,
"rasterTypeInfos": [{
"help": "",
"name": "Raster Dataset",
"description": "Supports all ArcGIS Raster Datasets"
}],
"defaultResamplingMethod": "Nearest",
"itemAccess": false,
"minScale": 0,
"serviceProperties": " The National All-Lands Wildfire Risk Assessment (NaWRA) is a quantitative analysis of how resources and assets may be impacted by wildfire based on: 1) the intensity of a wildfire if one should occur, 2) the exposure of resources and assets based on their locations, and 3) the susceptibility of those resources and assets to wildfire. Data users are encouraged to access the companion report (NaWRA 2025 Methods) for the full details of the assessment. Wildfire hazard was modeled using 2026 capable fuels data. Potential wildfire intensity was estimated at 30-m resolution in the form of conditional probabilities of burning in six different flame length bins (0-2, 2-4, 4-6, 6-8, 8-12, and 12+ ft) using the Pyrologix WildEST Model (Scott et al. 2024). WildEST is a deterministic wildfire modeling tool that integrates spatially continuous weather inputs weighted based on how likely they are to be realized on the landscape. Potential wildfire burn probability was estimated for the 11 Western States by running the USDA Forest Service FSim Model (Finney et al. 2011) at 120-m resolution with post-processing to upsample results to 30-m resolution and estimate burn probability in non-burnable areas adjacent to wildland fuels. Wildfire burn probability for the remainder of CONUS came from the Wildfire Risk to Communities Project (Scott et al. 2024) or the Southern Wildfire Risk Assessment (SouthWRA 2024) modeled with FSim using similar methods. The People and Property, Critical Infrastructure, and Historic Structures and Buildings layer represents the potential combined impact to human assets. The People and Property Highly Valued Resource and Asset (HVRA) Theme represents the spatial distribution and density of housing units. Wildfire has the potential to damage or destroy homes, apartments, other housing units, outbuildings, and their contents. In extreme cases, housing unit exposure to wildfire also results in human injuries or deaths. The People and Property HVRA was mapped using the housing unit density raster from the USDA Forest Service Wildfire Risk to Communities Project, which estimates housing unit density with 2020 census housing unit data and a comprehensive building footprint dataset (Jaffe et al. 2024). Fuel type was used as a covariate for the response functions to reflect the expectation for higher losses with increasing fire intensities, fire residence times, and resistance to control across the grass-shrub-tree fuel type gradient. The Critical Infrastructure Highly Valued Resource and Asset (HVRA) Theme represents important healthcare, emergency service, communication, and energy infrastructure. Wildfire has potential to temporarily disrupt the use of or permanently damage infrastructure. Critical Infrastructure was mapped using Homeland Infrastructure Foundation Level Data (HIFLD; ) accessed in early 2024 to represent Hospitals, Emergency Services, Communication Devices, Electric transmission lines, Power Plants, Substations, Natural Gas Pipelines, and Oil & Natural Gas Wells. The HIFLD program provides consistent spatial data for homeland security analysis and planning. The Historic Structures and Buildings Highly Valued Resource and Asset (HVRA) Theme represents features that society has deemed culturally significant and worthy of preservation. Historic Structures and Buildings were mapped using the National Register of Historic Places (NRHP; ) accessed in early 2024. The Historic Structures and Historic Building point layers were extracted from the NRHP database and merged into a single layer. Each point feature was buffered by 60-m to represent the approximate zone in which wildfire could impact the feature. Fuel type was used as a covariate for the response functions to reflect the expectation for higher losses with increasing fire intensities, fire residence times, and resistance to control across the grass-shrub-tree fuel type gradient.",
"allowCopy": true,
"copyrightText": "USDA - GEO; USDA - USFS \u2013 GTAC",
"mensurationCapabilities": "Basic",
"ownershipBasedAccessControlForRasters": null
}