{
 "extent": {
  "ymin": 5387972.4840061907,
  "xmin": -13159326.189335508,
  "ymax": 6593462.4840061907,
  "xmax": -10747026.189335508,
  "spatialReference": {
   "latestWkid": 3857,
   "wkid": 102100
  }
 },
 "blockWidth": 2048,
 "mosaicOperator": "First",
 "serviceSourceType": "esriImageServiceSourceTypeMosaicDataset",
 "hasMultidimensions": false,
 "maxImageWidth": 100000,
 "maxRecordCount": 1000,
 "meanValues": [
  3.9338494903285581
 ],
 "hasColormap": false,
 "compressionType": "None",
 "defaultCompressionQuality": 75,
 "maxValues": [
  5
 ],
 "hasHistograms": true,
 "datasetFormat": "AMD",
 "maxImageHeight": 100000,
 "sortField": "",
 "bandNames": [
  "Band_1"
 ],
 "spatialReference": {
  "latestWkid": 3857,
  "wkid": 102100
 },
 "fullExtent": {
  "ymin": 5387972.4840061907,
  "xmin": -13159326.189335508,
  "ymax": 6593462.4840061907,
  "xmax": -10747026.189335508,
  "spatialReference": {
   "latestWkid": 3857,
   "wkid": 102100
  }
 },
 "bandCount": 1,
 "rasterFunctionInfos": [
  {
   "help": "",
   "name": "Regional Housing Wildfire Risk",
   "description": "Regional Housing Wildfire Risk"
  },
  {
   "help": "",
   "name": "None",
   "description": "Make a Raster or Raster Dataset into a Function Raster Dataset."
  }
 ],
 "supportsStatistics": true,
 "sortableFields": "minps,maxps,lowps,highps,centerx,centery,zorder",
 "minValues": [
  1
 ],
 "allowRasterFunction": true,
 "allowComputeTiePoints": false,
 "serviceDataType": "esriImageServiceDataTypeGeneric",
 "supportsAdvancedQueries": true,
 "maxDownloadSizeLimit": 2048,
 "currentVersion": 12,
 "sortValue": null,
 "objectIdField": "objectid",
 "blockHeight": 256,
 "initialExtent": {
  "ymin": 5387972.4840061907,
  "xmin": -13159326.189335508,
  "ymax": 6593462.4840061907,
  "xmax": -10747026.189335508,
  "spatialReference": {
   "latestWkid": 3857,
   "wkid": 102100
  }
 },
 "pixelSizeX": 30,
 "pixelSizeY": 30,
 "defaultMosaicMethod": "Northwest",
 "name": "Fire_Aviation/USFS_NorthernRockies_Regional_HousingWildfireRisk",
 "allowedMosaicMethods": "NorthWest,Center,LockRaster,ByAttribute,Nadir,Viewpoint,Seamline,None",
 "maxDownloadImageCount": 20,
 "fields": [
  {
   "domain": null,
   "name": "objectid",
   "alias": "objectid",
   "type": "esriFieldTypeOID"
  },
  {
   "domain": null,
   "name": "name",
   "length": 200,
   "alias": "name",
   "type": "esriFieldTypeString"
  },
  {
   "domain": null,
   "name": "minps",
   "alias": "minps",
   "type": "esriFieldTypeDouble"
  },
  {
   "domain": null,
   "name": "maxps",
   "alias": "maxps",
   "type": "esriFieldTypeDouble"
  },
  {
   "domain": null,
   "name": "lowps",
   "alias": "lowps",
   "type": "esriFieldTypeDouble"
  },
  {
   "domain": null,
   "name": "highps",
   "alias": "highps",
   "type": "esriFieldTypeDouble"
  },
  {
   "domain": {
    "splitPolicy": "esriSPTDefaultValue",
    "name": "MosaicCatalogItemCategoryDomain",
    "description": "Catalog item categories.",
    "type": "codedValue",
    "codedValues": [
     {
      "code": 0,
      "name": "Unknown"
     },
     {
      "code": 1,
      "name": "Primary"
     },
     {
      "code": 2,
      "name": "Overview"
     },
     {
      "code": 3,
      "name": "Unprocessed Overview"
     },
     {
      "code": 4,
      "name": "Partial Overview"
     },
     {
      "code": 5,
      "name": "Inactive"
     },
     {
      "code": 253,
      "name": "Uploaded"
     },
     {
      "code": 254,
      "name": "Incomplete"
     },
     {
      "code": 255,
      "name": "Custom"
     }
    ],
    "mergePolicy": "esriMPTDefaultValue"
   },
   "name": "category",
   "alias": "category",
   "type": "esriFieldTypeInteger"
  },
  {
   "domain": null,
   "name": "tag",
   "length": 100,
   "alias": "tag",
   "type": "esriFieldTypeString"
  },
  {
   "domain": null,
   "name": "groupname",
   "length": 100,
   "alias": "groupname",
   "type": "esriFieldTypeString"
  },
  {
   "domain": null,
   "name": "productname",
   "length": 100,
   "alias": "productname",
   "type": "esriFieldTypeString"
  },
  {
   "domain": null,
   "name": "centerx",
   "alias": "centerx",
   "type": "esriFieldTypeDouble"
  },
  {
   "domain": null,
   "name": "centery",
   "alias": "centery",
   "type": "esriFieldTypeDouble"
  },
  {
   "domain": null,
   "name": "zorder",
   "alias": "zorder",
   "type": "esriFieldTypeInteger"
  },
  {
   "domain": null,
   "name": "shape",
   "alias": "shape",
   "type": "esriFieldTypeGeometry"
  }
 ],
 "allowAnalysis": true,
 "hasRasterAttributeTable": false,
 "useStandardizedQueries": true,
 "description": "",
 "pixelType": "U8",
 "meanPixelSize": 30,
 "exportTilesAllowed": false,
 "editFieldsInfo": null,
 "rasterTypeInfos": [
  {
   "help": "",
   "name": "Raster Dataset",
   "description": "Supports all ArcGIS Raster Datasets"
  }
 ],
 "defaultResamplingMethod": "Nearest",
 "itemAccess": false,
 "minScale": 0,
 "serviceProperties": "NorthWest<\/MosaicMethod>First<\/MosaicOperator>true<\/SortAscending><\/LockImageID>name<\/TileOrderField>0<\/TileOrderBase>600.000000<\/AvgImageSpacingX>300.000000<\/AvgImageSpacingY>0.0<\/ViewPointX>0.0<\/ViewPointY>0.0<\/ViewPointDefShiftX>0.0<\/ViewPointDefShiftY>None<\/CompressionMethod>75<\/CompressionQuality>0.010000<\/CompressionTolerance>Nearest<\/SamplingMethod><\/ImageServiceProperties><\/ImageServer>",
 "advancedQueryCapabilities": {
  "supportsStatistics": true,
  "supportsSqlExpression": true,
  "supportsOrderBy": true,
  "useStandardizedQueries": true,
  "supportsPagination": true,
  "supportsDistinct": true
 },
 "serviceItemId": "8c580584740b4efe80eb1e66cf909740",
 "capabilities": "Image,Metadata,Catalog,Mensuration",
 "maxScale": 0,
 "stdvValues": [
  0.50668226657227255
 ],
 "allowedFields": "name,minps,maxps,lowps,highps,tag,groupname,productname,centerx,centery,zorder",
 "minPixelSize": 0,
 "sortAscending": true,
 "maxMosaicImageCount": 100,
 "inspectionCapabilities": "",
 "maxPixelSize": 0,
 "uncompressedSize": 3231115030,
 "serviceDescription": " The Northern Rockies Wildfire Risk Assessment estimates the potential effects of wildfire to a limited set of Highly Valued Resources and Assets (HVRAs) within the Northern Rockies Geographic Area. Potential effects are expressed as the expected net value change (eNVC) to HVRAs. The eNVC results account for the likelihood of a wildfire occurring and exposing HVRAs, the range of intensity under which a wildfire is expected to burn, and the susceptibility of the HVRAs exposed, as described in 'A Wildfire Risk Assessment Framework for Land and Resource Management' (Scott et al. 2013).Wildfire hazard data of annual burn probability (i.e., likelihood of a wildfire occurring) and conditional flame-length probability (i.e., likelihood of burning in different flame-length classes should a wildfire occur) were acquired from the Strategic Analytics Branch (SAB) of the USDA Forest Service. The SAB hazard data is a hybrid of data sources for the western and eastern United States. This results in a small edge effect in the Dakota Prairie Grasslands (DPG) where the two datasets are adjacent. For the western states, annual burn probability was modeled, using custom circa 2025 fuels data (WildWest; Gannon et al. 2026), with the USDA Forest Service FSim Model (Finney et al. 2011) at 120-m resolution. For the rest of the DPG, annual burn probability comes from the National FSim results (Dillon et al. 2023), modeled using LANDFIRE 2020 (v2.2.0) fuels data at 270-m resolution. The 270-m data were upsampled to 120-m resolution and mosaicked with the burn probability results from WildWest. The combined 120-m resolution burn probability results were then upsampled to 30-m resolution to preserver the resolution of the HVRA characterization, fuels mapping and intensity modeling. For more detailed information on data sources and post-processing, see Gannon et al. (2026).The conditional flame-length probability (FLP) data were also acquired from the SAB. FLP data were modeled with the Pyrologix LLC's Wildfire Exposure Simulation Tool (WildEST). WildEST uses a deterministic framework based on the USDA Forest Service FlamMap Software (Finney et al. 2021) to estimate the conditional probability of burning at different fire intensity levels accounting for terrain, fuel conditions, and historical weather. Details on WildEST methods can be found in the companion report \u201cWildEST methods and outputs for the 2024 National Wildfire Risk Assessment\u201d (Scott et al. 2024).Housing unit density data were acquired from the USDA Forest Service Wildfire Risk to Communities Project, which estimates housing unit density with 2020 census housing unit data and a comprehensive building footprint dataset (Jaffe et al. 2024). Response functions and subHVRA relative importance values also come from the Wildfire Risk to Communities project. The response functions reflect an expectation for higher losses with increasing fire intensity and with increasing fire residence times, resistance to control, and spotting potential across the grass-shrub-tree fuel type gradient, consistent with the observed loss rates across fuel types conditional on wildfire exposure (Radeloff et al. 2023). SubHVRA relative importance increases across seven classes of housing unit density to reflect the greater quantity of human assets exposed to fire in areas with higher housing unit density. The relative importance is based on density alone and does not account for home value.References:Dillon GK, Scott JH, Jaffe MR, Olszewski JH, Vogler KC, Finney MA, Short KC, Riley KL, Grenfell IC, Jolly WM, Brittain S (2023) Spatial datasets of probabilistic wildfire risk components for the United States (270m). 3rd Edition. U.S. Department of Agriculture, Forest Service Research Data Archive. (Fort Collins, CO) DOI:10.2737/RDS-2016-0034-3Finney MA, McHugh CW, Grenfell IC, Riley KL, Short KC (2011) A simulation of probabilistic wildfire risk components for the continental United States. Stochastic Environmental Research and Risk Assessment 25, 973-1000. DOI:10.1007/s00477-011-0462-zGannon B, Stratton R, Arkin J, Jaffe M, Moran C, Wilson K, Gilbertson-Day J, Scott J (2026) National All-lands Wildfire Risk Assessment (NaWRA) 2025 Methods. U.S. Department of Agriculture, Forest Service, Strategic Analytics Branch, ReportJaffe MR, Scott JH, Callahan MN, Dillon GK, Karau EC, Lazarz MT (2024) Wildfire Risk to Communities: Spatial datasets of wildfire risk for populated areas in the United States. 2nd Edition. U.S. Department of Agriculture, Forest Service Research Data Archive. (Fort Collins, CO) 15p. DOI:10.2737/RDS-2020-0060-2Radeloff VC, Mockrin MH, Helmers D, Carlson A, Hawbaker TJ, Martinuzzi S, Schug F, Alexandre PM, Kramer HA, Pidgeon AM (2023) Rising wildfire risk to houses in the United States, especially in grasslands and shrublands. Science 382, 702-707. DOI:10.1126/science.ade9223Scott JH, Thompson MP, Calkin DE (2013) A wildfire risk assessment framework for land and resource management. U.S. Department of Agriculture, Forest Service, Rocky Mountain Research Station. General Technical Report RMRS-GTR-315. (Fort Collins, CO) 83 p.Scott JH, Moran CJ, Callahan MN, Brough AM (2024) WildEST methods and outputs for the 2024 National Wildfire Risk Assessment. Pyrologix report to U.S. Department of Agriculture, Forest Service, Fire and Aviation Management. (Missoula, MT) 25 p.<\/span><\/p><\/div><\/div><\/div>",
 "allowCopy": true,
 "copyrightText": "USDA; US Forest Service; Interdepartmental Imagery Publication Platform; IIPP;",
 "mensurationCapabilities": "Basic",
 "ownershipBasedAccessControlForRasters": null
}
