<?xml version="1.0" encoding="UTF-8" standalone="no"?>
<metadata xml:lang="en">
<Esri>
<CreaDate>20260708</CreaDate>
<CreaTime>07400200</CreaTime>
<ArcGISFormat>1.0</ArcGISFormat>
<SyncOnce>FALSE</SyncOnce>
<ArcGISProfile>ISO19115_3</ArcGISProfile>
<DataProperties>
<itemProps>
<itemName Sync="FALSE">USFS_NorthernRockies_Regional_HousingWildfireRisk</itemName>
<nativeExtBox>
<westBL Sync="TRUE">-13159326.189336</westBL>
<eastBL Sync="TRUE">-10747026.189336</eastBL>
<southBL Sync="TRUE">5387972.484006</southBL>
<northBL Sync="TRUE">6593462.484006</northBL>
<exTypeCode Sync="TRUE">1</exTypeCode>
</nativeExtBox>
<imsContentType export="False">
</imsContentType>
</itemProps>
<coordRef>
<type Sync="TRUE">Projected</type>
<geogcsn Sync="TRUE">GCS_WGS_1984</geogcsn>
<csUnits Sync="TRUE">Linear Unit: Meter (1.000000)</csUnits>
<projcsn Sync="TRUE">WGS_1984_Web_Mercator_Auxiliary_Sphere</projcsn>
<peXml Sync="TRUE">&lt;ProjectedCoordinateSystem xsi:type='typens:ProjectedCoordinateSystem' xmlns:xsi='http://www.w3.org/2001/XMLSchema-instance' xmlns:xs='http://www.w3.org/2001/XMLSchema' xmlns:typens='http://www.esri.com/schemas/ArcGIS/3.6.0'&gt;&lt;WKT&gt;PROJCS[&amp;quot;WGS_1984_Web_Mercator_Auxiliary_Sphere&amp;quot;,GEOGCS[&amp;quot;GCS_WGS_1984&amp;quot;,DATUM[&amp;quot;D_WGS_1984&amp;quot;,SPHEROID[&amp;quot;WGS_1984&amp;quot;,6378137.0,298.257223563]],PRIMEM[&amp;quot;Greenwich&amp;quot;,0.0],UNIT[&amp;quot;Degree&amp;quot;,0.0174532925199433]],PROJECTION[&amp;quot;Mercator_Auxiliary_Sphere&amp;quot;],PARAMETER[&amp;quot;False_Easting&amp;quot;,0.0],PARAMETER[&amp;quot;False_Northing&amp;quot;,0.0],PARAMETER[&amp;quot;Central_Meridian&amp;quot;,0.0],PARAMETER[&amp;quot;Standard_Parallel_1&amp;quot;,0.0],PARAMETER[&amp;quot;Auxiliary_Sphere_Type&amp;quot;,0.0],UNIT[&amp;quot;Meter&amp;quot;,1.0],AUTHORITY[&amp;quot;EPSG&amp;quot;,3857]]&lt;/WKT&gt;&lt;XOrigin&gt;-20037700&lt;/XOrigin&gt;&lt;YOrigin&gt;-30241100&lt;/YOrigin&gt;&lt;XYScale&gt;148923141.92838538&lt;/XYScale&gt;&lt;ZOrigin&gt;-100000&lt;/ZOrigin&gt;&lt;ZScale&gt;10000&lt;/ZScale&gt;&lt;MOrigin&gt;-100000&lt;/MOrigin&gt;&lt;MScale&gt;10000&lt;/MScale&gt;&lt;XYTolerance&gt;0.001&lt;/XYTolerance&gt;&lt;ZTolerance&gt;0.001&lt;/ZTolerance&gt;&lt;MTolerance&gt;0.001&lt;/MTolerance&gt;&lt;HighPrecision&gt;true&lt;/HighPrecision&gt;&lt;WKID&gt;102100&lt;/WKID&gt;&lt;LatestWKID&gt;3857&lt;/LatestWKID&gt;&lt;/ProjectedCoordinateSystem&gt;</peXml>
</coordRef>
<RasterProperties>
<General>
<PixelDepth Sync="TRUE">8</PixelDepth>
<HasColormap Sync="TRUE">FALSE</HasColormap>
<CompressionType Sync="TRUE">None</CompressionType>
<NumBands Sync="TRUE">1</NumBands>
<Format Sync="TRUE">AMD</Format>
<HasPyramids Sync="TRUE">TRUE</HasPyramids>
<SourceType Sync="TRUE">continuous</SourceType>
<PixelType Sync="TRUE">unsigned integer</PixelType>
<NoDataValue Sync="TRUE">
</NoDataValue>
</General>
<Properties>
<MaxImageHeight Sync="TRUE">100000</MaxImageHeight>
<MaxImageWidth Sync="TRUE">100000</MaxImageWidth>
<MaxRecordCount Sync="TRUE">1000</MaxRecordCount>
<MaxDownloadImageCount Sync="TRUE">20</MaxDownloadImageCount>
<MaxDownloadSizeLimit Sync="TRUE">2048</MaxDownloadSizeLimit>
<MaxMosaicImageCount Sync="TRUE">100</MaxMosaicImageCount>
<DefaultCompressionQuality Sync="TRUE">75</DefaultCompressionQuality>
<DefaultCompressionTolerance Sync="TRUE">0.01</DefaultCompressionTolerance>
<BlendWidth Sync="TRUE">10</BlendWidth>
<ViewpointSpacingX Sync="TRUE">600</ViewpointSpacingX>
<ViewpointSpacingY Sync="TRUE">300</ViewpointSpacingY>
<AllowedItemMetadata Sync="TRUE">Basic</AllowedItemMetadata>
<DefaultResamplingMethod Sync="TRUE">0</DefaultResamplingMethod>
<AllowedMosaicMethods Sync="TRUE">NorthWest,Center,LockRaster,ByAttribute,Nadir,Viewpoint,Seamline,None</AllowedMosaicMethods>
<AllowedCompressions Sync="TRUE">None,JPEG,LZ77,LERC</AllowedCompressions>
<AllowedMensurationCapabilities Sync="TRUE">Basic</AllowedMensurationCapabilities>
<AvailableMensurationCapabilities Sync="TRUE">None,Basic,Base-Top Height,Top-Top Shadow Height,Base-Top Shadow Height,3D</AvailableMensurationCapabilities>
<ClipToBoundary Sync="TRUE">-1</ClipToBoundary>
<FootprintMayContainNoData Sync="TRUE">-1</FootprintMayContainNoData>
<CellSizeTolerance Sync="TRUE">0.8</CellSizeTolerance>
<MinimumPixelContribution Sync="TRUE">1</MinimumPixelContribution>
<AvailableMosaicMethods Sync="TRUE">NorthWest,Center,LockRaster,ByAttribute,Nadir,Viewpoint,Seamline,None</AvailableMosaicMethods>
<AvailableCompressionMethods Sync="TRUE">None,JPEG,LZ77,LERC</AvailableCompressionMethods>
<AvailableItemMetadataLevels Sync="TRUE">None,Basic,Full</AvailableItemMetadataLevels>
<BandDefinitionKeyword Sync="TRUE">NONE</BandDefinitionKeyword>
<_docversion_ Sync="TRUE">10</_docversion_>
<AllowedFields Sync="TRUE">name,minps,maxps,lowps,highps,tag,groupname,productname,centerx,centery,zorder</AllowedFields>
<MaxCellSize Sync="TRUE">9830400</MaxCellSize>
<LowCellSize Sync="TRUE">30</LowCellSize>
<HighCellSize Sync="TRUE">983040</HighCellSize>
<AvailableFields Sync="TRUE">name,minps,maxps,lowps,highps,tag,groupname,productname,centerx,centery,zorder,st_area(shape),st_perimeter(shape)</AvailableFields>
<SortableFields Sync="TRUE">minps,maxps,lowps,highps,centerx,centery,zorder,st_area(shape),st_perimeter(shape)</SortableFields>
<SortAscending Sync="TRUE">-1</SortAscending>
<MosaicOperator Sync="TRUE">1</MosaicOperator>
<BlendWidthUnits Sync="TRUE">1</BlendWidthUnits>
<ClipToFootprint Sync="TRUE">0</ClipToFootprint>
<ClipOverviewsToFootprint Sync="TRUE">0</ClipOverviewsToFootprint>
<HasDodgingTable Sync="TRUE">0</HasDodgingTable>
<ApplyColorCorrection Sync="TRUE">0</ApplyColorCorrection>
<UseTime Sync="TRUE">0</UseTime>
<StartTimeFieldName Sync="TRUE">
</StartTimeFieldName>
<EndTimeFieldName Sync="TRUE">
</EndTimeFieldName>
<TimeValueFormat Sync="TRUE">
</TimeValueFormat>
<UseRange Sync="TRUE">0</UseRange>
<TimeInterval Sync="TRUE">
</TimeInterval>
<TimeIntervalUnits Sync="TRUE">
</TimeIntervalUnits>
</Properties>
<Functions Sync="TRUE">
<Function Description="Performs on-the-fly mosaic on a raster catalog." Name="Mosaic Function">
</Function>
</Functions>
</RasterProperties>
</DataProperties>
<SyncDate>20260708</SyncDate>
<SyncTime>07535000</SyncTime>
<ModDate>20260708</ModDate>
<ModTime>7593300</ModTime>
<scaleRange>
<minScale>150000000</minScale>
<maxScale>5000</maxScale>
</scaleRange>
</Esri>
<mdChar>
<CharSetCd value="004">
</CharSetCd>
</mdChar>
<mdHrLv>
<ScopeCd value="005">
</ScopeCd>
</mdHrLv>
<mdDateSt Sync="TRUE">20260708</mdDateSt>
<mdStanName>ArcGIS Metadata</mdStanName>
<mdStanVer>1.0</mdStanVer>
<dataIdInfo>
<idCitation>
<resTitle>USFS_NorthernRockies_Regional_HousingWildfireRisk</resTitle>
<presForm>
<PresFormCd value="005">
</PresFormCd>
</presForm>
<presForm>
<fgdcGeoform>remote-sensing image</fgdcGeoform>
</presForm>
</idCitation>
<idAbs>&lt;div style='text-align:Left;'&gt;&lt;div&gt;&lt;div&gt;&lt;p&gt;&lt;span&gt;The Northern Rockies Wildfire Risk Assessment estimates the potential effects of wildfire to a limited set of Highly Valued Resources and Assets (HVRAs) within the Northern Rockies Geographic Area. Potential effects are expressed as the expected net value change (eNVC) to HVRAs. The eNVC results account for the likelihood of a wildfire occurring and exposing HVRAs, the range of intensity under which a wildfire is expected to burn, and the susceptibility of the HVRAs exposed, as described in 'A Wildfire Risk Assessment Framework for Land and Resource Management' (Scott et al. 2013).Wildfire hazard data of annual burn probability (i.e., likelihood of a wildfire occurring) and conditional flame-length probability (i.e., likelihood of burning in different flame-length classes should a wildfire occur) were acquired from the Strategic Analytics Branch (SAB) of the USDA Forest Service. The SAB hazard data is a hybrid of data sources for the western and eastern United States. This results in a small edge effect in the Dakota Prairie Grasslands (DPG) where the two datasets are adjacent. For the western states, annual burn probability was modeled, using custom circa 2025 fuels data (WildWest; Gannon et al. 2026), with the USDA Forest Service FSim Model (Finney et al. 2011) at 120-m resolution. For the rest of the DPG, annual burn probability comes from the National FSim results (Dillon et al. 2023), modeled using LANDFIRE 2020 (v2.2.0) fuels data at 270-m resolution. The 270-m data were upsampled to 120-m resolution and mosaicked with the burn probability results from WildWest. The combined 120-m resolution burn probability results were then upsampled to 30-m resolution to preserver the resolution of the HVRA characterization, fuels mapping and intensity modeling. For more detailed information on data sources and post-processing, see Gannon et al. (2026).The conditional flame-length probability (FLP) data were also acquired from the SAB. FLP data were modeled with the Pyrologix LLC's Wildfire Exposure Simulation Tool (WildEST). WildEST uses a deterministic framework based on the USDA Forest Service FlamMap Software (Finney et al. 2021) to estimate the conditional probability of burning at different fire intensity levels accounting for terrain, fuel conditions, and historical weather. Details on WildEST methods can be found in the companion report “WildEST methods and outputs for the 2024 National Wildfire Risk Assessment” (Scott et al. 2024).Housing unit density data were acquired from the USDA Forest Service Wildfire Risk to Communities Project, which estimates housing unit density with 2020 census housing unit data and a comprehensive building footprint dataset (Jaffe et al. 2024). Response functions and subHVRA relative importance values also come from the Wildfire Risk to Communities project. The response functions reflect an expectation for higher losses with increasing fire intensity and with increasing fire residence times, resistance to control, and spotting potential across the grass-shrub-tree fuel type gradient, consistent with the observed loss rates across fuel types conditional on wildfire exposure (Radeloff et al. 2023). SubHVRA relative importance increases across seven classes of housing unit density to reflect the greater quantity of human assets exposed to fire in areas with higher housing unit density. The relative importance is based on density alone and does not account for home value.References:Dillon GK, Scott JH, Jaffe MR, Olszewski JH, Vogler KC, Finney MA, Short KC, Riley KL, Grenfell IC, Jolly WM, Brittain S (2023) Spatial datasets of probabilistic wildfire risk components for the United States (270m). 3rd Edition. U.S. Department of Agriculture, Forest Service Research Data Archive. (Fort Collins, CO) DOI:10.2737/RDS-2016-0034-3Finney MA, McHugh CW, Grenfell IC, Riley KL, Short KC (2011) A simulation of probabilistic wildfire risk components for the continental United States. Stochastic Environmental Research and Risk Assessment 25, 973-1000. DOI:10.1007/s00477-011-0462-zGannon B, Stratton R, Arkin J, Jaffe M, Moran C, Wilson K, Gilbertson-Day J, Scott J (2026) National All-lands Wildfire Risk Assessment (NaWRA) 2025 Methods. U.S. Department of Agriculture, Forest Service, Strategic Analytics Branch, ReportJaffe MR, Scott JH, Callahan MN, Dillon GK, Karau EC, Lazarz MT (2024) Wildfire Risk to Communities: Spatial datasets of wildfire risk for populated areas in the United States. 2nd Edition. U.S. Department of Agriculture, Forest Service Research Data Archive. (Fort Collins, CO) 15p. DOI:10.2737/RDS-2020-0060-2Radeloff VC, Mockrin MH, Helmers D, Carlson A, Hawbaker TJ, Martinuzzi S, Schug F, Alexandre PM, Kramer HA, Pidgeon AM (2023) Rising wildfire risk to houses in the United States, especially in grasslands and shrublands. Science 382, 702-707. DOI:10.1126/science.ade9223Scott JH, Thompson MP, Calkin DE (2013) A wildfire risk assessment framework for land and resource management. U.S. Department of Agriculture, Forest Service, Rocky Mountain Research Station. General Technical Report RMRS-GTR-315. (Fort Collins, CO) 83 p.Scott JH, Moran CJ, Callahan MN, Brough AM (2024) WildEST methods and outputs for the 2024 National Wildfire Risk Assessment. Pyrologix report to U.S. Department of Agriculture, Forest Service, Fire and Aviation Management. (Missoula, MT) 25 p.&lt;/span&gt;&lt;/p&gt;&lt;/div&gt;&lt;/div&gt;&lt;/div&gt;</idAbs>
<idPurp>The wildfire risk to housing layer represents potential wildfire effects to housing units. The housing theme represents the spatial distribution and density of housing units. Potential effects are expressed as the expected net value change (eNVC). The eNVC results are binned into four classes based on the cumulative percent of risk within the extent: Most (top 30%), High (next 20%), Moderate (next 20%), and Least (bottom 30%). An additional class depicts housing units in the urban core or agricultural areas where risk was not quantified due to the lack of nearby burnable pixels in the fuels dataset. These areas should be assumed to have potential for loss if exposed to fire.</idPurp>
<themeKeys>
<keyword>Quantitative Wildfire Risk Assessment</keyword>
<keyword>QWRA</keyword>
<keyword>Wildfire Risk</keyword>
<keyword>Expected Net Value Change</keyword>
<keyword>eNVC</keyword>
<keyword>WUI</keyword>
<keyword>Housing Risk</keyword>
<keyword>Northern Rockies</keyword>
</themeKeys>
<searchKeys>
<keyword>Quantitative Wildfire Risk Assessment</keyword>
<keyword>QWRA</keyword>
<keyword>Wildfire Risk</keyword>
<keyword>Expected Net Value Change</keyword>
<keyword>eNVC</keyword>
<keyword>WUI</keyword>
<keyword>Housing Risk</keyword>
<keyword>Northern Rockies</keyword>
</searchKeys>
<resConst>
<Consts>
<useLimit>&lt;div style='text-align:Left;'&gt;&lt;div&gt;&lt;div&gt;&lt;p&gt;&lt;span&gt;The USDA Forest Service makes no warranty, expressed or implied, including the warranties of merchantability and fitness for a particular purpose, nor assumes any legal liability or responsibility for the accuracy, reliability, completeness or utility of these geospatial data, or for the improper or incorrect use of these geospatial data. These geospatial data and related maps or graphics are not legal documents and are not intended to be used as such. The data and maps may not be used to determine title, ownership, legal descriptions or boundaries, legal jurisdiction, or restrictions that may be in place on either public or private land. Natural hazards may or may not be depicted on the data and maps, and land users should exercise due caution. The data are dynamic and may change over time. The user is responsible to verify the limitations of the geospatial data and to use the data accordingly.&lt;/span&gt;&lt;/p&gt;&lt;/div&gt;&lt;/div&gt;&lt;/div&gt;</useLimit>
</Consts>
</resConst>
<spatRpType>
<SpatRepTypCd value="002">
</SpatRepTypCd>
</spatRpType>
<envirDesc>Esri ArcGIS 13.5.5.57366</envirDesc>
<dataExt>
<geoEle>
<GeoBndBox>
<exTypeCode>true</exTypeCode>
<westBL>-118.212238</westBL>
<eastBL>-96.542129</eastBL>
<northBL>50.842395</northBL>
<southBL>43.497258</southBL>
</GeoBndBox>
</geoEle>
</dataExt>
<dataLang>
<languageCode Sync="TRUE" value="eng">
</languageCode>
<countryCode Sync="TRUE" value="USA">
</countryCode>
</dataLang>
<dataExt>
<geoEle>
<GeoBndBox esriExtentType="search">
<exTypeCode Sync="TRUE">1</exTypeCode>
<westBL Sync="TRUE">-118.212238</westBL>
<eastBL Sync="TRUE">-96.542179</eastBL>
<northBL Sync="TRUE">50.842395</northBL>
<southBL Sync="TRUE">43.497284</southBL>
</GeoBndBox>
</geoEle>
</dataExt>
<idCredit>USDA; US Forest Service; Interdepartmental Imagery Publication Platform; IIPP;</idCredit>
<tpCat>
<TopicCatCd value="007">
</TopicCatCd>
</tpCat>
<tpCat>
<TopicCatCd value="008">
</TopicCatCd>
</tpCat>
<tpCat>
<TopicCatCd value="016">
</TopicCatCd>
</tpCat>
<tpCat>
<TopicCatCd value="017">
</TopicCatCd>
</tpCat>
</dataIdInfo>
<spatRepInfo>
<Georect>
<numDims>2</numDims>
<axisDimension type="001">
<dimSize>21212</dimSize>
<dimResol>
<value Sync="TRUE" uom="m">30.000000</value>
</dimResol>
</axisDimension>
<axisDimension type="002">
<dimSize>52854</dimSize>
<dimResol>
<value Sync="TRUE" uom="m">30.000000</value>
</dimResol>
</axisDimension>
<cellGeo>
<CellGeoCd Sync="TRUE" value="002">
</CellGeoCd>
</cellGeo>
<tranParaAv Sync="TRUE">1</tranParaAv>
<chkPtAv Sync="TRUE">0</chkPtAv>
<cornerPts>
<pos Sync="TRUE">-13159326.189336 5387972.484006</pos>
</cornerPts>
<cornerPts>
<pos Sync="TRUE">-13159326.189336 6593462.484006</pos>
</cornerPts>
<cornerPts>
<pos Sync="TRUE">-10747026.189336 6593462.484006</pos>
</cornerPts>
<cornerPts>
<pos Sync="TRUE">-10747026.189336 5387972.484006</pos>
</cornerPts>
<centerPt>
<pos Sync="TRUE">-11953176.189336 5990717.484006</pos>
</centerPt>
<ptInPixel>
<PixOrientCd Sync="TRUE" value="001">
</PixOrientCd>
</ptInPixel>
</Georect>
</spatRepInfo>
<mdLang>
<languageCode Sync="TRUE" value="eng">
</languageCode>
<countryCode Sync="TRUE" value="USA">
</countryCode>
</mdLang>
<refSysInfo>
<RefSystem>
<refSysID>
<identCode Sync="TRUE" code="3857">
</identCode>
<idCodeSpace Sync="TRUE">EPSG</idCodeSpace>
<idVersion Sync="TRUE">6.18.3(9.3.1.2)</idVersion>
</refSysID>
</RefSystem>
</refSysInfo>
<contInfo>
<ImgDesc>
<contentTyp>
<ContentTypCd Sync="TRUE" value="001">
</ContentTypCd>
</contentTyp>
<covDim>
<Band>
<dimDescrp Sync="TRUE">Band_1</dimDescrp>
<maxVal Sync="TRUE">5.000000</maxVal>
<minVal Sync="TRUE">1.000000</minVal>
<bitsPerVal Sync="TRUE">8</bitsPerVal>
<valUnit>
<UOM type="length">
</UOM>
</valUnit>
</Band>
</covDim>
</ImgDesc>
</contInfo>
</metadata>
