<?xml version="1.0" encoding="UTF-8" standalone="no"?>
<metadata xml:lang="en">
<Esri>
<CreaDate>20260430</CreaDate>
<CreaTime>14174000</CreaTime>
<ArcGISFormat>1.0</ArcGISFormat>
<SyncOnce>FALSE</SyncOnce>
<DataProperties>
<itemProps>
<itemName Sync="FALSE">USFS_R6_QWRA_BurnProbability_30m</itemName>
<nativeExtBox>
<westBL Sync="TRUE">-13942942.726300</westBL>
<eastBL Sync="TRUE">-12939412.726300</eastBL>
<southBL Sync="TRUE">5144960.155000</southBL>
<northBL Sync="TRUE">6282920.155000</northBL>
<exTypeCode Sync="TRUE">1</exTypeCode>
</nativeExtBox>
</itemProps>
<coordRef>
<type Sync="TRUE">Projected</type>
<geogcsn Sync="TRUE">GCS_WGS_1984</geogcsn>
<csUnits Sync="TRUE">Linear Unit: Meter (1.000000)</csUnits>
<projcsn Sync="TRUE">WGS_1984_Web_Mercator_Auxiliary_Sphere</projcsn>
<peXml Sync="TRUE">&lt;ProjectedCoordinateSystem xsi:type='typens:ProjectedCoordinateSystem' xmlns:xsi='http://www.w3.org/2001/XMLSchema-instance' xmlns:xs='http://www.w3.org/2001/XMLSchema' xmlns:typens='http://www.esri.com/schemas/ArcGIS/3.6.0'&gt;&lt;WKT&gt;PROJCS[&amp;quot;WGS_1984_Web_Mercator_Auxiliary_Sphere&amp;quot;,GEOGCS[&amp;quot;GCS_WGS_1984&amp;quot;,DATUM[&amp;quot;D_WGS_1984&amp;quot;,SPHEROID[&amp;quot;WGS_1984&amp;quot;,6378137.0,298.257223563]],PRIMEM[&amp;quot;Greenwich&amp;quot;,0.0],UNIT[&amp;quot;Degree&amp;quot;,0.0174532925199433]],PROJECTION[&amp;quot;Mercator_Auxiliary_Sphere&amp;quot;],PARAMETER[&amp;quot;False_Easting&amp;quot;,0.0],PARAMETER[&amp;quot;False_Northing&amp;quot;,0.0],PARAMETER[&amp;quot;Central_Meridian&amp;quot;,0.0],PARAMETER[&amp;quot;Standard_Parallel_1&amp;quot;,0.0],PARAMETER[&amp;quot;Auxiliary_Sphere_Type&amp;quot;,0.0],UNIT[&amp;quot;Meter&amp;quot;,1.0],AUTHORITY[&amp;quot;EPSG&amp;quot;,3857]]&lt;/WKT&gt;&lt;XOrigin&gt;-20037700&lt;/XOrigin&gt;&lt;YOrigin&gt;-30241100&lt;/YOrigin&gt;&lt;XYScale&gt;148923141.92838538&lt;/XYScale&gt;&lt;ZOrigin&gt;-100000&lt;/ZOrigin&gt;&lt;ZScale&gt;10000&lt;/ZScale&gt;&lt;MOrigin&gt;-100000&lt;/MOrigin&gt;&lt;MScale&gt;10000&lt;/MScale&gt;&lt;XYTolerance&gt;0.001&lt;/XYTolerance&gt;&lt;ZTolerance&gt;0.001&lt;/ZTolerance&gt;&lt;MTolerance&gt;0.001&lt;/MTolerance&gt;&lt;HighPrecision&gt;true&lt;/HighPrecision&gt;&lt;WKID&gt;102100&lt;/WKID&gt;&lt;LatestWKID&gt;3857&lt;/LatestWKID&gt;&lt;/ProjectedCoordinateSystem&gt;</peXml>
</coordRef>
<RasterProperties>
<General>
<PixelDepth Sync="TRUE">8</PixelDepth>
<HasColormap Sync="TRUE">FALSE</HasColormap>
<CompressionType Sync="TRUE">None</CompressionType>
<NumBands Sync="TRUE">1</NumBands>
<Format Sync="TRUE">AMD</Format>
<HasPyramids Sync="TRUE">TRUE</HasPyramids>
<SourceType Sync="TRUE">continuous</SourceType>
<PixelType Sync="TRUE">unsigned integer</PixelType>
<NoDataValue Sync="TRUE">
</NoDataValue>
</General>
<Properties>
<MaxImageHeight Sync="TRUE">100000</MaxImageHeight>
<MaxImageWidth Sync="TRUE">100000</MaxImageWidth>
<MaxRecordCount Sync="TRUE">1000</MaxRecordCount>
<MaxDownloadImageCount Sync="TRUE">20</MaxDownloadImageCount>
<MaxDownloadSizeLimit Sync="TRUE">2048</MaxDownloadSizeLimit>
<MaxMosaicImageCount Sync="TRUE">20</MaxMosaicImageCount>
<DefaultCompressionQuality Sync="TRUE">75</DefaultCompressionQuality>
<DefaultCompressionTolerance Sync="TRUE">0.01</DefaultCompressionTolerance>
<BlendWidth Sync="TRUE">10</BlendWidth>
<ViewpointSpacingX Sync="TRUE">600</ViewpointSpacingX>
<ViewpointSpacingY Sync="TRUE">300</ViewpointSpacingY>
<AllowedItemMetadata Sync="TRUE">Basic</AllowedItemMetadata>
<DefaultResamplingMethod Sync="TRUE">1</DefaultResamplingMethod>
<AllowedMosaicMethods Sync="TRUE">NorthWest,Center,LockRaster,ByAttribute,Nadir,Viewpoint,Seamline,None</AllowedMosaicMethods>
<AllowedCompressions Sync="TRUE">None,JPEG,LZ77,LERC</AllowedCompressions>
<AllowedMensurationCapabilities Sync="TRUE">Basic</AllowedMensurationCapabilities>
<AvailableMensurationCapabilities Sync="TRUE">None,Basic,Base-Top Height,Top-Top Shadow Height,Base-Top Shadow Height,3D</AvailableMensurationCapabilities>
<ClipToBoundary Sync="TRUE">-1</ClipToBoundary>
<FootprintMayContainNoData Sync="TRUE">-1</FootprintMayContainNoData>
<CellSizeTolerance Sync="TRUE">0.8</CellSizeTolerance>
<MinimumPixelContribution Sync="TRUE">1</MinimumPixelContribution>
<AvailableMosaicMethods Sync="TRUE">NorthWest,Center,LockRaster,ByAttribute,Nadir,Viewpoint,Seamline,None</AvailableMosaicMethods>
<AvailableCompressionMethods Sync="TRUE">None,JPEG,LZ77,LERC</AvailableCompressionMethods>
<AvailableItemMetadataLevels Sync="TRUE">None,Basic,Full</AvailableItemMetadataLevels>
<BandDefinitionKeyword Sync="TRUE">NONE</BandDefinitionKeyword>
<_docversion_ Sync="TRUE">10</_docversion_>
<AllowedFields Sync="TRUE">name,minps,maxps,lowps,highps,productname,metadata</AllowedFields>
<MaxCellSize Sync="TRUE">307200</MaxCellSize>
<LowCellSize Sync="TRUE">30</LowCellSize>
<HighCellSize Sync="TRUE">30720</HighCellSize>
<ClipToFootprint Sync="TRUE">0</ClipToFootprint>
<ApplyColorCorrection Sync="TRUE">0</ApplyColorCorrection>
<SortAscending Sync="TRUE">-1</SortAscending>
<MosaicOperator Sync="TRUE">1</MosaicOperator>
<UseTime Sync="TRUE">0</UseTime>
<DataType Sync="TRUE">Generic</DataType>
<AvailableFields Sync="TRUE">name,minps,maxps,lowps,highps,tag,groupname,productname,centerx,centery,zorder,metadata,st_area(shape),st_perimeter(shape)</AvailableFields>
<SortableFields Sync="TRUE">minps,maxps,lowps,highps,centerx,centery,zorder,st_area(shape),st_perimeter(shape)</SortableFields>
<BlendWidthUnits Sync="TRUE">1</BlendWidthUnits>
<ClipOverviewsToFootprint Sync="TRUE">0</ClipOverviewsToFootprint>
<HasDodgingTable Sync="TRUE">0</HasDodgingTable>
<StartTimeFieldName Sync="TRUE">
</StartTimeFieldName>
<EndTimeFieldName Sync="TRUE">
</EndTimeFieldName>
<TimeValueFormat Sync="TRUE">
</TimeValueFormat>
<UseRange Sync="TRUE">0</UseRange>
<TimeInterval Sync="TRUE">
</TimeInterval>
<TimeIntervalUnits Sync="TRUE">
</TimeIntervalUnits>
<RasterStatics.Count Sync="TRUE">248622193</RasterStatics.Count>
</Properties>
<Functions Sync="TRUE">
<Function Description="Performs on-the-fly mosaic on a raster catalog." Name="Mosaic Function">
</Function>
</Functions>
</RasterProperties>
</DataProperties>
<SyncDate>20260430</SyncDate>
<SyncTime>14453700</SyncTime>
<ModDate>20260501</ModDate>
<ModTime>11032600</ModTime>
<scaleRange>
<minScale>150000000</minScale>
<maxScale>5000</maxScale>
</scaleRange>
<ArcGISProfile>FGDC</ArcGISProfile>
</Esri>
<dataIdInfo>
<idCitation>
<resTitle>USFS_NWCC_PNW_30m_2025_BurnProbability</resTitle>
<presForm>
<PresFormCd Sync="TRUE" value="005">
</PresFormCd>
</presForm>
</idCitation>
<searchKeys>
<keyword>Image Service</keyword>
<keyword>Region 6</keyword>
<keyword>R6</keyword>
<keyword>United States Wildland Fire Service</keyword>
<keyword>USWFS</keyword>
<keyword>U.S. Forest Service</keyword>
<keyword>USFS</keyword>
<keyword>Bureau of Land Management</keyword>
<keyword>BLM</keyword>
<keyword>Bureau of Indian Affairs</keyword>
<keyword>BIA</keyword>
<keyword>Tribal</keyword>
<keyword>Tribes</keyword>
<keyword>US Fish and Wildlife Service</keyword>
<keyword>USFWS</keyword>
<keyword>Washington Department of Natural Resources</keyword>
<keyword>WADNR</keyword>
<keyword>Oregon Department of Forestry</keyword>
<keyword>ODF</keyword>
<keyword>Oregon State Fire Marshall</keyword>
<keyword>OSFM</keyword>
<keyword>private</keyword>
<keyword>Oregon</keyword>
<keyword>OR</keyword>
<keyword>National Interagency Fire Center</keyword>
<keyword>NIFC</keyword>
<keyword>Washington</keyword>
<keyword>WA</keyword>
<keyword>wildfire risk</keyword>
<keyword>quantitative wildfire risk assessment</keyword>
<keyword>QWRA</keyword>
<keyword>highly valued resources and assets</keyword>
<keyword>HVRA</keyword>
<keyword>Pacific Northwest</keyword>
<keyword>PNW</keyword>
</searchKeys>
<idPurp>Corporate data contained within this raster is intended for spatial display and analysis purposes. The purpose of the Pacific Northwest's (PNW) Quantitative Wildfire Risk Assessment (QWRA) is to provide foundational information about wildfire hazard across the Pacific Northwest region (which encompasses the states of Oregon and Washington). Such information supports both wildfire and vegetation management planning and provides a defensible, robust suite of analytics that are used by numerous partners across Oregon and Washington. The modeling provides spatially resolved information about wildfire likelihood and intensity across the region. The fire hazard data used captures disturbance, fuel treatments, and fire history through calendar year 2024. HVRAs, relative importance, and response function are unchanged from the 2023 QWRA. Data finalized and released 10/31/2025.</idPurp>
<idAbs>&lt;div style='text-align:Left;'&gt;&lt;div&gt;&lt;div&gt;&lt;div style='font-size:12pt'&gt;&lt;p&gt;&lt;span&gt;A QWRA considers several different components, each resolved spatially across the region, including:&lt;/span&gt;&lt;/p&gt;&lt;ul&gt;&lt;li&gt;&lt;p&gt;&lt;span&gt;likelihood of a fire burning, &lt;/span&gt;&lt;/p&gt;&lt;/li&gt;&lt;li&gt;&lt;p&gt;&lt;span&gt;the intensity of a fire if one should occur,&lt;/span&gt;&lt;/p&gt;&lt;/li&gt;&lt;li&gt;&lt;p&gt;&lt;span&gt;the exposure of assets and resources based on their locations, and &lt;/span&gt;&lt;/p&gt;&lt;/li&gt;&lt;li&gt;&lt;p&gt;&lt;span&gt;the susceptibility of those assets and resources&lt;/span&gt;&lt;/p&gt;&lt;/li&gt;&lt;/ul&gt;&lt;p&gt;&lt;span /&gt;&lt;/p&gt;&lt;p&gt;&lt;span&gt;Data users are encouraged to refer to the PNW QWRA 2023 Methods Report for full details: &lt;/span&gt;&lt;a href='https://oe.oregonexplorer.info/externalcontent/wildfire/PNW_QWRA_2023Methods.pdf' style='text-decoration:underline;'&gt;&lt;span style='text-decoration:underline;'&gt;&lt;span&gt;https://oe.oregonexplorer.info/externalcontent/wildfire/PNW_QWRA_2023Methods.pdf&lt;/span&gt;&lt;/span&gt;&lt;/a&gt;&lt;/p&gt;&lt;p&gt;&lt;span /&gt;&lt;/p&gt;&lt;p&gt;&lt;span&gt;FSim is a comprehensive fire occurrence, growth, behavior, and suppression simulation system that uses locally relevant fuel, weather, topography, and historical fire occurrence information to generate spatially resolved estimates of the contemporary likelihood and intensity of wildfire events (Finney et al., 2011). FSim generates stochastic simulation data based on many thousands of iterations, then integrates those iterations into a probabilistic result. An FSim iteration spans one entire year.&lt;/span&gt;&lt;/p&gt;&lt;p&gt;&lt;span&gt;These FSim model results were completed on the 2024 current-condition fuelscape (derived from LANDFIRE). which reflects fuelscape conditions for the year 2024 and includes all historical fuel disturbances through 2024. This simulation is calibrated to the 2024 trend in wildfire occurrence.&lt;/span&gt;&lt;/p&gt;&lt;p&gt;&lt;span&gt;This dataset is a 30-m cell size raster representing annual burn probability (BP) across the analysis area. BP is the probability that a specific geographic location (30-m pixel) will experience a wildland fire during a specified time period (1 year). Estimates of BP were generated with the large-wildfire simulation system, FSim. FSim’s stochastic simulation approach can be computationally intensive and therefore, time constraining on large landscapes. Simulations were modeled at 120-m resolution and upsampled to 30m using iterative spatial smoothing. Please reference the PNW QWRA 2023 report (linked above) for more detailed information regarding the smoothing methodology.&lt;/span&gt;&lt;/p&gt;&lt;p&gt;&lt;span&gt;BP could be used in a wide range of planning applications where understanding the likelihood of wildfire occurrence is important. For example, the BP raster could be used to prioritize fuel treatments in areas where they would most likely be impacted by wildfire or in allocating protection resources to fire districts most likely to have large fire occurrence.&lt;/span&gt;&lt;/p&gt;&lt;p&gt;&lt;span /&gt;&lt;/p&gt;&lt;p&gt;&lt;span style='font-weight:bold;'&gt;Primary Data Contact:&lt;/span&gt;&lt;span&gt; Ian Rickert, Regional Fire Planner, Forest Service R6/R10, &lt;/span&gt;&lt;a href='mailto:ian.rickert@usda.gov' style='text-decoration:underline;'&gt;&lt;span&gt;ian.rickert@usda.gov&lt;/span&gt;&lt;/a&gt;&lt;/p&gt;&lt;p&gt;&lt;span /&gt;&lt;/p&gt;&lt;p&gt;&lt;span&gt;Additional information on FSim can be found in the following references:&lt;/span&gt;&lt;/p&gt;&lt;p&gt;&lt;span&gt;Finney, Mark A.; McHugh, Charles W.; Grenfell, Isaac C.; Riley, Karin L.; Short, Karen C. 2011. A simulation of probabilistic wildfire risk components for the continental United States. Stochastic Environmental Research and Risk Assessment. 25: 973-1000.&lt;/span&gt;&lt;/p&gt;&lt;p&gt;&lt;span&gt;Short, Karen C.; Finney, Mark A.; Vogler, Kevin C.; Scott, Joe H.; Gilbertson-Day, Julie W.; Grenfell, Isaac C. 2020. Spatial datasets of probabilistic wildfire risk components for the United States (270m). 2nd Edition. Fort Collins, CO: Forest Service Research Data Archive. &lt;/span&gt;&lt;a href='https://doi.org/10.2737/RDS-2016-0034-2' style='text-decoration:underline;'&gt;&lt;span&gt;https://doi.org/10.2737/RDS-2016-0034-2&lt;/span&gt;&lt;/a&gt;&lt;span&gt; Please reference the PNW QWRA report (linked above) for more detailed information. Raster resolution is 30m. Data finalized 11/17/2022.&lt;/span&gt;&lt;/p&gt;&lt;p&gt;&lt;span&gt;Ketchum, D., Jencso, K., Maneta, M.P., Melton, F., Jones, M.O., Huntington, J., 2020. IrrMapper: A Machine Learning Approach for High Resolution Mapping of Irrigated Agriculture Across the Western U.S. Remote Sensing 12, 2328. &lt;/span&gt;&lt;a href='https://doi.org/10.3390/rs12142328' style='text-decoration:underline;'&gt;&lt;span&gt;https://doi.org/10.3390/rs12142328&lt;/span&gt;&lt;/a&gt;&lt;/p&gt;&lt;/div&gt;&lt;/div&gt;&lt;/div&gt;&lt;/div&gt;</idAbs>
<idCredit>This assessment was completed by Oregon State University in collaboration with the Oregon Department of Forestry, Washington State Department of Natural Resources, the U.S. Bureau of Land Management and the U.S. Forest Service.</idCredit>
<resConst>
<Consts>
<useLimit>&lt;div style='text-align:Left;'&gt;&lt;div&gt;&lt;div&gt;&lt;p style='margin:0 0 14 0;'&gt;&lt;span&gt;&lt;span&gt;The USDA Forest Service makes no warranty, expressed or implied, including the warranties of merchantability and fitness for a particular purpose, nor assumes any legal liability or responsibility for the accuracy, reliability, completeness or utility of these geospatial data, or for the improper or incorrect use of these geospatial data. These geospatial data and related maps or graphics are not legal documents and are not intended to be used as such. The data and maps may not be used to determine title, ownership, legal descriptions or boundaries, legal jurisdiction, or restrictions that may be in place on either public or private land. Natural hazards may or may not be depicted on the data and maps, and land users should exercise due caution. The user is responsible to verify the limitations of the geospatial data and to use the data accordingly. As a work of the United States Government, these data are within the public domain of the United States.&lt;/span&gt;&lt;/span&gt;&lt;/p&gt;&lt;p style='margin:0 0 14 0;'&gt;&lt;span&gt;&lt;span&gt;Additionally, the U.S. Forest Service waives copyright and related rights in the work worldwide through the CC0 (which can be found at &lt;/span&gt;&lt;/span&gt;&lt;a href='https://creativecommons.org/public-domain/cc0/' style='text-decoration:underline;'&gt;&lt;span style='text-decoration:underline;'&gt;&lt;span&gt;https://creativecommons.org/public-domain/cc0/&lt;/span&gt;&lt;/span&gt;&lt;/a&gt;&lt;span&gt;&lt;span&gt;).&lt;/span&gt;&lt;/span&gt;&lt;/p&gt;&lt;p style='font-weight:bold;margin:0 0 14 0;'&gt;&lt;span&gt;&lt;span&gt;Non-Discrimination Statement&lt;/span&gt;&lt;/span&gt;&lt;/p&gt;&lt;p style='margin:0 0 14 0;'&gt;&lt;span&gt;&lt;span&gt;In accordance with Federal civil rights law and U.S. Department of Agriculture (USDA) civil rights regulations and policies, the USDA, its Agencies, offices, and employees, and institutions participating in or administering USDA programs are prohibited from discriminating based on race, color, national origin, religion, sex, disability, age, marital status, family/parental status, income derived from a public assistance program, political beliefs, or reprisal or retaliation for prior civil rights activity, in any program or activity conducted or funded by USDA (not all bases apply to all programs). Remedies and complaint filing deadlines vary by program or incident.&lt;/span&gt;&lt;/span&gt;&lt;/p&gt;&lt;p style='margin:0 0 14 0;'&gt;&lt;span&gt;&lt;span&gt;Persons with disabilities who require alternative means of communication for program information (e.g., Braille, large print, audiotape, American Sign Language, etc.) should contact the State or local Agency that administers the program or contact USDA through the Telecommunications Relay Service at 711 (voice and TTY). Additionally, program information may be made available in languages other than English.&lt;/span&gt;&lt;/span&gt;&lt;/p&gt;&lt;p style='margin:0 0 14 0;'&gt;&lt;span&gt;&lt;span&gt;To file a program discrimination complaint, complete the USDA Program Discrimination Complaint Form, AD-3027, found online at &lt;/span&gt;&lt;/span&gt;&lt;a href='https://www.usda.gov/oascr/how-to-file-a-program-discrimination-complaint' style='text-decoration:underline;'&gt;&lt;span style='text-decoration:underline;'&gt;&lt;span&gt;How to File a Program Discrimination Complaint&lt;/span&gt;&lt;/span&gt;&lt;/a&gt;&lt;span&gt;&lt;span&gt; and at any USDA office or write a letter addressed to USDA and provide in the letter all of the information requested in the form. To request a copy of the complaint form, call (866) 632-9992. Submit your completed form or letter to USDA by: (1) mail: U.S. Department of Agriculture, Office of the Assistant Secretary for Civil Rights, 1400 Independence Avenue, SW, Mail Stop 9410, Washington, D.C. 20250-9410; (2) fax: (202) 690-7442; or (3) email: &lt;/span&gt;&lt;/span&gt;&lt;a href='mailto:program.intake@usda.gov' style='text-decoration:underline;'&gt;&lt;span style='text-decoration:underline;'&gt;&lt;span&gt;program.intake@usda.gov&lt;/span&gt;&lt;/span&gt;&lt;/a&gt;&lt;span&gt;&lt;span&gt;.&lt;/span&gt;&lt;/span&gt;&lt;/p&gt;&lt;p style='margin:0 0 14 0;'&gt;&lt;span&gt;&lt;span&gt;USDA is an equal opportunity provider, employer, and lender.&lt;/span&gt;&lt;/span&gt;&lt;/p&gt;&lt;div style='font-size:12pt'&gt;&lt;p&gt;&lt;span&gt;Oregon State University makes no warranty, expressed or implied, including the warranties of merchantability and fitness for a particular purpose, nor assumes any legal liability or responsibility for the accuracy, reliability, completeness or utility of these geospatial data, or for the improper or incorrect use of these geospatial data. These geospatial data and related maps or graphics are not legal documents and are not intended to be used as such. The data and maps may not be used to determine title, ownership, legal descriptions or boundaries, legal jurisdiction, or restrictions that may be in place on either public or private land. Natural hazards may or may not be depicted on the data and maps, and land users should exercise due caution. The data are dynamic and may change over time. The user is responsible to verify the limitations of the geospatial data and to use the data accordingly.&lt;/span&gt;&lt;/p&gt;&lt;/div&gt;&lt;/div&gt;&lt;/div&gt;&lt;/div&gt;</useLimit>
</Consts>
</resConst>
<envirDesc Sync="FALSE">Esri ArcGIS 13.6.3.59530</envirDesc>
<dataLang>
<languageCode Sync="TRUE" value="eng">
</languageCode>
<countryCode Sync="TRUE" value="USA">
</countryCode>
</dataLang>
<spatRpType>
<SpatRepTypCd Sync="TRUE" value="002">
</SpatRepTypCd>
</spatRpType>
<dataExt>
<geoEle>
<GeoBndBox esriExtentType="search">
<exTypeCode Sync="TRUE">1</exTypeCode>
<westBL Sync="TRUE">-125.251586</westBL>
<eastBL Sync="TRUE">-116.236722</eastBL>
<northBL Sync="TRUE">49.047471</northBL>
<southBL Sync="TRUE">41.892969</southBL>
</GeoBndBox>
</geoEle>
</dataExt>
</dataIdInfo>
<mdLang>
<languageCode Sync="TRUE" value="eng">
</languageCode>
<countryCode Sync="TRUE" value="USA">
</countryCode>
</mdLang>
<refSysInfo>
<RefSystem>
<refSysID>
<identCode Sync="TRUE" code="3857">
</identCode>
<idCodeSpace Sync="TRUE">EPSG</idCodeSpace>
<idVersion Sync="TRUE">6.18.3(9.3.1.2)</idVersion>
</refSysID>
</RefSystem>
</refSysInfo>
<spatRepInfo>
<Georect>
<cellGeo>
<CellGeoCd Sync="TRUE" value="002">
</CellGeoCd>
</cellGeo>
<numDims Sync="TRUE">2</numDims>
<tranParaAv Sync="TRUE">1</tranParaAv>
<chkPtAv Sync="TRUE">0</chkPtAv>
<cornerPts>
<pos Sync="TRUE">-13942942.726300 5144960.155000</pos>
</cornerPts>
<cornerPts>
<pos Sync="TRUE">-13942942.726300 6282920.155000</pos>
</cornerPts>
<cornerPts>
<pos Sync="TRUE">-12939412.726300 6282920.155000</pos>
</cornerPts>
<cornerPts>
<pos Sync="TRUE">-12939412.726300 5144960.155000</pos>
</cornerPts>
<centerPt>
<pos Sync="TRUE">-13441177.726300 5713940.155000</pos>
</centerPt>
<axisDimension type="002">
<dimSize Sync="TRUE">33451</dimSize>
<dimResol>
<value Sync="TRUE" uom="m">30.000000</value>
</dimResol>
</axisDimension>
<axisDimension type="001">
<dimSize Sync="TRUE">37932</dimSize>
<dimResol>
<value Sync="TRUE" uom="m">30.000000</value>
</dimResol>
</axisDimension>
<ptInPixel>
<PixOrientCd Sync="TRUE" value="001">
</PixOrientCd>
</ptInPixel>
</Georect>
</spatRepInfo>
<contInfo>
<ImgDesc>
<contentTyp>
<ContentTypCd Sync="TRUE" value="001">
</ContentTypCd>
</contentTyp>
<covDim>
<Band>
<dimDescrp Sync="TRUE">Band_1</dimDescrp>
<maxVal Sync="TRUE">11.000000</maxVal>
<minVal Sync="TRUE">1.000000</minVal>
<bitsPerVal Sync="TRUE">8</bitsPerVal>
<valUnit>
<UOM type="length">
</UOM>
</valUnit>
</Band>
</covDim>
</ImgDesc>
</contInfo>
<mdDateSt Sync="TRUE">20260501</mdDateSt>
<mdHrLv>
<ScopeCd value="005">
</ScopeCd>
</mdHrLv>
</metadata>
