{ "extent": { "ymin": 2618177.9734999985, "xmin": -14238148.788699999, "ymax": 6730397.9734999985, "xmax": -7272358.7886999995, "spatialReference": { "latestWkid": 3857, "wkid": 102100 } }, "blockWidth": 2048, "mosaicOperator": "First", "serviceSourceType": "esriImageServiceSourceTypeMosaicDataset", "hasMultidimensions": false, "maxImageWidth": 100000, "maxRecordCount": 1000, "meanValues": [16.102611802922624], "hasColormap": false, "compressionType": "None", "defaultCompressionQuality": 75, "maxValues": [255], "hasHistograms": true, "datasetFormat": "AMD", "maxImageHeight": 100000, "sortField": "", "bandNames": ["Band_1"], "spatialReference": { "latestWkid": 3857, "wkid": 102100 }, "fullExtent": { "ymin": 2618177.9734999985, "xmin": -14238148.788699999, "ymax": 6730397.9734999985, "xmax": -7272358.7886999995, "spatialReference": { "latestWkid": 3857, "wkid": 102100 } }, "bandCount": 1, "rasterFunctionInfos": [ { "help": "", "name": "SDI", "description": "SDI" }, { "help": "", "name": "None", "description": "Make a Raster or Raster Dataset into a Function Raster Dataset." } ], "supportsStatistics": true, "sortableFields": "minps,maxps,lowps,highps,centerx,centery,zorder,st_area(shape),st_perimeter(shape)", "minValues": [0], "allowRasterFunction": true, "allowComputeTiePoints": false, "serviceDataType": "esriImageServiceDataTypeGeneric", "supportsAdvancedQueries": true, "maxDownloadSizeLimit": 2048, "currentVersion": 12, "sortValue": null, "objectIdField": "objectid", "blockHeight": 256, "initialExtent": { "ymin": 2618177.9734999985, "xmin": -14238148.788699999, "ymax": 6730397.9734999985, "xmax": -7272358.7886999995, "spatialReference": { "latestWkid": 3857, "wkid": 102100 } }, "pixelSizeX": 30, "pixelSizeY": 30, "defaultMosaicMethod": "Northwest", "name": "Fire_Aviation/USFS_EDW_SAB_WildfireSuppressionDifficultyIndex80thPerc", "allowedMosaicMethods": "NorthWest,Center,LockRaster,ByAttribute,Nadir,Viewpoint,Seamline,None", "maxDownloadImageCount": 20, "fields": [ { "domain": null, "name": "objectid", "alias": "objectid", "type": "esriFieldTypeOID" }, { "domain": null, "name": "name", "length": 200, "alias": "name", "type": "esriFieldTypeString" }, { "domain": null, "name": "minps", "alias": "minps", "type": "esriFieldTypeDouble" }, { "domain": null, "name": "maxps", "alias": "maxps", "type": "esriFieldTypeDouble" }, { "domain": null, "name": "lowps", "alias": "lowps", "type": "esriFieldTypeDouble" }, { "domain": null, "name": "highps", "alias": "highps", "type": "esriFieldTypeDouble" }, { "domain": { "splitPolicy": "esriSPTDefaultValue", "name": "MosaicCatalogItemCategoryDomain", "description": "Catalog item categories.", "type": "codedValue", "codedValues": [ { "code": 0, "name": "Unknown" }, { "code": 1, "name": "Primary" }, { "code": 2, "name": "Overview" }, { "code": 3, "name": "Unprocessed Overview" }, { "code": 4, "name": "Partial Overview" }, { "code": 5, "name": "Inactive" }, { "code": 253, "name": "Uploaded" }, { "code": 254, "name": "Incomplete" }, { "code": 255, "name": "Custom" } ], "mergePolicy": "esriMPTDefaultValue" }, "name": "category", "alias": "category", "type": "esriFieldTypeInteger" }, { "domain": null, "name": "tag", "length": 100, "alias": "tag", "type": "esriFieldTypeString" }, { "domain": null, "name": "groupname", "length": 100, "alias": "groupname", "type": "esriFieldTypeString" }, { "domain": null, "name": "productname", "length": 100, "alias": "productname", "type": "esriFieldTypeString" }, { "domain": null, "name": "centerx", "alias": "centerx", "type": "esriFieldTypeDouble" }, { "domain": null, "name": "centery", "alias": "centery", "type": "esriFieldTypeDouble" }, { "domain": null, "name": "zorder", "alias": "zorder", "type": "esriFieldTypeInteger" }, { "domain": null, "name": "shape", "alias": "shape", "type": "esriFieldTypeGeometry" } ], "allowAnalysis": true, "hasRasterAttributeTable": false, "useStandardizedQueries": true, "description": "
Wildfire Suppression Difficulty Index (SDI) 97th Percentile is a rating of relative difficulty in performing fire control work under regionally appropriate fuel moisture and 20 mph uphill winds (@ 20 ft); Wildfire Suppression Difficulty Index (SDI) 90th Percentile is a rating of relative difficulty in performing fire control work under regionally appropriate fuel moisture and 15 mph uphill winds (@ 20 ft). Wildfire Suppression Difficulty Index (SDI) 80th Percentile is a rating of relative difficulty in performing fire control work under regionally appropriate fuel moisture and 10 mph uphill winds (@ 20 ft). SDI factors in topography, fuels, expected fire behavior under prevailing conditions, fireline production rates in various fuel types with and without heavy equipment, and access via roads, trails, or cross-country travel. SDI does not account for standing snags or other overhead hazards to firefighters, so it is not a firefighter hazard map. It is only showing in relative terms where it is harder or easier to perform suppression work. SDI was modeled using 2026 capable fuels data. ",
"pixelType": "U16",
"meanPixelSize": 30,
"exportTilesAllowed": false,
"editFieldsInfo": null,
"rasterTypeInfos": [{
"help": "",
"name": "Raster Dataset",
"description": "Supports all ArcGIS Raster Datasets"
}],
"defaultResamplingMethod": "Nearest",
"itemAccess": false,
"minScale": 0,
"serviceProperties": " Wildfire Suppression Difficulty Index (terrestrial) (SDIt) is a quantitative rating of relative difficulty in performing fire control work. In its original formulation for use in Spain, SDI included aerial resource use, however for development and application in the United States we removed the aerial resource component due to a lack of consistent data. We note this distinction of \u201cterrestrial only\u201d calculations with the inclusion of \u201ct\u201d in the acronym. SDIt factors in topography, fuels, expected fire behavior under severe fire weather conditions, firefighter line production rates in various fuel types, and accessibility (distance from roads/trails) to assess relative suppression effort. For this dataset severe fire behavior is modeled with 15 mph up-slope winds and fully cured fuels. SDI has a continuous value distribution from 1-10. Here it is binned to six classes from lowest to highest difficulty.",
"allowCopy": true,
"copyrightText": "US Forest Service, National Office, Fire and Aviation Management, Strategic Analytics Branch, Risk Management Assistance, US Forest Service, Rocky Mountain Research Station",
"mensurationCapabilities": "Basic",
"ownershipBasedAccessControlForRasters": null
}