{ "extent": { "ymin": 2661440.9818999991, "xmin": -14233116.241700001, "ymax": 6717860.9818999991, "xmax": -7277346.2417000011, "spatialReference": { "latestWkid": 3857, "wkid": 102100 } }, "blockWidth": 2048, "mosaicOperator": "First", "serviceSourceType": "esriImageServiceSourceTypeMosaicDataset", "hasMultidimensions": false, "maxImageWidth": 100000, "maxRecordCount": 1000, "meanValues": [], "hasColormap": false, "compressionType": "None", "defaultCompressionQuality": 75, "maxValues": [], "hasHistograms": false, "datasetFormat": "AMD", "maxImageHeight": 100000, "sortField": "", "bandNames": ["Band_1"], "spatialReference": { "latestWkid": 3857, "wkid": 102100 }, "fullExtent": { "ymin": 2661440.9818999991, "xmin": -14233116.241700001, "ymax": 6717860.9818999991, "xmax": -7277346.2417000011, "spatialReference": { "latestWkid": 3857, "wkid": 102100 } }, "bandCount": 1, "rasterFunctionInfos": [ { "help": "", "name": "SnagHaz", "description": "SnagHaz" }, { "help": "", "name": "None", "description": "Make a Raster or Raster Dataset into a Function Raster Dataset." } ], "supportsStatistics": true, "sortableFields": "minps,maxps,lowps,highps,centerx,centery,zorder", "minValues": [], "allowRasterFunction": true, "allowComputeTiePoints": false, "serviceDataType": "esriImageServiceDataTypeGeneric", "supportsAdvancedQueries": true, "maxDownloadSizeLimit": 2048, "currentVersion": 12, "sortValue": null, "objectIdField": "objectid", "blockHeight": 256, "initialExtent": { "ymin": 2661440.9818999991, "xmin": -14233116.241700001, "ymax": 6717860.9818999991, "xmax": -7277346.2417000011, "spatialReference": { "latestWkid": 3857, "wkid": 102100 } }, "pixelSizeX": 30, "pixelSizeY": 30, "defaultMosaicMethod": "Northwest", "name": "Fire_Aviation/USFS_EDW_SAB_NationalSnagHazard", "allowedMosaicMethods": "NorthWest,Center,LockRaster,ByAttribute,Nadir,Viewpoint,Seamline,None", "maxDownloadImageCount": 20, "fields": [ { "domain": null, "name": "objectid", "alias": "objectid", "type": "esriFieldTypeOID" }, { "domain": null, "name": "name", "length": 200, "alias": "name", "type": "esriFieldTypeString" }, { "domain": null, "name": "minps", "alias": "minps", "type": "esriFieldTypeDouble" }, { "domain": null, "name": "maxps", "alias": "maxps", "type": "esriFieldTypeDouble" }, { "domain": null, "name": "lowps", "alias": "lowps", "type": "esriFieldTypeDouble" }, { "domain": null, "name": "highps", "alias": "highps", "type": "esriFieldTypeDouble" }, { "domain": { "splitPolicy": "esriSPTDefaultValue", "name": "MosaicCatalogItemCategoryDomain", "description": "Catalog item categories.", "type": "codedValue", "codedValues": [ { "code": 0, "name": "Unknown" }, { "code": 1, "name": "Primary" }, { "code": 2, "name": "Overview" }, { "code": 3, "name": "Unprocessed Overview" }, { "code": 4, "name": "Partial Overview" }, { "code": 5, "name": "Inactive" }, { "code": 253, "name": "Uploaded" }, { "code": 254, "name": "Incomplete" }, { "code": 255, "name": "Custom" } ], "mergePolicy": "esriMPTDefaultValue" }, "name": "category", "alias": "category", "type": "esriFieldTypeInteger" }, { "domain": null, "name": "tag", "length": 100, "alias": "tag", "type": "esriFieldTypeString" }, { "domain": null, "name": "groupname", "length": 100, "alias": "groupname", "type": "esriFieldTypeString" }, { "domain": null, "name": "productname", "length": 100, "alias": "productname", "type": "esriFieldTypeString" }, { "domain": null, "name": "centerx", "alias": "centerx", "type": "esriFieldTypeDouble" }, { "domain": null, "name": "centery", "alias": "centery", "type": "esriFieldTypeDouble" }, { "domain": null, "name": "zorder", "alias": "zorder", "type": "esriFieldTypeInteger" }, { "domain": null, "name": "shape", "alias": "shape", "type": "esriFieldTypeGeometry" } ], "allowAnalysis": true, "hasRasterAttributeTable": false, "useStandardizedQueries": true, "description": "
Snags are a hazard to firefighters that has traditionally been managed at the field level through scouting, rapid assessment, and mitigation by avoidance or by elimination though felling. Widespread wildfires and insect/disease disturbances have resulted in an accumulation of snags across many forested landscapes, raising the risk of injury or death for firefighters and other forest workers. The National Snag Hazard Map (Riley et al. 2022) is intended to provide a landscape level view of current snag hazard to encourage awareness, assessment, and planning to mitigate snag-related risks. The National Snag Hazard Map is based on the estimated density and median height of snags greater than or equal to 7.9-in diameter at breast height and at least 10-ft tall. Snag density and median snag height are classified into hazard levels based on the logic that hazard increases with snag density and height (Dunn et al. 2019).<\/SPAN><\/P> Snag hazard is a landscape level decision support tool intended to help firefighters consider the magnitude and spatial distribution of snag hazard in their incident response strategy planning. Valid uses include identifying areas of higher snag hazard on the landscape that may require extra mitigation for safe operation, or that could be avoided to reduce risk to firefighters. The snag hazard map is not meant for tactical planning. A rating of low snag hazard does not mean that no overhead hazards are present and should not be interpreted as judgement that an area is safe to occupy. Conditions should always be verified in the field. Maintaining high situational awareness for overhead hazards is recommended regardless of the snag hazard rating.<\/SPAN><\/P> Dunn CJ, O\u2019Connor CD, Reilly MJ, Calkin DE, Thompson MP (2019) Spatial and temporal assessment of responder exposure to snag hazards in post-fire environments. Forest Ecology and Management 441, 202-2014. DOI:10.1016/j.foreco.2019.03.035Riley KL, O\u2019Connor CD, Dunn CJ, Haas JR, Stratton RD, Gannon B (2022) A national map of snag hazard to reduce risk to wildland fire responders. Forests 13, 1160. DOI:10.3390/f13081160<\/SPAN><\/P><\/DIV><\/DIV><\/DIV>",
"pixelType": "U8",
"meanPixelSize": 30,
"exportTilesAllowed": false,
"editFieldsInfo": null,
"rasterTypeInfos": [{
"help": "",
"name": "Raster Dataset",
"description": "Supports all ArcGIS Raster Datasets"
}],
"defaultResamplingMethod": "Nearest",
"itemAccess": false,
"minScale": 0,
"serviceProperties": " Snags are a hazard to firefighters that has traditionally been managed at the field level through scouting, rapid assessment, and mitigation by avoidance or by elimination though felling. Widespread wildfires and insect/disease disturbances have resulted in an accumulation of snags across many forested landscapes, raising the risk of injury or death for firefighters and other forest workers. The National Snag Hazard Map (Riley et al. 2022) is intended to provide a landscape level view of current snag hazard to encourage awareness, assessment, and planning to mitigate snag-related risks. The National Snag Hazard Map is based on the estimated density and median height of snags greater than or equal to 7.9-in diameter at breast height and at least 10-ft tall. Snag density and median snag height are classified into hazard levels based on the logic that hazard increases with snag density and height (Dunn et al. 2019).<\/SPAN><\/P> Snag hazard is a landscape level decision support tool intended to help firefighters consider the magnitude and spatial distribution of snag hazard in their incident response strategy planning. Valid uses include identifying areas of higher snag hazard on the landscape that may require extra mitigation for safe operation, or that could be avoided to reduce risk to firefighters. The snag hazard map is not meant for tactical planning. A rating of low snag hazard does not mean that no overhead hazards are present and should not be interpreted as judgement that an area is safe to occupy. Conditions should always be verified in the field. Maintaining high situational awareness for overhead hazards is recommended regardless of the snag hazard rating.<\/SPAN><\/P> Dunn CJ, O\u2019Connor CD, Reilly MJ, Calkin DE, Thompson MP (2019) Spatial and temporal assessment of responder exposure to snag hazards in post-fire environments. Forest Ecology and Management 441, 202-2014. DOI:10.1016/j.foreco.2019.03.035Riley KL, O\u2019Connor CD, Dunn CJ, Haas JR, Stratton RD, Gannon B (2022) A national map of snag hazard to reduce risk to wildland fire responders. Forests 13, 1160. DOI:10.3390/f13081160<\/SPAN><\/P><\/DIV><\/DIV><\/DIV>",
"allowCopy": true,
"copyrightText": "USDA Forest Service, Fire and Aviation Management, Strategic Analytics Branch\nUSDA Forest Service, Rocky Mountain Research Station",
"mensurationCapabilities": "Basic",
"ownershipBasedAccessControlForRasters": null
}