<?xml version="1.0" encoding="UTF-8" standalone="no"?>
<metadata xml:lang="en">
<Esri>
<CreaDate>20250718</CreaDate>
<CreaTime>20442100</CreaTime>
<ArcGISFormat>1.0</ArcGISFormat>
<SyncOnce>FALSE</SyncOnce>
<DataProperties>
<itemProps>
<imsContentType Sync="TRUE" export="False">002</imsContentType>
<itemName Sync="FALSE">USFS_EDW_SAB_FirefighterEstimatedGroundEvacuation</itemName>
<nativeExtBox>
<westBL Sync="TRUE">-14246360.529564</westBL>
<eastBL Sync="TRUE">-7264130.529564</eastBL>
<southBL Sync="TRUE">2596581.013854</southBL>
<northBL Sync="TRUE">6737031.013854</northBL>
<exTypeCode Sync="TRUE">1</exTypeCode>
</nativeExtBox>
</itemProps>
<coordRef>
<type Sync="TRUE">Projected</type>
<geogcsn Sync="TRUE">GCS_WGS_1984</geogcsn>
<csUnits Sync="TRUE">Linear Unit: Meter (1.000000)</csUnits>
<projcsn Sync="TRUE">WGS_1984_Web_Mercator_Auxiliary_Sphere</projcsn>
<peXml Sync="TRUE">&lt;ProjectedCoordinateSystem xsi:type='typens:ProjectedCoordinateSystem' xmlns:xsi='http://www.w3.org/2001/XMLSchema-instance' xmlns:xs='http://www.w3.org/2001/XMLSchema' xmlns:typens='http://www.esri.com/schemas/ArcGIS/3.5.0'&gt;&lt;WKT&gt;PROJCS[&amp;quot;WGS_1984_Web_Mercator_Auxiliary_Sphere&amp;quot;,GEOGCS[&amp;quot;GCS_WGS_1984&amp;quot;,DATUM[&amp;quot;D_WGS_1984&amp;quot;,SPHEROID[&amp;quot;WGS_1984&amp;quot;,6378137.0,298.257223563]],PRIMEM[&amp;quot;Greenwich&amp;quot;,0.0],UNIT[&amp;quot;Degree&amp;quot;,0.0174532925199433]],PROJECTION[&amp;quot;Mercator_Auxiliary_Sphere&amp;quot;],PARAMETER[&amp;quot;False_Easting&amp;quot;,0.0],PARAMETER[&amp;quot;False_Northing&amp;quot;,0.0],PARAMETER[&amp;quot;Central_Meridian&amp;quot;,0.0],PARAMETER[&amp;quot;Standard_Parallel_1&amp;quot;,0.0],PARAMETER[&amp;quot;Auxiliary_Sphere_Type&amp;quot;,0.0],UNIT[&amp;quot;Meter&amp;quot;,1.0],AUTHORITY[&amp;quot;EPSG&amp;quot;,3857]]&lt;/WKT&gt;&lt;XOrigin&gt;-20037700&lt;/XOrigin&gt;&lt;YOrigin&gt;-30241100&lt;/YOrigin&gt;&lt;XYScale&gt;148923141.92838538&lt;/XYScale&gt;&lt;ZOrigin&gt;-100000&lt;/ZOrigin&gt;&lt;ZScale&gt;10000&lt;/ZScale&gt;&lt;MOrigin&gt;-100000&lt;/MOrigin&gt;&lt;MScale&gt;10000&lt;/MScale&gt;&lt;XYTolerance&gt;0.001&lt;/XYTolerance&gt;&lt;ZTolerance&gt;0.001&lt;/ZTolerance&gt;&lt;MTolerance&gt;0.001&lt;/MTolerance&gt;&lt;HighPrecision&gt;true&lt;/HighPrecision&gt;&lt;WKID&gt;102100&lt;/WKID&gt;&lt;LatestWKID&gt;3857&lt;/LatestWKID&gt;&lt;/ProjectedCoordinateSystem&gt;</peXml>
</coordRef>
<RasterProperties>
<General>
<PixelDepth Sync="TRUE">16</PixelDepth>
<HasColormap Sync="TRUE">FALSE</HasColormap>
<CompressionType Sync="TRUE">None</CompressionType>
<NumBands Sync="TRUE">1</NumBands>
<Format Sync="TRUE">AMD</Format>
<HasPyramids Sync="TRUE">TRUE</HasPyramids>
<SourceType Sync="TRUE">continuous</SourceType>
<PixelType Sync="TRUE">unsigned integer</PixelType>
<NoDataValue Sync="TRUE">
</NoDataValue>
</General>
<Properties>
<MaxImageHeight Sync="TRUE">4100</MaxImageHeight>
<MaxImageWidth Sync="TRUE">15000</MaxImageWidth>
<MaxRecordCount Sync="TRUE">1000</MaxRecordCount>
<MaxDownloadImageCount Sync="TRUE">20</MaxDownloadImageCount>
<MaxDownloadSizeLimit Sync="TRUE">2048</MaxDownloadSizeLimit>
<MaxMosaicImageCount Sync="TRUE">20</MaxMosaicImageCount>
<DefaultCompressionQuality Sync="TRUE">75</DefaultCompressionQuality>
<DefaultCompressionTolerance Sync="TRUE">0.01</DefaultCompressionTolerance>
<BlendWidth Sync="TRUE">10</BlendWidth>
<ViewpointSpacingX Sync="TRUE">600</ViewpointSpacingX>
<ViewpointSpacingY Sync="TRUE">300</ViewpointSpacingY>
<AllowedItemMetadata Sync="TRUE">Basic</AllowedItemMetadata>
<DefaultResamplingMethod Sync="TRUE">1</DefaultResamplingMethod>
<AllowedMosaicMethods Sync="TRUE">NorthWest,Center,LockRaster,ByAttribute,Nadir,Viewpoint,Seamline,None</AllowedMosaicMethods>
<AllowedCompressions Sync="TRUE">None,JPEG,LZ77,LERC</AllowedCompressions>
<AllowedMensurationCapabilities Sync="TRUE">Basic</AllowedMensurationCapabilities>
<AvailableMensurationCapabilities Sync="TRUE">None,Basic,Base-Top Height,Top-Top Shadow Height,Base-Top Shadow Height,3D</AvailableMensurationCapabilities>
<ClipToBoundary Sync="TRUE">-1</ClipToBoundary>
<FootprintMayContainNoData Sync="TRUE">-1</FootprintMayContainNoData>
<CellSizeTolerance Sync="TRUE">0.8</CellSizeTolerance>
<MinimumPixelContribution Sync="TRUE">1</MinimumPixelContribution>
<AvailableMosaicMethods Sync="TRUE">NorthWest,Center,LockRaster,ByAttribute,Nadir,Viewpoint,Seamline,None</AvailableMosaicMethods>
<AvailableCompressionMethods Sync="TRUE">None,JPEG,LZ77,LERC</AvailableCompressionMethods>
<AvailableItemMetadataLevels Sync="TRUE">None,Basic,Full</AvailableItemMetadataLevels>
<BandDefinitionKeyword Sync="TRUE">NONE</BandDefinitionKeyword>
<_docversion_ Sync="TRUE">10</_docversion_>
<AllowedFields Sync="TRUE">name,minps,maxps,lowps,highps,tag,groupname,productname,centerx,centery,zorder,st_area(shape),st_perimeter(shape)</AllowedFields>
<MaxCellSize Sync="TRUE">1228800</MaxCellSize>
<LowCellSize Sync="TRUE">30</LowCellSize>
<HighCellSize Sync="TRUE">122880</HighCellSize>
</Properties>
<Functions Sync="TRUE">
<Function Description="Performs on-the-fly mosaic on a raster catalog." Name="Mosaic Function">
</Function>
</Functions>
</RasterProperties>
</DataProperties>
<SyncDate>20250722</SyncDate>
<SyncTime>15545400</SyncTime>
<ModDate>20250902</ModDate>
<ModTime>14145400</ModTime>
<scaleRange>
<minScale>150000000</minScale>
<maxScale>5000</maxScale>
</scaleRange>
<ArcGISProfile>ISO19139</ArcGISProfile>
</Esri>
<mdLang>
<languageCode Sync="TRUE" value="eng">
</languageCode>
<countryCode Sync="TRUE" value="USA">
</countryCode>
</mdLang>
<mdChar>
<CharSetCd value="004">
</CharSetCd>
</mdChar>
<mdHrLv>
<ScopeCd value="005">
</ScopeCd>
</mdHrLv>
<mdHrLvName Sync="TRUE">dataset</mdHrLvName>
<mdContact>
<rpOrgName>USFS Chief Information Office, Enterprise Data Warehouse</rpOrgName>
<rpCntInfo>
<cntPhone>
<voiceNum>Please send an e-mail to the address below.</voiceNum>
</cntPhone>
<cntAddress addressType="physical">
<city>Washington</city>
<adminArea>DC</adminArea>
<postCode>20250</postCode>
<country>US</country>
<eMailAdd>SM.FS.data@usda.gov</eMailAdd>
</cntAddress>
</rpCntInfo>
<role>
<RoleCd value="007">
</RoleCd>
</role>
</mdContact>
<mdDateSt Sync="TRUE">20250902</mdDateSt>
<mdStanName>ArcGIS Metadata</mdStanName>
<mdStanVer>1.0</mdStanVer>
<distInfo>
<distFormat>
<formatName Sync="TRUE">Raster Dataset</formatName>
</distFormat>
</distInfo>
<dataIdInfo>
<idCitation>
<resTitle>USFS_EDW_SAB_FirefighterEstimatedGroundEvacuation</resTitle>
<date>
<pubDate>2024-05-31</pubDate>
</date>
<citRespParty>
<rpOrgName>USDA Forest Service</rpOrgName>
<role>
<RoleCd value="006">
</RoleCd>
</role>
</citRespParty>
<presForm>
<PresFormCd value="raster">
</PresFormCd>
</presForm>
<presForm>
<fgdcGeoform>raster</fgdcGeoform>
</presForm>
</idCitation>
<idAbs>&lt;div style='text-align:Left;'&gt;&lt;div&gt;&lt;div&gt;&lt;p&gt;&lt;span&gt;The estimated ground evacuation time layer is intended to provide a broad view of medical care accessibility to inform incident- and regional-level strategic risk assessment and mitigation planning. The estimated ground evacuation times account for hospital locations, driving speeds on the current road network, and off-road walking speeds influenced by topography, vegetation, slash/blowdown, and waterbodies. Evacuation times are binned into broad classes (0-1 hours, 1-2 hours, 2-4 hours, 4-6 hours, and &amp;amp; &amp;gt;6 hours) commensurate with the precision of the analysis. There are several limitations of this estimated ground evacuation time dataset that users should understand. The analysis assumes that the closest general acute care or critical access hospital will be the first stop to stabilize the patient. Incident level safety and medical planning may identify different preferred medical facilities based on their actual travel times and/or capabilities. These estimated evacuation times only account for the travel portion of an evacuation and should therefore be viewed as best-case estimates. Complicated injuries may require additional time for patient evaluation, care, packaging for transport, and/or transfer to a vehicle. Travel times are calculated under the assumptions that the litter crew can travel at the median pedestrian rate (influenced by landscape factors) and that the ambulance or other transport vehicle can travel at the designated road speed limits. Users of this dataset should be thoughtful of factors not accounted for in this analysis that could slow evacuations such as additional landscape characteristics, crew condition, or dynamic factors like weather, traffic, or road closures.&lt;/span&gt;&lt;/p&gt;&lt;/div&gt;&lt;/div&gt;&lt;/div&gt;</idAbs>
<idPurp>This raster dataset depicts the estimated time to evacuate an injured firefighter and deliver them to the nearest hospital for stabilizing medical care using ground transportation only. Wildland firefighters often work in remote settings with multiple hazards that can cause life-threatening injuries. Prompt access to medical care can save lives and reduce the consequences of injuries. This layer of estimated ground evacuation time is intended to provide a broad view of medical care accessibility to inform wildfire response strategies through a risk assessment process. Specifically, the estimated ground evacuation time layer can build awareness about evacuation challenges and encourage thoughtful discussion of firefighter safety and appropriate mitigations. This layer is meant to complement but not replace incident level safety and medical planning.</idPurp>
<idStatus>
<ProgCd value="001">
</ProgCd>
</idStatus>
<idPoC>
<rpOrgName>USFS Chief Information Office, Enterprise Data Warehouse</rpOrgName>
<rpCntInfo>
<cntPhone>
<voiceNum>Please send an e-mail to the address below.</voiceNum>
</cntPhone>
<cntAddress addressType="physical">
<city>Washington</city>
<adminArea>DC</adminArea>
<postCode>20250</postCode>
<country>US</country>
<eMailAdd>SM.FS.data@usda.gov</eMailAdd>
</cntAddress>
</rpCntInfo>
<role>
<RoleCd value="007">
</RoleCd>
</role>
</idPoC>
<resMaint>
<maintFreq>
<MaintFreqCd value="009">
</MaintFreqCd>
</maintFreq>
</resMaint>
<themeKeys>
<thesaName>
<resTitle>ISO 19115 Topic Categories#</resTitle>
</thesaName>
<keyword>environment; health; transportation</keyword>
</themeKeys>
<searchKeys>
<keyword>USFS</keyword>
<keyword>Firefighter</keyword>
<keyword>Estimated</keyword>
<keyword>Ground</keyword>
<keyword>Evacuation</keyword>
<keyword>Time</keyword>
<keyword>Environment</keyword>
<keyword>Health</keyword>
<keyword>Transportation</keyword>
<keyword>Safety</keyword>
<keyword>Planning</keyword>
<keyword>CONUS</keyword>
</searchKeys>
<resConst>
<Consts>
<useLimit>&lt;div style='text-align:Left;'&gt;&lt;div&gt;&lt;div&gt;&lt;p&gt;&lt;span&gt;The USDA Forest Service makes no warranty, expressed or implied, including the warranties of merchantability and fitness for a particular purpose, nor assumes any legal liability or responsibility for the accuracy, reliability, completeness or utility of these geospatial data, or for the improper or incorrect use of these geospatial data. These geospatial data and related maps or graphics are not legal documents and are not intended to be used as such. The data and maps may not be used to determine title, ownership, legal descriptions or boundaries, legal jurisdiction, or restrictions that may be in place on either public or private land. Natural hazards may or may not be depicted on the data and maps, and land users should exercise due caution. The data are dynamic and may change over time. The user is responsible to verify the limitations of the geospatial data and to use the data accordingly. &lt;/span&gt;&lt;/p&gt;&lt;p&gt;&lt;span /&gt;&lt;/p&gt;&lt;p&gt;&lt;span&gt;Additionally, the U.S. Forest Service waives copyright and related rights in the work worldwide through the CC0 (which can be found at https://creativecommons.org/public-domain/cc0/). &lt;/span&gt;&lt;/p&gt;&lt;p&gt;&lt;span /&gt;&lt;/p&gt;&lt;p&gt;&lt;span&gt;In accordance with Federal civil rights law and U.S. Department of Agriculture (USDA) civil rights regulations and policies, the USDA, its Agencies, offices, and employees, and institutions participating in or administering USDA programs are prohibited from discriminating based on race, color, national origin, religion, sex, disability, age, marital status, family/parental status, income derived from a public assistance program, political beliefs, or reprisal or retaliation for prior civil rights activity, in any program or activity conducted or funded by USDA (not all bases apply to all programs). Remedies and complaint filing deadlines vary by program or incident. &lt;/span&gt;&lt;/p&gt;&lt;p&gt;&lt;span /&gt;&lt;/p&gt;&lt;p&gt;&lt;span&gt;Persons with disabilities who require alternative means of communication for program information (e.g., Braille, large print, audiotape, American Sign Language, etc.) should contact the State or local Agency that administers the program or contact USDA through the Telecommunications Relay Service at 711 (voice and TTY). Additionally, program information may be made available in languages other than English. &lt;/span&gt;&lt;/p&gt;&lt;p&gt;&lt;span /&gt;&lt;/p&gt;&lt;p&gt;&lt;span&gt;To file a program discrimination complaint, complete the USDA Program Discrimination Complaint Form, AD-3027, found online at How to File a Program Discrimination Complaint and at any USDA office or write a letter addressed to USDA and provide in the letter all of the information requested in the form. To request a copy of the complaint form, call (866) 632-9992. Submit your completed form or letter to USDA by: (1) mail: U.S. Department of Agriculture, Office of the Assistant Secretary for Civil Rights, 1400 Independence Avenue, SW, Mail Stop 9410, Washington, D.C. 20250-9410; (2) fax: (202) 690-7442; or (3) email: program.intake@usda.gov. &lt;/span&gt;&lt;/p&gt;&lt;p&gt;&lt;span /&gt;&lt;/p&gt;&lt;p&gt;&lt;span&gt;USDA is an equal opportunity provider, employer, and lender. &lt;/span&gt;&lt;/p&gt;&lt;/div&gt;&lt;/div&gt;&lt;/div&gt;</useLimit>
</Consts>
</resConst>
<resConst>
<LegConsts>
<useLimit>The U.S. Forest Service makes no warranty, express or implied, nor assumes any liability or responsibility for the accuracy, reliability, completeness, or utility of these geospatial data or for the improper or incorrect use of those data. The data are dynamic and may change over time. The user is responsible for verifying the limitations of the geospatial data and for using the data accordingly.</useLimit>
</LegConsts>
</resConst>
<envirDesc>Version 6.2 (Build 9200) ; Esri ArcGIS 10.5.1.7333</envirDesc>
<dataExt>
<exDesc>CONUS</exDesc>
<tempEle>
<TempExtent>
<exTemp>
<TM_Instant>
<tmPosition>2024</tmPosition>
</TM_Instant>
</exTemp>
</TempExtent>
</tempEle>
</dataExt>
<suppInfo>For more information, see the full report: Campbell MJ, Dennison PE, Rahman O, Gannon B, Stratton RD. 2024. Updating and Improving the Firefighter Estimated Ground Evacuation Time (GET) Layer. Final report by the University of Utah Remote Sensing Applications Laboratory to the USDA Forest Service, National Office, Fire and Aviation Management. 24 p.
</suppInfo>
<dataLang>
<languageCode Sync="TRUE" value="eng">
</languageCode>
<countryCode Sync="TRUE" value="USA">
</countryCode>
</dataLang>
<spatRpType>
<SpatRepTypCd Sync="TRUE" value="002">
</SpatRepTypCd>
</spatRpType>
<dataExt>
<geoEle>
<GeoBndBox esriExtentType="search">
<exTypeCode Sync="TRUE">1</exTypeCode>
<westBL Sync="TRUE">-127.977234</westBL>
<eastBL Sync="TRUE">-65.254795</eastBL>
<northBL Sync="TRUE">51.649690</northBL>
<southBL Sync="TRUE">22.706648</southBL>
</GeoBndBox>
</geoEle>
</dataExt>
<idCredit>USFS Geospatial Office (GO), EDW</idCredit>
<tpCat>
<TopicCatCd value="007">
</TopicCatCd>
</tpCat>
<tpCat>
<TopicCatCd value="009">
</TopicCatCd>
</tpCat>
<tpCat>
<TopicCatCd value="018">
</TopicCatCd>
</tpCat>
</dataIdInfo>
<dqInfo>
<dqScope>
<scpLvl>
<ScopeCd value="005">
</ScopeCd>
</scpLvl>
</dqScope>
<report type="DQConcConsis">
<measDesc>Firefighter estimated ground evacuation time is a modeled, not measured product. Therefore, its accuracy depends on the accuracy of source datasets (hospitals, roads, topography, vegetation, slash/blowdown, and waterbodies) and the accuracy of the travel time estimation models. The source dataset selection and travel time estimation modeling methods were guided by a group of risk and safety subject matter experts who reviewed the results and affirmed that they are suitable for the intended uses. The influence of slope on travel time is adapted from a peer reviewed empirical study (Campbell et al. 2022). Additional travel time impedence factors were informed by expert opinion.</measDesc>
</report>
<report type="DQCompOm">
<measDesc>The raster contains firefighter estimated ground evacuation times for all of CONUS. Potential omissions of hospitals or roads from the source datasets would result in longer firefighter estimated ground evacuation times, which encourages more conservative (safer) decision making.</measDesc>
</report>
<report dimension="horizontal" type="DQAbsExtPosAcc">
<measDesc>Horizontal accuracy is dependent on the source datasets, which are either 30-m resolution rasters or high resolution polylines.</measDesc>
</report>
<dataLineage>
<prcStep>
<stepDesc>Firefighter estimated Ground Evacuation Time (GET) was modeled using an outward looking analysis from each hospital using least cost path analysis. The final GET map was produced by calculating the minimum travel time for each pixel to a qualifying hospital. The hospital source data (2023) came from the Homeland Infrastructure Foundation-Level Data (HIFLD) Program. Only open facilities attributed as general acute care or critical access hospitals were included in the analysis (n = 5,136 hospitals). Roads were represented by the HERE (2020) roads layer from the Homeland Infrastructure Foundation-Level Data (HIFLD) Program. Travel times on roads were estimated with the speed category variable.
Off road travel times accounted for slope (LANDFIRE, 2020), trails and minor roads (USGS National Transportation Dataset, 2023), existing vegetation type and cover (LANDFIRE, 2020), Scott and Burgan fire behavior fuel model (LANDFIRE, 2020), and perennial streams (National Hydrography Dataset High Resolution Plus, 2022). The baseline off-road travel cost (or impedance) was set to the inverse of the median slope-based travel rate in seconds per meter. Areas with slopes greater than 45 degrees or mapped as water in the LANDFIRE vegetation type layer were considered barriers and assigned an extremely high travel cost value. Pixels intersecting trails and minor roads from USGS that were not already present in HERE were considered the best case for pedestrian travel and were therefore assigned no further cost adjustments. For the remaining pixels, costs were adjusted with a multiplication factor based on LANDFIRE existing vegetation type and LANDFIRE existing vegetation cover (1x for grass/other, 1-4x for shrub based on percent cover, and 4x for forest). Costs were further increased by 5x for pixels intersecting perennial streams from the National Hydrography Dataset High Resolution Plus. Costs were further increased 2x for timber litter models with significant dead and down fuel loads (TL4, TL5, and TL7) and 5x for slash blowdown models (SB1, SB2, SB3, and SB4) from the LANDFIRE Scott and Burgan 40 fire behavior fuel models.
Estimated ground evacuation times were calculated in seconds from the combined travel cost raster by hospital using the Distance Accumulation tool from ArcGIS. The travel time rasters for each hospital were combined to generate a per-pixel minimum estimated ground evacuation time using the Cell Statistics tool in ArcGIS. Evacuation times were binned into broad classes (0-1 hours, 1-2 hours, 2-4 hours, 4-6 hours, and &gt; 6 hours) commensurate with the precision of the analysis.</stepDesc>
<stepDateTm>2024-02-27</stepDateTm>
</prcStep>
</dataLineage>
</dqInfo>
<spatRepInfo>
<Georect>
<cellGeo>
<CellGeoCd Sync="TRUE" value="002">
</CellGeoCd>
</cellGeo>
<numDims Sync="TRUE">2</numDims>
<tranParaAv Sync="TRUE">1</tranParaAv>
<chkPtAv Sync="TRUE">0</chkPtAv>
<cornerPts>
<pos Sync="TRUE">-14246360.529564 2596581.013854</pos>
</cornerPts>
<cornerPts>
<pos Sync="TRUE">-14246360.529564 6737031.013854</pos>
</cornerPts>
<cornerPts>
<pos Sync="TRUE">-7264130.529564 6737031.013854</pos>
</cornerPts>
<cornerPts>
<pos Sync="TRUE">-7264130.529564 2596581.013854</pos>
</cornerPts>
<centerPt>
<pos Sync="TRUE">-10755245.529564 4666806.013854</pos>
</centerPt>
<axisDimension type="002">
<dimSize Sync="TRUE">232741</dimSize>
<dimResol>
<value Sync="TRUE" uom="m">30.000000</value>
</dimResol>
</axisDimension>
<axisDimension type="001">
<dimSize Sync="TRUE">138015</dimSize>
<dimResol>
<value Sync="TRUE" uom="m">30.000000</value>
</dimResol>
</axisDimension>
<ptInPixel>
<PixOrientCd Sync="TRUE" value="001">
</PixOrientCd>
</ptInPixel>
</Georect>
</spatRepInfo>
<refSysInfo>
<RefSystem>
<refSysID>
<identCode Sync="TRUE" code="3857">
</identCode>
<idCodeSpace Sync="TRUE">EPSG</idCodeSpace>
<idVersion Sync="TRUE">6.18.3(9.3.1.2)</idVersion>
</refSysID>
</RefSystem>
</refSysInfo>
<contInfo>
<ImgDesc>
<contentTyp>
<ContentTypCd Sync="TRUE" value="001">
</ContentTypCd>
</contentTyp>
<covDim>
<Band>
<dimDescrp Sync="TRUE">Band_1</dimDescrp>
<maxVal Sync="TRUE">5.000000</maxVal>
<minVal Sync="TRUE">1.000000</minVal>
<bitsPerVal Sync="TRUE">16</bitsPerVal>
<valUnit>
<UOM type="length">
</UOM>
</valUnit>
</Band>
</covDim>
</ImgDesc>
</contInfo>
<eainfo>
<detailed Name="vat">
<enttyp>
<enttypd>Feature class: A collection of geographic features with the same geometry type (such as point, line, or polygon), the same attributes, and the same spatial reference.</enttypd>
<enttypds>ESRI GIS Dictionary</enttypds>
<enttypl Sync="FALSE">vat</enttypl>
<enttypt Sync="TRUE">Table</enttypt>
<enttypc Sync="TRUE">5</enttypc>
</enttyp>
<attr>
<attrlabl Sync="TRUE">OID</attrlabl>
<attalias Sync="TRUE">OID</attalias>
<attrtype Sync="TRUE">OID</attrtype>
<attwidth Sync="TRUE">4</attwidth>
<atprecis Sync="TRUE">0</atprecis>
<attscale Sync="TRUE">0</attscale>
<attrdef Sync="TRUE">Internal feature number.</attrdef>
<attrdefs Sync="TRUE">Esri</attrdefs>
<attrdomv>
<udom Sync="TRUE">Sequential unique whole numbers that are automatically generated.</udom>
</attrdomv>
</attr>
<attr>
<attrlabl Sync="TRUE">Value</attrlabl>
<attalias Sync="TRUE">Value</attalias>
<attrtype Sync="TRUE">Integer</attrtype>
<attwidth Sync="TRUE">10</attwidth>
<atprecis Sync="TRUE">10</atprecis>
<attscale Sync="TRUE">0</attscale>
</attr>
<attr>
<attrlabl Sync="TRUE">Count</attrlabl>
<attalias Sync="TRUE">Count</attalias>
<attrtype Sync="TRUE">Double</attrtype>
<attwidth Sync="TRUE">19</attwidth>
<atprecis Sync="TRUE">0</atprecis>
<attscale Sync="TRUE">0</attscale>
</attr>
<attr>
<attrlabl>CLASSNAME</attrlabl>
<attrdef>Firefighter estimated ground evacuation time to the nearest open general acute care or critical access hospital in classes of 0 to 1 hours, 1 to 2 hours, 2 to 4 hours, 4 to 6 hours, and More than 6 hours.</attrdef>
<attrdefs>US Forest Service</attrdefs>
<attrdomv>
<edom>
<edomv>Text</edomv>
<edomvd>0 to 1 hours, 1 to 2 hours, 2 to 4 hours, 4 to 6 hours, and More than 6 hours</edomvd>
<edomvds>US Forest Service</edomvds>
</edom>
</attrdomv>
<attalias Sync="TRUE">CLASSNAME</attalias>
<attrtype Sync="TRUE">String</attrtype>
<attwidth Sync="TRUE">30</attwidth>
<atprecis Sync="TRUE">0</atprecis>
<attscale Sync="TRUE">0</attscale>
</attr>
<attr>
<attrlabl>MID_MINS</attrlabl>
