{ "extent": { "ymin": 2136104.6613000035, "xmin": -20011168.1527, "ymax": 11596994.661300004, "xmax": -7130458.1526999995, "spatialReference": { "latestWkid": 3857, "wkid": 102100 } }, "blockWidth": 2048, "mosaicOperator": "First", "serviceSourceType": "esriImageServiceSourceTypeMosaicDataset", "hasMultidimensions": false, "maxImageWidth": 100000, "maxRecordCount": 1000, "meanValues": [3.4551887803057189], "hasColormap": false, "compressionType": "None", "defaultCompressionQuality": 75, "maxValues": [4], "hasHistograms": true, "datasetFormat": "AMD", "maxImageHeight": 100000, "sortField": "", "bandNames": ["Band_1"], "spatialReference": { "latestWkid": 3857, "wkid": 102100 }, "fullExtent": { "ymin": 2136104.6613000035, "xmin": -20011168.1527, "ymax": 11596994.661300004, "xmax": -7130458.1526999995, "spatialReference": { "latestWkid": 3857, "wkid": 102100 } }, "bandCount": 1, "rasterFunctionInfos": [ { "help": "", "name": "CWiRRZ4Value", "description": "An RFT for the 4 value symbology of the CWiRRZ" }, { "help": "", "name": "None", "description": "Make a Raster or Raster Dataset into a Function Raster Dataset." } ], "supportsStatistics": true, "sortableFields": "minps,maxps,lowps,highps,centerx,centery,zorder,st_area(shape),st_perimeter(shape)", "minValues": [0], "allowRasterFunction": true, "allowComputeTiePoints": false, "serviceDataType": "esriImageServiceDataTypeGeneric", "supportsAdvancedQueries": true, "maxDownloadSizeLimit": 2048, "currentVersion": 12, "sortValue": null, "objectIdField": "objectid", "blockHeight": 256, "initialExtent": { "ymin": 2136104.6613000035, "xmin": -20011168.1527, "ymax": 11596994.661300004, "xmax": -7130458.1526999995, "spatialReference": { "latestWkid": 3857, "wkid": 102100 } }, "pixelSizeX": 30, "pixelSizeY": 30, "defaultMosaicMethod": "Northwest", "name": "Fire_Aviation/USFS_EDW_RMRS_WRC_CommunityWildfireRiskReductionZones4", "allowedMosaicMethods": "NorthWest,Center,LockRaster,ByAttribute,Nadir,Viewpoint,Seamline,None", "maxDownloadImageCount": 20, "fields": [ { "domain": null, "name": "objectid", "alias": "objectid", "type": "esriFieldTypeOID" }, { "domain": null, "name": "name", "length": 200, "alias": "name", "type": "esriFieldTypeString" }, { "domain": null, "name": "minps", "alias": "minps", "type": "esriFieldTypeDouble" }, { "domain": null, "name": "maxps", "alias": "maxps", "type": "esriFieldTypeDouble" }, { "domain": null, "name": "lowps", "alias": "lowps", "type": "esriFieldTypeDouble" }, { "domain": null, "name": "highps", "alias": "highps", "type": "esriFieldTypeDouble" }, { "domain": { "splitPolicy": "esriSPTDefaultValue", "name": "MosaicCatalogItemCategoryDomain", "description": "Catalog item categories.", "type": "codedValue", "codedValues": [ { "code": 0, "name": "Unknown" }, { "code": 1, "name": "Primary" }, { "code": 2, "name": "Overview" }, { "code": 3, "name": "Unprocessed Overview" }, { "code": 4, "name": "Partial Overview" }, { "code": 5, "name": "Inactive" }, { "code": 253, "name": "Uploaded" }, { "code": 254, "name": "Incomplete" }, { "code": 255, "name": "Custom" } ], "mergePolicy": "esriMPTDefaultValue" }, "name": "category", "alias": "category", "type": "esriFieldTypeInteger" }, { "domain": null, "name": "tag", "length": 100, "alias": "tag", "type": "esriFieldTypeString" }, { "domain": null, "name": "groupname", "length": 100, "alias": "groupname", "type": "esriFieldTypeString" }, { "domain": null, "name": "productname", "length": 100, "alias": "productname", "type": "esriFieldTypeString" }, { "domain": null, "name": "centerx", "alias": "centerx", "type": "esriFieldTypeDouble" }, { "domain": null, "name": "centery", "alias": "centery", "type": "esriFieldTypeDouble" }, { "domain": null, "name": "zorder", "alias": "zorder", "type": "esriFieldTypeInteger" }, { "domain": null, "name": "shape", "alias": "shape", "type": "esriFieldTypeGeometry" } ], "allowAnalysis": true, "hasRasterAttributeTable": false, "useStandardizedQueries": true, "description": "
This data publication includes Community Wildfire Risk Reduction Zone rasters, products delivered as part of the Wildfire Risk to Communities project. There are two types of data included: 1) raster spatial data that delineate Community Wildfire Risk Reduction Zones for all populated areas in the continental United States (CONUS), Alaska, and Hawaii; and 2) tabular summaries by communities, counties, tribal areas, and states of wildfire hazard and risk produced as part of the Wildfire Risk to Communities (WRC) project. <\/span><\/p> The Community Wildfire Risk Reduction Zones (CWiRRZ) product is a 30-m raster delineating areas where mitigation activities will be most effective at protecting homes from most types of wildfire. The zones are determined by the spatial coincidence of wildfire likelihood (Burn Probability), and populated areas. There are four Risk Reduction Zones: Minimal Exposure Zone, Indirect Exposure Zone, Direct Exposure Zone, and Wildfire Transmission Zone. However, the CWiRRZ raster can be further deconstructed into ten zones, wherein the Wildfire Transmission Zone is separated into the following surface fuel types: Tree, Shrub, Grass, Agriculture, Non-Vegetated, Water, and Outlying Wildlands (area beyond 2400-m from buildings).<\/span><\/p> Additional methodology documentation is provided with the data publication download. (https://www.fs.usda.gov/rds/archive/Catalog/RDS-2024-0030)<\/span><\/p> Note: Pixel values in this image service have been altered from the original raster dataset due to data requirements in web services. The service is intended primarily for data visualization. Relative values and spatial patterns have been largely preserved in the service, but users are encouraged to download the source data for quantitative analysis.<\/span><\/p><\/div><\/div><\/div><\/div><\/div>",
"pixelType": "U16",
"meanPixelSize": 30,
"exportTilesAllowed": false,
"editFieldsInfo": null,
"rasterTypeInfos": [{
"help": "",
"name": "Raster Dataset",
"description": "Supports all ArcGIS Raster Datasets"
}],
"defaultResamplingMethod": "Nearest",
"itemAccess": false,
"minScale": 0,
"serviceProperties": " This data publication includes Community Wildfire Risk Reduction Zone rasters, products delivered as part of the Wildfire Risk to Communities project. There are two types of data included: 1) raster spatial data that delineate Community Wildfire Risk Reduction Zones for all populated areas in the continental United States (CONUS), Alaska, and Hawaii; and 2) tabular summaries by communities, counties, tribal areas, and states of wildfire hazard and risk produced as part of the Wildfire Risk to Communities (WRC) project. <\/SPAN><\/P> The Community Wildfire Risk Reduction Zones (CWiRRZ) product is a 30-m raster delineating areas where mitigation activities will be most effective at protecting homes from most types of wildfire. The zones are determined by the spatial coincidence of wildfire likelihood (Burn Probability), and populated areas. There are four Risk Reduction Zones: Minimal Exposure Zone, Indirect Exposure Zone, Direct Exposure Zone, and Wildfire Transmission Zone. However, the CWiRRZ raster can be further deconstructed into ten zones, wherein the Wildfire Transmission Zone is separated into the following surface fuel types: Tree, Shrub, Grass, Agriculture, Non-Vegetated, Water, and Outlying Wildlands (area beyond 2400-m from buildings).<\/SPAN><\/P> Additional methodology documentation is provided with the data publication download. (https://www.fs.usda.gov/rds/archive/Catalog/RDS-2024-0030)<\/SPAN><\/P> Note: Pixel values in this image service have been altered from the original raster dataset due to data requirements in web services. The service is intended primarily for data visualization. Relative values and spatial patterns have been largely preserved in the service, but users are encouraged to download the source data for quantitative analysis.<\/SPAN><\/P><\/DIV><\/DIV><\/DIV><\/DIV><\/DIV>",
"allowCopy": true,
"copyrightText": "Funding for this project provided by USDA Forest Service, Fire and Aviation Management. Funding also provided by USDA Forest Service, Fire Modeling Institute, which is part of the Rocky Mountain Research Station, Fire, Fuel and Smoke Science Program. Work on data development was primarily completed by the USDA Forest Service, Fire Modeling Institute (FMI). Some salary was provided by FMI through an ORISE agreement under the U.S. Department of Energy (DE-SC0014664).\n\nGregory K. Dillon\nUSDA Forest Service, Rocky Mountain Research Station\nhttps://orcid.org/0009-0006-6304-650X\n\nMitchell T. Lazarz\nUSDA Forest Service, Rocky Mountain Research Station\nhttps://orcid.org/0000-0002-4558-4949\n\nEva C. Karau\nUSDA Forest Service, Rocky Mountain Research Station\nhttps://orcid.org/0009-0009-6776-9387\n\nScott J. Story\nHeadwaters Economics\n\nKelly A. Pohl\nHeadwaters Economics\nhttps://orcid.org/0009-0003-3876-5121",
"mensurationCapabilities": "Basic",
"ownershipBasedAccessControlForRasters": null
}